{"text_format":"1","workbook":"xlsx","n_sheets":9,"sheets":["Lehrerdaten","Dienstplan","Stundenplan","Wochenübersicht Abwesend","Anwesenheitsliste","Stundenzaehler","Plan Aufsicht","Initialisierung","Revisions"],"not_rendered":{"charts":0,"images":3,"macros":1,"external_links":0,"defined_names":8,"comments":0,"pivot_tables":0},"unopened":[],"bounds":{"document_bytes":16777216,"sheet_cells":100000,"rows_first":2000,"rows_last":500,"rows_between":2000,"halvings":0,"cell_chars":16384,"cell_head_chars":4096},"cells_cut":0,"cells_raw":0,"read":"whole","date_system":"1900"}

{"sheet":"Lehrerdaten","index":0,"n_rows":40,"n_cols":17,"rows_kept":40,"cut":false,"hidden":false,"merged":[]}
["Lehrerdaten",null,null,null,null,null,null,null,null,null,null,null,1]
["Lehrername","Vorname","Kürzel","Klasse","Sollstunden","Iststunden","Stundendifferenz","Deputat","Ermäßigung","Grund","Anmerkung","Nr"]
["+",null,null,null,{"$f":"H3-I3","v":0},{"$f":"SUMIF(Stundenzaehler!A$3:AX$3,A3,Stundenzaehler!A$2)","v":0},{"$f":"E3-F3","v":0},0,0,null,null,34]
["+",null,null,null,0,{"$f":"SUMIF(Stundenzaehler!A$3:AX$3,A4,Stundenzaehler!A$2)","v":0},0,0,0,null,null,9]
["+",null,null,null,0,{"$f":"SUMIF(Stundenzaehler!A$3:AX$3,A5,Stundenzaehler!A$2)","v":0},0,0,0,null,null,35]
["+",null,null,null,0,{"$f":"SUMIF(Stundenzaehler!A$3:AX$3,A6,Stundenzaehler!A$2)","v":0},0,0,0,null,null,32]
["DuBois","Birgit","DB","VU",{"$f":"H7-I7","v":8},{"$f":"SUMIF(Stundenzaehler!A$3:AX$3,A7,Stundenzaehler!A$2)","v":8},{"$f":"E7-F7","v":0},8,0,null,null,1]
["Brass","Anne","BRA","RL",9,{"$f":"SUMIF(Stundenzaehler!A$3:AX$3,A8,Stundenzaehler!A$2)","v":9},0,9,0,null,null,2]
["Westerboer","Wolfgang","WES","1b",20,{"$f":"SUMIF(Stundenzaehler!A$3:AX$3,A9,Stundenzaehler!A$2)","v":20},0,19,-1,"Rel Brass",null,3,"Brass Rel"]
["van_Ooyen","Kira","VO","2a",28,{"$f":"SUMIF(Stundenzaehler!A$3:AX$3,A10,Stundenzaehler!A$2)","v":27},1,28,null,null,null,4]
["Haschemi","Shiva","HA","2b",28,{"$f":"SUMIF(Stundenzaehler!A$3:AX$3,A11,Stundenzaehler!A$2)","v":27},1,28,null,null,null,5]
["Yasar","Yeliz","YA","3a",18,{"$f":"SUMIF(Stundenzaehler!A$3:AX$3,A12,Stundenzaehler!A$2)","v":18},0,19,1,"Homepage",null,6]
["Strehlke","Sybille","STR","3b",22,{"$f":"SUMIF(Stundenzaehler!A$3:AX$3,A13,Stundenzaehler!A$2)","v":21},1,23,1,"StGr",null,7]
["Elit-Schulte","Britta","ES","4a",27,{"$f":"SUMIF(Stundenzaehler!A$3:AX$3,A14,Stundenzaehler!A$2)","v":27},0,28,1,"StGr",null,8]
["Schneider","Silke","SEI","4b",27,{"$f":"SUMIF(Stundenzaehler!A$3:AX$3,A15,Stundenzaehler!A$2)","v":27},0,28,1,"StGr",null,9]
["Krebs-Deilmann","Nadya","NKD","LS",9,{"$f":"SUMIF(Stundenzaehler!A$3:AX$3,A16,Stundenzaehler!A$2)","v":10},-1,9,null,"zu viel?",null,10]
["Fischer","Wolfgang","FI","SP",28,{"$f":"SUMIF(Stundenzaehler!A$3:AX$3,A17,Stundenzaehler!A$2)","v":21},7,28,0,null,null,11]
["Braun","Manuela","MB","vk",14,{"$f":"SUMIF(Stundenzaehler!A$3:AX$3,A18,Stundenzaehler!A$2)","v":20},-6,14,0,null,null,12]
["Meyer","Sabine","MEY","VU",24,{"$f":"SUMIF(Stundenzaehler!A$3:AX$3,A19,Stundenzaehler!A$2)","v":0},24,24,0,"LZK",null,13,null,null,null,null,"Verkehr"]
["Lühr","Katharina","LUE","GL",20,{"$f":"SUMIF(Stundenzaehler!A$3:AX$3,A20,Stundenzaehler!A$2)","v":21},-1,20,0,null,"Zirkus",14]
["Schöttke","Gisela","SCHOE","GL",28,{"$f":"SUMIF(Stundenzaehler!A$3:AX$3,A21,Stundenzaehler!A$2)","v":22},6,28,0,null,null,15]
["Dölling","Julia","DOE","SoPäFaKra",-81,{"$f":"SUMIF(Stundenzaehler!A$3:AX$3,A22,Stundenzaehler!A$2)","v":20},-101,19,100,null,null,16]
["Klapheck","Ulrike","KL","SoPäFaKra",-74,{"$f":"SUMIF(Stundenzaehler!A$3:AX$3,A23,Stundenzaehler!A$2)","v":26},-100,26,100,null,null,17]
["Flormann","Laura","FL","1a",28,{"$f":"SUMIF(Stundenzaehler!A$3:AX$3,A24,Stundenzaehler!A$2)","v":21},7,28,null,null,"StGr",18]
["Doganyildiz",null,"DG","HSU",4,{"$f":"SUMIF(Stundenzaehler!A$3:AX$3,A25,Stundenzaehler!A$2)","v":4},0,4,0,null,null,19]
[null,null,null,null,0,{"$f":"SUMIF(Stundenzaehler!A$3:AX$3,A26,Stundenzaehler!A$2)","v":0},0,null,0,null,null,20]
[null,null,null,null,0,{"$f":"SUMIF(Stundenzaehler!A$3:AX$3,A27,Stundenzaehler!A$2)","v":0},0,null,0,null,null,21]
[null,null,null,null,0,{"$f":"SUMIF(Stundenzaehler!A$3:AX$3,A28,Stundenzaehler!A$2)","v":0},0,null,0,null,"Sicherheit",22]
[null,null,null,null,0,{"$f":"SUMIF(Stundenzaehler!A$3:AX$3,A29,Stundenzaehler!A$2)","v":0},0,null,0,null,null,23]
[null,null,null,null,0,{"$f":"SUMIF(Stundenzaehler!A$3:AX$3,A30,Stundenzaehler!A$2)","v":0},0,null,0,null,"StGr",24]
[null,null,null,null,0,{"$f":"SUMIF(Stundenzaehler!A$3:AX$3,A31,Stundenzaehler!A$2)","v":0},0,null,0,null,null,25]
[null,null,null,null,0,{"$f":"SUMIF(Stundenzaehler!A$3:AX$3,A32,Stundenzaehler!A$2)","v":0},0,null,0,null,null,26]
[null,null,null,null,0,{"$f":"SUMIF(Stundenzaehler!A$3:AX$3,A33,Stundenzaehler!A$2)","v":0},0,null,0,null,null,27]
[null,null,null,null,0,{"$f":"SUMIF(Stundenzaehler!A$3:AX$3,A34,Stundenzaehler!A$2)","v":0},0,null,0,null,null,28]
[null,null,null,null,0,{"$f":"SUMIF(Stundenzaehler!A$3:AX$3,A35,Stundenzaehler!A$2)","v":0},0,null,0,null,null,29]
[null,null,null,null,0,{"$f":"SUMIF(Stundenzaehler!A$3:AX$3,A36,Stundenzaehler!A$2)","v":0},0,null,0,null,null,30]
[null,null,null,null,0,{"$f":"SUMIF(Stundenzaehler!A$3:AX$3,A37,Stundenzaehler!A$2)","v":0},0,null,null,null,null,31]
[null,null,null,null,0,{"$f":"SUMIF(Stundenzaehler!A$3:AX$3,A38,Stundenzaehler!A$2)","v":0},0,null,null,null,null,32]
[null,null,null,null,0,{"$f":"SUMIF(Stundenzaehler!A$3:AX$3,A39,Stundenzaehler!A$2)","v":0},0,null,null,null,null,33]
[null,null,null,null,0,{"$f":"SUMIF(Stundenzaehler!A$3:AX$3,A40,Stundenzaehler!A$2)","v":0},0,null,null,null,null,34]

{"sheet":"Dienstplan","index":1,"n_rows":57,"n_cols":61,"rows_kept":57,"cut":false,"hidden":false,"merged":[]}
["Dienstplan","Spalte1","Spalte2","Spalte3","Spalte4","Spalte5","Spalte6","Spalte7","Spalte8","Spalte9","Spalte10","Spalte11","Spalte12","Spalte13","Spalte14","Spalte15","Spalte16","Spalte17","Spalte18","Spalte19","Spalte20","Spalte21","Spalte22","Spalte23","Spalte24","Spalte25","Spalte26","Spalte27","Spalte28","Spalte29","Spalte30","Spalte31","Spalte32","Spalte33","Spalte34","Spalte35","Spalte36","Spalte37","Spalte38","Spalte39","Spalte40","Spalte41","Spalte42","Spalte43","Spalte44","Spalte45","Spalte46","Spalte47","Spalte48","Spalte49","Spalte50","Spalte51","Spalte52","Spalte53","Spalte54","Spalte55","Spalte56","Spalte57","Spalte58","Spalte59","Spalte60"]
[null,0,1,2,3,null,5,6,7,8,9,10,11,12,13,14,15,16,17,18,19,20,21,22,23,24,25,26,27,28,29,30,31,32,33,34,35,36,37,38,39,40,41,42,43,44,45,46,47,48,49,50,51,52,53,54,55,56,57,58,59]
[null,{"$f":"COUNTA(B5:B53)","v":21},23,21,21,24,19,25,19,5,0,22,9,22,10,25,13,24,14,20,0,0,0,0,0,0,0,0,0,0,0,0,0,{"$f":"COUNTA(AH5:AH53)","v":0},0,null,0,0,0,0,0,0,0,0,0,0,0,0,0,0,0,0,0,0,0,0,0,0,0,0]
["Montag","1a",{"$f":"B4","v":"1a"},"1b",{"$f":"D4","v":"1b"},"2a",{"$f":"F4","v":"2a"},"2b",{"$f":"H4","v":"2b"},"HSU",null,"3a",{"$f":"L4","v":"3a"},"3b",{"$f":"N4","v":"3b"},"4a",{"$f":"P4","v":"4a"},"4b",{"$f":"R4","v":"4b"},"VK",null,null,{"$f":"V4","v":0},null,{"$f":"X4","v":0},null,{"$f":"Z4","v":0},null,{"$f":"AB4","v":0},null,null,null,{"$f":"AF4","v":0},null,{"$f":"AH4","v":0},null,{"$f":"AJ4","v":0},null,{"$f":"AL4","v":0},null,null,"SE","SE","LZ","Bücherei",null,"PC","DAZ","MZR","Chor","Büro","Medien","DB","EF","Trainingsraum","VStd","(x)","(x)","(x)","(x)","MehrfachIndex"]
[1,"Flormann","Brass Fischer","Westerboer","Dölling","van_Ooyen","Lühr","Haschemi","Klapheck",null,null,"Yasar",null,"Strehlke",null,"Elit-Schulte",null,"Schneider",null,"Braun",null,null,null,null,null,null,null,null,null,null,null,null,null,null,null,null,null,null,null,null,null,null,null,null,null,null,null,null,null,null,null,null,null,null,null,null,null,null,null,null,{"$f":"COUNTIF(Stundenzaehler!A4:AI4,\">1\")","v":0}]
[2,"Flormann","Brass Fischer","Westerboer","Dölling","van_Ooyen","Klapheck","Haschemi","Lühr",null,null,"Yasar",null,"Strehlke","Krebs-Deilmann","Elit-Schulte",null,"Schneider","Schöttke","Braun",null,null,null,null,null,null,null,null,null,null,null,null,null,null,null,null,null,null,null,null,null,null,null,null,null,null,null,null,null,null,null,null,null,null,null,null,null,null,null,null,{"$f":"COUNTIF(Stundenzaehler!A5:AI5,\">1\")","v":0}]
[3,"Flormann","Brass Dölling","Fischer Sport","Westerboer","van_Ooyen","Klapheck","Haschemi",null,null,null,"Yasar",null,"Strehlke","Lühr","Elit-Schulte",null,"Schneider","Schöttke","Braun",null,null,null,null,null,null,null,null,null,null,null,null,null,null,null,null,null,null,null,null,null,null,null,null,null,null,null,null,null,null,null,null,null,null,null,null,null,null,null,null,{"$f":"COUNTIF(Stundenzaehler!A6:AI6,\">1\")","v":0}]
[4,"Flormann","Brass Dölling","Fischer Sport","Westerboer","van_Ooyen",null,"Haschemi","Klapheck",null,null,"Yasar",null,"Strehlke","Lühr","Elit-Schulte",null,"Schneider","Schöttke","Braun",null,null,null,null,null,null,null,null,null,null,null,null,null,null,null,null,null,null,null,null,null,null,null,null,null,null,null,null,null,null,null,null,null,null,null,null,null,null,null,null,{"$f":"COUNTIF(Stundenzaehler!A7:AI7,\">1\")","v":0}]
[5,"Flormann","Fischer Sport","Westerboer","Dölling Förder",null,"van_Ooyen Förder","Haschemi","Klapheck Förder",null,null,null,"Krebs-Deilmann Förder",null,"Strehlke Förder","Elit-Schulte","Schöttke",null,"Schneider Förder",null,null,null,null,null,null,null,null,null,null,null,null,null,null,null,null,null,null,null,null,null,null,null,null,null,null,null,null,null,null,null,null,null,null,null,null,null,null,null,null,null,{"$f":"COUNTIF(Stundenzaehler!A8:AI8,\">1\")","v":0}]
[6,null,null,null,null,null,null,null,null,null,null,null,null,null,null,"Elit-Schulte","Schöttke",null,null,null,null,null,null,null,null,null,null,null,null,null,null,null,null,null,null,null,null,null,null,null,null,null,null,null,null,null,null,null,null,null,null,null,null,null,null,null,null,null,null,null,{"$f":"COUNTIF(Stundenzaehler!A9:AI9,\">1\")","v":0}]
[7,null,null,null,null,null,null,null,null,null,null,null,null,null,null,null,null,null,null,null,null,null,null,null,null,null,null,null,null,null,null,null,null,null,null,null,null,null,null,null,null,null,null,null,null,null,null,null,null,null,null,null,null,null,null,null,null,null,null,null,{"$f":"COUNTIF(Stundenzaehler!A10:AI10,\">1\")","v":0}]
[8,null,null,null,null,null,null,null,null,null,null,null,null,null,null,null,null,null,null,null,null,null,null,null,null,null,null,null,null,null,null,null,null,null,null,null,null,null,null,null,null,null,null,null,null,null,null,null,null,null,null,null,null,null,null,null,null,null,null,null,{"$f":"COUNTIF(Stundenzaehler!A11:AI11,\">1\")","v":0}]
[9,null,null,null,null,null,null,null,null,null,null,null,null,null,null,null,null,null,null,null,null,null,null,null,null,null,null,null,null,null,null,null,null,null,null,null,null,null,null,null,null,null,null,null,null,null,null,null,null,null,null,null,null,null,null,null,null,null,null,null,{"$f":"COUNTIF(Stundenzaehler!A12:AI12,\">1\")","v":0}]
["Dienstag"]
[1,"Flormann","DuBois v, Dölling","Westerboer","Fischer","van_Ooyen","Klapheck","Haschemi",null,null,null,"Lühr","Krebs-Deilmann","Strehlke",null,"Elit-Schulte","Schöttke","Schneider",null,"Braun",null,null,null,null,null,null,null,null,null,null,null,null,null,null,null,null,null,null,null,null,null,null,null,null,null,null,null,null,null,null,null,null,null,null,null,null,null,null,null,null,{"$f":"COUNTIF(Stundenzaehler!A14:AI14,\">1\")","v":0}]
[2,"Flormann","DuBois v, Dölling","Westerboer","Fischer","van_Ooyen","Klapheck","Haschemi",null,null,null,"Yasar","Lühr","Strehlke",null,"Elit-Schulte","Schöttke","Schneider",null,"Braun",null,null,null,null,null,null,null,null,null,null,null,null,null,null,null,null,null,null,null,null,null,null,null,null,null,null,null,null,null,null,null,null,null,null,null,null,null,null,null,null,{"$f":"COUNTIF(Stundenzaehler!A15:AI15,\">1\")","v":0}]
[3,"Flormann","DuBois v, Dölling","Westerboer","Fischer","van_Ooyen",null,"Haschemi","Klapheck",null,null,"Yasar","Lühr","Strehlke",null,"Elit-Schulte","Schöttke","Schneider",null,"Braun",null,null,null,null,null,null,null,null,null,null,null,null,null,null,null,null,null,null,null,null,null,null,null,null,null,null,null,null,null,null,null,null,null,null,null,null,null,null,null,null,{"$f":"COUNTIF(Stundenzaehler!A16:AI16,\">1\")","v":0}]
[4,"Flormann","DuBois v, Dölling","Westerboer","Fischer","van_Ooyen",null,"Haschemi Sport","Klapheck",null,null,"Yasar","Lühr","Strehlke",null,"Elit-Schulte","Schöttke","Schneider",null,"Braun",null,null,null,null,null,null,null,null,null,null,null,null,null,null,null,null,null,null,null,null,null,null,null,null,null,null,null,null,null,null,null,null,null,null,null,null,null,null,null,null,{"$f":"COUNTIF(Stundenzaehler!A17:AI17,\">1\")","v":0}]
[5,null,"Dölling Förder",null,null,"van_Ooyen",null,"Haschemi Sport","Klapheck",null,null,"Lühr Sport",null,"Krebs-Deilmann Lesen",null,"Elit-Schulte Sport","Schöttke","Schneider",null,null,null,null,null,null,null,null,null,null,null,null,null,null,null,null,null,null,null,null,null,null,null,null,null,null,null,null,null,null,null,null,null,null,null,null,null,null,null,null,null,null,{"$f":"COUNTIF(Stundenzaehler!A18:AI18,\">1\")","v":0}]
[6,null,null,null,null,"van_Ooyen","Klapheck Förder",null,"Haschemi Förder",null,null,null,null,null,"Krebs-Deilmann Förder","Elit-Schulte Sport","Schöttke",null,"Schneider Förder",null,null,null,null,null,null,null,null,null,null,null,null,null,null,null,null,null,null,null,null,null,null,null,null,null,null,null,null,null,null,null,null,null,null,null,null,null,null,null,null,null,{"$f":"COUNTIF(Stundenzaehler!A19:AI19,\">1\")","v":0}]
[7,null,null,null,null,null,null,null,null,null,null,null,null,null,null,null,null,null,null,null,null,null,null,null,null,null,null,null,null,null,null,null,null,null,null,null,null,null,null,null,null,null,null,null,null,null,null,null,null,null,null,null,null,null,null,null,null,null,null,null,{"$f":"COUNTIF(Stundenzaehler!A20:AI20,\">1\")","v":0}]
[8,null,null,null,null,null,null,null,null,null,null,null,null,null,null,null,null,null,null,null,null,null,null,null,null,null,null,null,null,null,null,null,null,null,null,null,null,null,null,null,null,null,null,null,null,null,null,null,null,null,null,null,null,null,null,null,null,null,null,null,{"$f":"COUNTIF(Stundenzaehler!A21:AI21,\">1\")","v":0}]
[9,null,null,null,null,null,null,null,null,null,null,null,null,null,null,null,null,null,null,null,null,null,null,null,null,null,null,null,null,null,null,null,null,null,null,null,null,null,null,null,null,null,null,null,null,null,null,null,null,null,null,null,null,null,null,null,null,null,null,null,{"$f":"COUNTIF(Stundenzaehler!A22:AI22,\">1\")","v":0}]
["Mittwoch"]
[1,"Flormann","Brass Fischer","Westerboer","Dölling","van_Ooyen","Klapheck","Haschemi","Lühr",null,null,"Yasar",null,"Strehlke",null,"Elit-Schulte",null,"Schneider",null,"Braun",null,null,null,null,null,null,null,null,null,null,null,null,null,null,null,null,null,null,null,null,null,null,null,null,null,null,null,null,null,null,null,null,null,null,null,null,null,null,null,null,{"$f":"COUNTIF(Stundenzaehler!A24:AI24,\">1\")","v":0}]
[2,"Flormann","Brass Fischer","Westerboer","Dölling","van_Ooyen","Klapheck","Haschemi","Lühr",null,null,"Yasar",null,"Strehlke",null,"Elit-Schulte",null,"Schneider",null,"Braun",null,null,null,null,null,null,null,null,null,null,null,null,null,null,null,null,null,null,null,null,null,null,null,null,null,null,null,null,null,null,null,null,null,null,null,null,null,null,null,null,{"$f":"COUNTIF(Stundenzaehler!A25:AI25,\">1\")","v":0}]
[3,"Flormann","Fischer Sport","Westerboer","Dölling","van_Ooyen","Lühr","Haschemi","Klapheck",null,null,"Yasar",null,"Strehlke",null,"Elit-Schulte",null,"Schneider","Schöttke","Braun",null,null,null,null,null,null,null,null,null,null,null,null,null,null,null,null,null,null,null,null,null,null,null,null,null,null,null,null,null,null,null,null,null,null,null,null,null,null,null,null,{"$f":"COUNTIF(Stundenzaehler!A26:AI26,\">1\")","v":0}]
[4,"Flormann","Fischer Sport","Westerboer","Dölling","van_Ooyen Sport","Klapheck","Haschemi",null,null,null,"Yasar",null,"Strehlke",null,"Elit-Schulte",null,"Schneider","Schöttke","Braun",null,null,null,null,null,null,null,null,null,null,null,null,null,null,null,null,null,null,null,null,null,null,null,null,null,null,null,null,null,null,null,null,null,null,null,null,null,null,null,null,{"$f":"COUNTIF(Stundenzaehler!A27:AI27,\">1\")","v":0}]
[5,null,null,null,"Dölling Förder","van_Ooyen Sport","Klapheck","Haschemi",null,"Doganyildiz HSU12",null,"Krebs-Deilmann",null,null,null,"Elit-Schulte",null,"Schneider Sport","Schöttke",null,null,null,null,null,null,null,null,null,null,null,null,null,null,null,null,null,null,null,null,null,null,null,null,null,null,null,null,null,null,null,null,null,null,null,null,null,null,null,null,null,{"$f":"COUNTIF(Stundenzaehler!A28:AI28,\">1\")","v":0}]
[6,null,null,null,null,null,"van_Ooyen Förder","Haschemi","Klapheck Förder","Doganyildiz HSU12",null,null,"Krebs-Deilmann Forder",null,null,null,"Elit-Schulte Förder","Schneider Sport","Schöttke",null,null,null,null,null,null,null,null,null,null,null,null,null,null,null,null,null,null,null,null,null,null,null,null,null,null,null,null,null,null,null,null,null,null,null,null,null,null,null,null,null,{"$f":"COUNTIF(Stundenzaehler!A29:AI29,\">1\")","v":0}]
[7,null,null,null,null,null,null,null,null,"Doganyildiz HSU34",null,null,null,null,null,null,null,null,null,null,null,null,null,null,null,null,null,null,null,null,null,null,null,null,null,null,null,null,null,null,null,null,null,null,null,null,null,null,null,null,null,null,null,null,null,null,null,null,null,null,{"$f":"COUNTIF(Stundenzaehler!A30:AI30,\">1\")","v":0}]
[8,null,null,null,null,null,null,null,null,"Doganyildiz HSU34",null,null,null,null,null,null,null,null,null,null,null,null,null,null,null,null,null,null,null,null,null,null,null,null,null,null,null,null,null,null,null,null,null,null,null,null,null,null,null,null,null,null,null,null,null,null,null,null,null,null,{"$f":"COUNTIF(Stundenzaehler!A31:AI31,\">1\")","v":0}]
[9,null,null,null,null,null,null,null,null,null,null,null,null,null,null,null,null,null,null,null,null,null,null,null,null,null,null,null,null,null,null,null,null,null,null,null,null,null,null,null,null,null,null,null,null,null,null,null,null,null,null,null,null,null,null,null,null,null,null,null,{"$f":"COUNTIF(Stundenzaehler!A32:AI32,\">1\")","v":0}]
["Donnerstag"]
[1,"Flormann","Brass Fischer","Westerboer","Dölling","van_Ooyen","Klapheck","Haschemi",null,null,null,"Lühr Sport","Krebs-Deilmann","Strehlke",null,"Elit-Schulte",null,"Schneider",null,"Braun",null,null,null,null,null,null,null,null,null,null,null,null,null,null,null,null,null,null,null,null,null,null,null,null,null,null,null,null,null,null,null,null,null,null,null,null,null,null,null,null,{"$f":"COUNTIF(Stundenzaehler!A34:AI34,\">1\")","v":0}]
[2,"Flormann","Brass Fischer","Westerboer","Dölling","van_Ooyen",null,"Haschemi","Klapheck",null,null,"Lühr Sport","Krebs-Deilmann","Strehlke",null,"Elit-Schulte",null,"Schneider",null,"Braun",null,null,null,null,null,null,null,null,null,null,null,null,null,null,null,null,null,null,null,null,null,null,null,null,null,null,null,null,null,null,null,null,null,null,null,null,null,null,null,null,{"$f":"COUNTIF(Stundenzaehler!A35:AI35,\">1\")","v":0}]
[3,"Flormann","Brass Dölling","Westerboer","Fischer","van_Ooyen",null,"Haschemi","Klapheck",null,null,"Yasar",null,"Strehlke","Lühr","Elit-Schulte",null,"Schneider Sport","Schöttke","Braun",null,null,null,null,null,null,null,null,null,null,null,null,null,null,null,null,null,null,null,null,null,null,null,null,null,null,null,null,null,null,null,null,null,null,null,null,null,null,null,null,{"$f":"COUNTIF(Stundenzaehler!A36:AI36,\">1\")","v":0}]
[4,"Flormann","Dölling","Westerboer","Fischer","van_Ooyen",null,"Haschemi","Klapheck",null,null,"Yasar",null,"Strehlke","Lühr","Elit-Schulte",null,"Schneider","Schöttke","Braun",null,null,null,null,null,null,null,null,null,null,null,null,null,null,null,null,null,null,null,null,null,null,null,null,null,null,null,null,null,null,null,null,null,null,null,null,null,null,null,null,{"$f":"COUNTIF(Stundenzaehler!A37:AI37,\">1\")","v":0}]
[5,null,"Dölling Förder",null,null,"van_Ooyen","Klapheck Förder","Haschemi","Lühr Förder",null,null,null,"Yasar Forder","Lühr",null,null,null,null,"Schneider Förder",null,null,null,null,null,null,null,null,null,null,null,null,null,null,null,null,null,null,null,null,null,null,null,null,null,null,null,null,null,null,null,null,null,null,null,null,null,null,null,null,null,{"$f":"COUNTIF(Stundenzaehler!A38:AI38,\">1\")","v":1}]
[6,null,null,null,null,null,null,null,null,null,null,null,null,null,null,null,null,null,null,null,null,null,null,null,null,null,null,null,null,null,null,null,null,null,null,null,null,null,null,null,null,null,null,null,null,null,null,null,null,null,null,null,null,null,null,null,null,null,null,null,{"$f":"COUNTIF(Stundenzaehler!A39:AI39,\">1\")","v":0}]
[7,null,null,null,null,null,null,null,null,null,null,null,null,null,null,null,null,null,null,null,null,null,null,null,null,null,null,null,null,null,null,null,null,null,null,null,null,null,null,null,null,null,null,null,null,null,null,null,null,null,null,null,null,null,null,null,null,null,null,null,{"$f":"COUNTIF(Stundenzaehler!A40:AI40,\">1\")","v":0}]
[8,null,null,null,null,null,null,null,null,null,null,null,null,null,null,null,null,null,null,null,null,null,null,null,null,null,null,null,null,null,null,null,null,null,null,null,null,null,null,null,null,null,null,null,null,null,null,null,null,null,null,null,null,null,null,null,null,null,null,null,{"$f":"COUNTIF(Stundenzaehler!A41:AI41,\">1\")","v":0}]
[9,null,null,null,null,null,null,null,null,null,null,null,null,null,null,null,null,null,null,null,null,null,null,null,null,null,null,null,null,null,null,null,null,null,null,null,null,null,null,null,null,null,null,null,null,null,null,null,null,null,null,null,null,null,null,null,null,null,null,null,{"$f":"COUNTIF(Stundenzaehler!A42:AI42,\">1\")","v":0}]
["Freitag"]
[1,"Flormann","DuBois","Westerboer","Fischer","van_Ooyen","Klapheck","Haschemi",null,null,null,"Yasar",null,"Strehlke",null,"Elit-Schulte","Schöttke","Schneider",null,"Braun",null,null,null,null,null,null,null,null,null,null,null,null,null,null,null,null,null,null,null,null,null,null,null,null,null,null,null,null,null,null,null,null,null,null,null,null,null,null,null,null,{"$f":"COUNTIF(Stundenzaehler!A44:AI44,\">1\")","v":0}]
[2,"Flormann","DuBois","Westerboer","Fischer","van_Ooyen","Klapheck","Haschemi",null,null,null,"Yasar",null,"Strehlke","Krebs-Deilmann","Elit-Schulte",null,"Schneider","Schöttke","Braun",null,null,null,null,null,null,null,null,null,null,null,null,null,null,null,null,null,null,null,null,null,null,null,null,null,null,null,null,null,null,null,null,null,null,null,null,null,null,null,null,{"$f":"COUNTIF(Stundenzaehler!A45:AI45,\">1\")","v":0}]
[3,"Flormann","DuBois","Westerboer","Fischer","van_Ooyen",null,"Haschemi","Klapheck",null,null,"Yasar",null,"Strehlke","Lühr","Elit-Schulte","Schöttke","Schneider",null,"Braun",null,null,null,null,null,null,null,null,null,null,null,null,null,null,null,null,null,null,null,null,null,null,null,null,null,null,null,null,null,null,null,null,null,null,null,null,null,null,null,null,{"$f":"COUNTIF(Stundenzaehler!A46:AI46,\">1\")","v":0}]
[4,"Flormann","DuBois","Fischer Sport",null,"van_Ooyen","Klapheck","Haschemi","Lühr",null,null,"Yasar",null,"Strehlke",null,"Elit-Schulte Sport","Schöttke","Schneider",null,"Braun",null,null,null,null,null,null,null,null,null,null,null,null,null,null,null,null,null,null,null,null,null,null,null,null,null,null,null,null,null,null,null,null,null,null,null,null,null,null,null,null,{"$f":"COUNTIF(Stundenzaehler!A47:AI47,\">1\")","v":0}]
[5,null,null,null,null,null,"van_Ooyen Förder",null,"Haschemi Förder",null,null,null,null,null,"Lühr Förder",null,"Elit-Schulte Förder","Schneider","Schöttke",null,null,null,null,null,null,null,null,null,null,null,null,null,null,null,null,null,null,null,null,null,null,null,null,null,null,null,null,null,null,null,null,null,null,null,null,null,null,null,null,null,{"$f":"COUNTIF(Stundenzaehler!A48:AI48,\">1\")","v":0}]
[6,null,null,null,null,null,null,null,null,"s",null,null,null,null,null,null,null,null,null,null,null,null,null,null,null,null,null,null,null,null,null,null,null,null,null,null,null,null,null,null,null,null,null,null,null,null,null,null,null,null,null,null,null,null,null,null,null,null,null,null,{"$f":"COUNTIF(Stundenzaehler!A49:AI49,\">1\")","v":0}]
[7,null,null,null,null,null,null,null,null,null,null,null,null,null,null,null,null,null,null,null,null,null,null,null,null,null,null,null,null,null,null,null,null,null,null,null,null,null,null,null,null,null,null,null,null,null,null,null,null,null,null,null,null,null,null,null,null,null,null,null,{"$f":"COUNTIF(Stundenzaehler!A50:AI50,\">1\")","v":0}]
[8,null,null,null,null,null,null,null,null,null,null,null,null,null,null,null,null,null,null,null,null,null,null,null,null,null,null,null,null,null,null,null,null,null,null,null,null,null,null,null,null,null,null,null,null,null,null,null,null,null,null,null,null,null,null,null,null,null,null,null,{"$f":"COUNTIF(Stundenzaehler!A51:AI51,\">1\")","v":0}]
[9,null,null,null,null,null,null,null,null,null,null,null,null,null,null,null,null,null,null,null,null,null,null,null,null,null,null,null,null,null,null,null,null,null,null,null,null,null,null,null,null,null,null,null,null,null,null,null,null,null,null,null,null,null,null,null,null,null,null,null,{"$f":"COUNTIF(Stundenzaehler!A52:AI52,\">1\")","v":0}]
[]
[null,"*","*","*"]
[null,"*","*","*"]
[null,"*","*","*"]

{"sheet":"Stundenplan","index":2,"n_rows":47,"n_cols":24,"rows_kept":47,"cut":false,"hidden":false,"merged":[]}
["Stundenplan",null,null,null,null,null,null,null,null,null,null,"2020-09-01"]
[null,null,"Doganyildiz"]
[]
[null,null,"Montag",null,"Dienstag",null,"Mittwoch",null,"Donnerstag"," ","Freitag"]
[null,1]
[null,2]
[null,3,null,null,null,null,null,null,null,null,null,null,null,null,null,null,null,null,null,null,null,null,null,"ae"]
[null,4]
[null,5,null,null,null,null,"x  HSU12"]
[null,6,null,null,null,null,"x  HSU12"]
[null,7,null,null,null,null,"x  HSU34"]
[null,8,null,null,null,null,"x  HSU34"]
[null,9]
[]
[]
[]
[]
[]
[]
[]
[]
[]
[]
[]
[]
[]
[]
[]
[]
[]
[]
[]
[]
[]
[]
[]
[]
[]
[]
[]
[]
[]
[]
[]
[]
[]
[null,null,null,null,null,null,null,null,null,null,null,null,null,null,null,null,null,null,null,null,null,"Yasar"]

{"sheet":"Wochenübersicht Abwesend","index":3,"n_rows":59,"n_cols":7,"rows_kept":59,"cut":false,"hidden":false,"merged":[]}
[]
[]
[null,"Vertretungsplan",null,"vom __.__. bis __.__. abwesend"]
[]
["Nr","Name","Mo","Die","Mi","Do","Fr"]
[null,{"$f":"Lehrerdaten!A35","v":0}]
[null,{"$f":"Lehrerdaten!A36","v":0}]
[null,{"$f":"Lehrerdaten!A37","v":0}]
[null,{"$f":"Lehrerdaten!A38","v":0}]
[null,{"$f":"Lehrerdaten!A39","v":0}]
[null,{"$f":"Lehrerdaten!A40","v":0}]
[null,{"$f":"Lehrerdaten!A41","v":0}]
[null,{"$f":"Lehrerdaten!A42","v":0}]
[null,{"$f":"Lehrerdaten!A43","v":0}]
[null,{"$f":"Lehrerdaten!A44","v":0}]
[null,{"$f":"Lehrerdaten!A45","v":0}]
[null,{"$f":"Lehrerdaten!A35","v":0}]
[null,{"$f":"Lehrerdaten!A36","v":0}]
[null,{"$f":"Lehrerdaten!A37","v":0}]
[null,{"$f":"Lehrerdaten!A38","v":0}]
[null,{"$f":"Lehrerdaten!A39","v":0}]
[null,{"$f":"Lehrerdaten!A40","v":0}]
[null,{"$f":"Lehrerdaten!A6","v":"+"}]
[{"$f":"Lehrerdaten!L7","v":1},{"$f":"Lehrerdaten!A7","v":"DuBois"},"-","-","-","-","-"]
[{"$f":"Lehrerdaten!L8","v":2},{"$f":"Lehrerdaten!A8","v":"Brass"},"-",null,"-"]
[{"$f":"Lehrerdaten!L9","v":3},{"$f":"Lehrerdaten!A9","v":"Westerboer"}]
[{"$f":"Lehrerdaten!L10","v":4},{"$f":"Lehrerdaten!A10","v":"van_Ooyen"}]
[{"$f":"Lehrerdaten!L11","v":5},{"$f":"Lehrerdaten!A11","v":"Haschemi"}]
[{"$f":"Lehrerdaten!L12","v":6},{"$f":"Lehrerdaten!A12","v":"Yasar"}]
[{"$f":"Lehrerdaten!L13","v":7},{"$f":"Lehrerdaten!A13","v":"Strehlke"},"-",null,"-",null,"-"]
[{"$f":"Lehrerdaten!L14","v":8},{"$f":"Lehrerdaten!A14","v":"Elit-Schulte"}]
[{"$f":"Lehrerdaten!L15","v":9},{"$f":"Lehrerdaten!A15","v":"Schneider"}]
[{"$f":"Lehrerdaten!L16","v":10},{"$f":"Lehrerdaten!A16","v":"Krebs-Deilmann"},null,null,null,"-"]
[{"$f":"Lehrerdaten!L17","v":11},{"$f":"Lehrerdaten!A17","v":"Fischer"},"-","-","-","-","-"]
[{"$f":"Lehrerdaten!L18","v":12},{"$f":"Lehrerdaten!A18","v":"Braun"}]
[{"$f":"Lehrerdaten!L19","v":13},{"$f":"Lehrerdaten!A19","v":"Meyer"},null,null,"-"]
[{"$f":"Lehrerdaten!L20","v":14},{"$f":"Lehrerdaten!A20","v":"Lühr"},null,"-"]
[{"$f":"Lehrerdaten!L21","v":15},{"$f":"Lehrerdaten!A21","v":"Schöttke"},null,null,"-",null,"-"]
[{"$f":"Lehrerdaten!L22","v":16},{"$f":"Lehrerdaten!A22","v":"Dölling"}]
[{"$f":"Lehrerdaten!L23","v":17},{"$f":"Lehrerdaten!A23","v":"Klapheck"},"-",1,"-","-"]
[{"$f":"Lehrerdaten!L24","v":18},{"$f":"Lehrerdaten!A24","v":"Flormann"}]
[{"$f":"Lehrerdaten!L25","v":19},{"$f":"Lehrerdaten!A25","v":"Doganyildiz"},"-",null,null,12,"-"]
[{"$f":"Lehrerdaten!L26","v":20},{"$f":"Lehrerdaten!A26","v":0}]
[{"$f":"Lehrerdaten!L27","v":21},{"$f":"Lehrerdaten!A27","v":0}]
[{"$f":"Lehrerdaten!L28","v":22},{"$f":"Lehrerdaten!A28","v":0}]
[{"$f":"Lehrerdaten!L29","v":23},{"$f":"Lehrerdaten!A29","v":0}]
[{"$f":"Lehrerdaten!L30","v":24},{"$f":"Lehrerdaten!A30","v":0}]
[{"$f":"Lehrerdaten!L31","v":25},{"$f":"Lehrerdaten!A31","v":0}]
[{"$f":"Lehrerdaten!L32","v":26},{"$f":"Lehrerdaten!A32","v":0}]
[{"$f":"Lehrerdaten!L33","v":27},{"$f":"Lehrerdaten!A33","v":0}]
[{"$f":"Lehrerdaten!L34","v":28},{"$f":"Lehrerdaten!A34","v":0}]
[{"$f":"Lehrerdaten!L35","v":29},{"$f":"Lehrerdaten!A35","v":0}]
[{"$f":"Lehrerdaten!L36","v":30},{"$f":"Lehrerdaten!A36","v":0}]
[{"$f":"Lehrerdaten!L37","v":31},{"$f":"Lehrerdaten!A37","v":0}]
[]
[null,"Beckers"]
[null,"Schend","-"]
[null,"Schreur"]
[null,"Berg"]

{"sheet":"Anwesenheitsliste","index":4,"n_rows":53,"n_cols":3,"rows_kept":53,"cut":false,"hidden":false,"merged":[]}
["Anwesenheitsliste vom _________"]
[]
[null,"Name","anwesend"]
[null,{"$f":"Lehrerdaten!A35","v":0}]
[null,{"$f":"Lehrerdaten!A36","v":0}]
[null,{"$f":"Lehrerdaten!A37","v":0}]
[null,{"$f":"Lehrerdaten!A38","v":0}]
[null,{"$f":"Lehrerdaten!A39","v":0}]
[null,{"$f":"Lehrerdaten!A40","v":0}]
[null,{"$f":"Lehrerdaten!A41","v":0}]
[null,{"$f":"Lehrerdaten!A42","v":0}]
[null,{"$f":"Lehrerdaten!A43","v":0}]
[null,{"$f":"Lehrerdaten!A44","v":0}]
[null,{"$f":"Lehrerdaten!A45","v":0}]
[null,{"$f":"Lehrerdaten!A3","v":"+"}]
[null,{"$f":"Lehrerdaten!A4","v":"+"}]
[null,{"$f":"Lehrerdaten!A5","v":"+"}]
[null,{"$f":"Lehrerdaten!A6","v":"+"}]
[null,{"$f":"Lehrerdaten!A7","v":"DuBois"}]
[null,{"$f":"Lehrerdaten!A8","v":"Brass"}]
[null,{"$f":"Lehrerdaten!A9","v":"Westerboer"}]
[null,{"$f":"Lehrerdaten!A10","v":"van_Ooyen"}]
[null,{"$f":"Lehrerdaten!A11","v":"Haschemi"}]
[null,{"$f":"Lehrerdaten!A12","v":"Yasar"}]
[null,{"$f":"Lehrerdaten!A13","v":"Strehlke"}]
[null,{"$f":"Lehrerdaten!A14","v":"Elit-Schulte"}]
[null,{"$f":"Lehrerdaten!A15","v":"Schneider"}]
[null,{"$f":"Lehrerdaten!A16","v":"Krebs-Deilmann"}]
[null,{"$f":"Lehrerdaten!A17","v":"Fischer"}]
[null,{"$f":"Lehrerdaten!A18","v":"Braun"}]
[null,{"$f":"Lehrerdaten!A19","v":"Meyer"}]
[null,{"$f":"Lehrerdaten!A20","v":"Lühr"}]
[null,{"$f":"Lehrerdaten!A21","v":"Schöttke"}]
[null,{"$f":"Lehrerdaten!A22","v":"Dölling"}]
[null,{"$f":"Lehrerdaten!A23","v":"Klapheck"}]
[null,{"$f":"Lehrerdaten!A24","v":"Flormann"}]
[null,{"$f":"Lehrerdaten!A25","v":"Doganyildiz"}]
[null,{"$f":"Lehrerdaten!A26","v":0}]
[null,{"$f":"Lehrerdaten!A27","v":0}]
[null,{"$f":"Lehrerdaten!A28","v":0}]
[null,{"$f":"Lehrerdaten!A29","v":0}]
[null,{"$f":"Lehrerdaten!A30","v":0}]
[null,{"$f":"Lehrerdaten!A31","v":0}]
[null,{"$f":"Lehrerdaten!A32","v":0}]
[null,{"$f":"Lehrerdaten!A33","v":0}]
[null,{"$f":"Lehrerdaten!A34","v":0}]
[null,{"$f":"Lehrerdaten!A35","v":0},{"$f":"Lehrerdaten!B35","v":0}]
[null,{"$f":"Lehrerdaten!A36","v":0},{"$f":"Lehrerdaten!B36","v":0}]
[null,{"$f":"Lehrerdaten!A37","v":0},{"$f":"Lehrerdaten!B37","v":0}]
[null,{"$f":"Lehrerdaten!A38","v":0},{"$f":"Lehrerdaten!B38","v":0}]
[null,{"$f":"Lehrerdaten!A39","v":0},{"$f":"Lehrerdaten!B39","v":0}]
[null,{"$f":"Lehrerdaten!A40","v":0},{"$f":"Lehrerdaten!B40","v":0}]
[null,{"$f":"Lehrerdaten!A41","v":0},{"$f":"Lehrerdaten!B41","v":0}]

{"sheet":"Stundenzaehler","index":5,"n_rows":53,"n_cols":36,"rows_kept":53,"cut":false,"hidden":false,"merged":[]}
["Stundenzaehler"]
[{"$f":"SUM( A4:A53 )","v":0},0,0,0,8,9,20,27,27,{"$f":"SUM( J4:J53 )","v":18},21,27,27,10,21,20,0,21,22,20,26,21,4,0,0,0,0,0,0,0,0,0,0,0,0,{"$f":"SUM( AJ4:AJ53 )","v":0}]
[{"$f":" Lehrerdaten!A3","v":"+"},{"$f":" Lehrerdaten!A4","v":"+"},{"$f":" Lehrerdaten!A5","v":"+"},{"$f":" Lehrerdaten!A6","v":"+"},{"$f":" Lehrerdaten!A7","v":"DuBois"},{"$f":" Lehrerdaten!A8","v":"Brass"},{"$f":" Lehrerdaten!A9","v":"Westerboer"},{"$f":" Lehrerdaten!A10","v":"van_Ooyen"},{"$f":" Lehrerdaten!A11","v":"Haschemi"},{"$f":" Lehrerdaten!A12","v":"Yasar"},{"$f":" Lehrerdaten!A13","v":"Strehlke"},{"$f":" Lehrerdaten!A14","v":"Elit-Schulte"},{"$f":" Lehrerdaten!A15","v":"Schneider"},{"$f":" Lehrerdaten!A16","v":"Krebs-Deilmann"},{"$f":" Lehrerdaten!A17","v":"Fischer"},{"$f":" Lehrerdaten!A18","v":"Braun"},{"$f":" Lehrerdaten!A19","v":"Meyer"},{"$f":" Lehrerdaten!A20","v":"Lühr"},{"$f":" Lehrerdaten!A21","v":"Schöttke"},{"$f":" Lehrerdaten!A22","v":"Dölling"},{"$f":" Lehrerdaten!A23","v":"Klapheck"},{"$f":" Lehrerdaten!A24","v":"Flormann"},{"$f":" Lehrerdaten!A25","v":"Doganyildiz"},{"$f":" Lehrerdaten!A26","v":0},{"$f":" Lehrerdaten!A27","v":0},{"$f":" Lehrerdaten!A28","v":0},{"$f":" Lehrerdaten!A29","v":0},{"$f":" Lehrerdaten!A30","v":0},{"$f":" Lehrerdaten!A31","v":0},{"$f":" Lehrerdaten!A32","v":0},{"$f":" Lehrerdaten!#REF!","v":{"$error":"#REF!"}},{"$f":" Lehrerdaten!#REF!","v":{"$error":"#REF!"}},{"$f":" Lehrerdaten!A33","v":0},{"$f":" Lehrerdaten!A34","v":0},{"$f":" Lehrerdaten!A35","v":0},{"$f":" Lehrerdaten!A38","v":0}]
[{"$f":"COUNTIF(Dienstplan!B5:BH5,\"*\"&($A$3)&\"*\")-COUNTIF(Dienstplan!B5:BH5,\"*_\"&($A$3)&\"*\")","v":0},{"$f":"COUNTIF(Dienstplan!B5:BH5,\"*\"&($B$3)&\"*\")-COUNTIF(Dienstplan!B5:BH5,\"*_\"&($B$3)&\"*\")","v":0},{"$f":"COUNTIF(Dienstplan!B5:BH5,\"*\"&($C$3)&\"*\")-COUNTIF(Dienstplan!B5:BH5,\"*_\"&($C$3)&\"*\")","v":0},{"$f":"COUNTIF(Dienstplan!B5:BH5,\"*\"&($D$3)&\"*\")-COUNTIF(Dienstplan!B5:BH5,\"*_\"&($D$3)&\"*\")","v":0},{"$f":"COUNTIF(Dienstplan!B5:BH5,\"*\"&($E$3)&\"*\")-COUNTIF(Dienstplan!B5:BH5,\"*_\"&($E$3)&\"*\")","v":0},{"$f":"COUNTIF(Dienstplan!B5:BH5,\"*\"&($F$3)&\"*\")-COUNTIF(Dienstplan!B5:BH5,\"*_\"&($F$3)&\"*\")","v":1},{"$f":"COUNTIF(Dienstplan!B5:BH5,\"*\"&($G$3)&\"*\")-COUNTIF(Dienstplan!B5:BH5,\"*_\"&($G$3)&\"*\")","v":1},{"$f":"COUNTIF(Dienstplan!B5:BH5,\"*\"&($H$3)&\"*\")-COUNTIF(Dienstplan!B5:BH5,\"*_\"&($H$3)&\"*\")","v":1},{"$f":"COUNTIF(Dienstplan!B5:BH5,\"*\"&($I$3)&\"*\")-COUNTIF(Dienstplan!B5:BH5,\"*_\"&($I$3)&\"*\")","v":1},{"$f":"COUNTIF(Dienstplan!B5:BH5,\"*\"&($J$3)&\"*\")-COUNTIF(Dienstplan!B5:BH5,\"*_\"&($J$3)&\"*\")","v":1},{"$f":"COUNTIF(Dienstplan!B5:BH5,\"*\"&($K$3)&\"*\")-COUNTIF(Dienstplan!B5:BH5,\"*_\"&($K$3)&\"*\")","v":1},{"$f":"COUNTIF(Dienstplan!B5:BH5,\"*\"&($L$3)&\"*\")-COUNTIF(Dienstplan!B5:BH5,\"*_\"&($L$3)&\"*\")","v":1},{"$f":"COUNTIF(Dienstplan!B5:BH5,\"*\"&($M$3)&\"*\")-COUNTIF(Dienstplan!B5:BH5,\"*_\"&($M$3)&\"*\")","v":1},{"$f":"COUNTIF(Dienstplan!B5:BH5,\"*\"&($N$3)&\"*\")-COUNTIF(Dienstplan!B5:BH5,\"*_\"&($N$3)&\"*\")","v":0},{"$f":"COUNTIF(Dienstplan!B5:BH5,\"*\"&($O$3)&\"*\")-COUNTIF(Dienstplan!B5:BH5,\"*_\"&($O$3)&\"*\")","v":1},{"$f":"COUNTIF(Dienstplan!B5:BH5,\"*\"&($P$3)&\"*\")-COUNTIF(Dienstplan!B5:BH5,\"*_\"&($P$3)&\"*\")","v":1},{"$f":"COUNTIF(Dienstplan!B5:BH5,\"*\"&($Q$3)&\"*\")-COUNTIF(Dienstplan!B5:BH5,\"*_\"&($Q$3)&\"*\")","v":0},{"$f":"COUNTIF(Dienstplan!B5:BH5,\"*\"&($R$3)&\"*\")-COUNTIF(Dienstplan!B5:BH5,\"*_\"&($R$3)&\"*\")","v":1},{"$f":"COUNTIF(Dienstplan!B5:BH5,\"*\"&($S$3)&\"*\")-COUNTIF(Dienstplan!B5:BH5,\"*_\"&($S$3)&\"*\")","v":0},{"$f":"COUNTIF(Dienstplan!B5:BH5,\"*\"&($T$3)&\"*\")-COUNTIF(Dienstplan!B5:BH5,\"*_\"&($T$3)&\"*\")","v":1},{"$f":"COUNTIF(Dienstplan!B5:BH5,\"*\"&($U$3)&\"*\")-COUNTIF(Dienstplan!B5:BH5,\"*_\"&($U$3)&\"*\")","v":1},{"$f":"COUNTIF(Dienstplan!B5:BH5,\"*\"&($V$3)&\"*\")-COUNTIF(Dienstplan!B5:BH5,\"*_\"&($V$3)&\"*\")","v":1},{"$f":"COUNTIF(Dienstplan!B5:BH5,\"*\"&($W$3)&\"*\")-COUNTIF(Dienstplan!B5:BH5,\"*_\"&($W$3)&\"*\")","v":0},{"$f":"COUNTIF(Dienstplan!B5:BH5,\"*\"&($X$3)&\"*\")-COUNTIF(Dienstplan!B5:BH5,\"*_\"&($X$3)&\"*\")","v":0},{"$f":"COUNTIF(Dienstplan!B5:BH5,\"*\"&($Y$3)&\"*\")-COUNTIF(Dienstplan!B5:BH5,\"*_\"&($Y$3)&\"*\")","v":0},{"$f":"COUNTIF(Dienstplan!B5:BH5,\"*\"&($Z$3)&\"*\")-COUNTIF(Dienstplan!B5:BH5,\"*_\"&($Z$3)&\"*\")","v":0},{"$f":"COUNTIF(Dienstplan!B5:BH5,\"*\"&($AA$3)&\"*\")-COUNTIF(Dienstplan!B5:BH5,\"*_\"&($AA$3)&\"*\")","v":0},{"$f":"COUNTIF(Dienstplan!B5:BH5,\"*\"&($AB$3)&\"*\")-COUNTIF(Dienstplan!B5:BH5,\"*_\"&($AB$3)&\"*\")","v":0},{"$f":"COUNTIF(Dienstplan!B5:BH5,\"*\"&($AC$3)&\"*\")-COUNTIF(Dienstplan!B5:BH5,\"*_\"&($AC$3)&\"*\")","v":0},{"$f":"COUNTIF(Dienstplan!B5:BH5,\"*\"&($AD$3)&\"*\")-COUNTIF(Dienstplan!B5:BH5,\"*_\"&($AD$3)&\"*\")","v":0},{"$f":"COUNTIF(Dienstplan!B5:BH5,\"*\"&($AE$3)&\"*\")-COUNTIF(Dienstplan!B5:BH5,\"*_\"&($AE$3)&\"*\")","v":0},{"$f":"COUNTIF(Dienstplan!B5:BH5,\"*\"&($AF$3)&\"*\")-COUNTIF(Dienstplan!B5:BH5,\"*_\"&($AF$3)&\"*\")","v":0},{"$f":"COUNTIF(Dienstplan!$B5:$BH5,\"*\"&($AG$3)&\"*\")-COUNTIF(Dienstplan!$B5:$BH5,\"*_\"&($AG$3)&\"*\")","v":0},{"$f":"COUNTIF(Dienstplan!B5:BH5,\"*\"&($AH$3)&\"*\")-COUNTIF(Dienstplan!B5:BH5,\"*_\"&($AH$3)&\"*\")","v":0},{"$f":"COUNTIF(Dienstplan!B5:BH5,\"*\"&($AI$3)&\"*\")-COUNTIF(Dienstplan!B5:BH5,\"*_\"&($AI$3)&\"*\")","v":0},{"$f":"COUNTIF(Dienstplan!$B5:$BH5,\"*\"&($AJ$3)&\"*\")-COUNTIF(Dienstplan!$B5:$BH5,\"*_\"&($AJ$3)&\"*\")","v":0}]
[{"$f":"COUNTIF(Dienstplan!B6:BH6,\"*\"&($A$3)&\"*\")-COUNTIF(Dienstplan!B6:BH6,\"*_\"&($A$3)&\"*\")","v":0},{"$f":"COUNTIF(Dienstplan!B6:BH6,\"*\"&($B$3)&\"*\")-COUNTIF(Dienstplan!B6:BH6,\"*_\"&($B$3)&\"*\")","v":0},{"$f":"COUNTIF(Dienstplan!B6:BH6,\"*\"&($C$3)&\"*\")-COUNTIF(Dienstplan!B6:BH6,\"*_\"&($C$3)&\"*\")","v":0},{"$f":"COUNTIF(Dienstplan!B6:BH6,\"*\"&($D$3)&\"*\")-COUNTIF(Dienstplan!B6:BH6,\"*_\"&($D$3)&\"*\")","v":0},{"$f":"COUNTIF(Dienstplan!B6:BH6,\"*\"&($E$3)&\"*\")-COUNTIF(Dienstplan!B6:BH6,\"*_\"&($E$3)&\"*\")","v":0},{"$f":"COUNTIF(Dienstplan!B6:BH6,\"*\"&($F$3)&\"*\")-COUNTIF(Dienstplan!B6:BH6,\"*_\"&($F$3)&\"*\")","v":1},{"$f":"COUNTIF(Dienstplan!B6:BH6,\"*\"&($G$3)&\"*\")-COUNTIF(Dienstplan!B6:BH6,\"*_\"&($G$3)&\"*\")","v":1},{"$f":"COUNTIF(Dienstplan!B6:BH6,\"*\"&($H$3)&\"*\")-COUNTIF(Dienstplan!B6:BH6,\"*_\"&($H$3)&\"*\")","v":1},{"$f":"COUNTIF(Dienstplan!B6:BH6,\"*\"&($I$3)&\"*\")-COUNTIF(Dienstplan!B6:BH6,\"*_\"&($I$3)&\"*\")","v":1},{"$f":"COUNTIF(Dienstplan!B6:BH6,\"*\"&($J$3)&\"*\")-COUNTIF(Dienstplan!B6:BH6,\"*_\"&($J$3)&\"*\")","v":1},{"$f":"COUNTIF(Dienstplan!B6:BH6,\"*\"&($K$3)&\"*\")-COUNTIF(Dienstplan!B6:BH6,\"*_\"&($K$3)&\"*\")","v":1},{"$f":"COUNTIF(Dienstplan!B6:BH6,\"*\"&($L$3)&\"*\")-COUNTIF(Dienstplan!B6:BH6,\"*_\"&($L$3)&\"*\")","v":1},{"$f":"COUNTIF(Dienstplan!B6:BH6,\"*\"&($M$3)&\"*\")-COUNTIF(Dienstplan!B6:BH6,\"*_\"&($M$3)&\"*\")","v":1},{"$f":"COUNTIF(Dienstplan!B6:BH6,\"*\"&($N$3)&\"*\")-COUNTIF(Dienstplan!B6:BH6,\"*_\"&($N$3)&\"*\")","v":1},{"$f":"COUNTIF(Dienstplan!B6:BH6,\"*\"&($O$3)&\"*\")-COUNTIF(Dienstplan!B6:BH6,\"*_\"&($O$3)&\"*\")","v":1},{"$f":"COUNTIF(Dienstplan!B6:BH6,\"*\"&($P$3)&\"*\")-COUNTIF(Dienstplan!B6:BH6,\"*_\"&($P$3)&\"*\")","v":1},{"$f":"COUNTIF(Dienstplan!B6:BH6,\"*\"&($Q$3)&\"*\")-COUNTIF(Dienstplan!B6:BH6,\"*_\"&($Q$3)&\"*\")","v":0},{"$f":"COUNTIF(Dienstplan!B6:BH6,\"*\"&($R$3)&\"*\")-COUNTIF(Dienstplan!B6:BH6,\"*_\"&($R$3)&\"*\")","v":1},{"$f":"COUNTIF(Dienstplan!B6:BH6,\"*\"&($S$3)&\"*\")-COUNTIF(Dienstplan!B6:BH6,\"*_\"&($S$3)&\"*\")","v":1},{"$f":"COUNTIF(Dienstplan!B6:BH6,\"*\"&($T$3)&\"*\")-COUNTIF(Dienstplan!B6:BH6,\"*_\"&($T$3)&\"*\")","v":1},{"$f":"COUNTIF(Dienstplan!B6:BH6,\"*\"&($U$3)&\"*\")-COUNTIF(Dienstplan!B6:BH6,\"*_\"&($U$3)&\"*\")","v":1},{"$f":"COUNTIF(Dienstplan!B6:BH6,\"*\"&($V$3)&\"*\")-COUNTIF(Dienstplan!B6:BH6,\"*_\"&($V$3)&\"*\")","v":1},{"$f":"COUNTIF(Dienstplan!B6:BH6,\"*\"&($W$3)&\"*\")-COUNTIF(Dienstplan!B6:BH6,\"*_\"&($W$3)&\"*\")","v":0},{"$f":"COUNTIF(Dienstplan!B6:BH6,\"*\"&($X$3)&\"*\")-COUNTIF(Dienstplan!B6:BH6,\"*_\"&($X$3)&\"*\")","v":0},{"$f":"COUNTIF(Dienstplan!B6:BH6,\"*\"&($Y$3)&\"*\")-COUNTIF(Dienstplan!B6:BH6,\"*_\"&($Y$3)&\"*\")","v":0},{"$f":"COUNTIF(Dienstplan!B6:BH6,\"*\"&($Z$3)&\"*\")-COUNTIF(Dienstplan!B6:BH6,\"*_\"&($Z$3)&\"*\")","v":0},{"$f":"COUNTIF(Dienstplan!B6:BH6,\"*\"&($AA$3)&\"*\")-COUNTIF(Dienstplan!B6:BH6,\"*_\"&($AA$3)&\"*\")","v":0},{"$f":"COUNTIF(Dienstplan!B6:BH6,\"*\"&($AB$3)&\"*\")-COUNTIF(Dienstplan!B6:BH6,\"*_\"&($AB$3)&\"*\")","v":0},{"$f":"COUNTIF(Dienstplan!B6:BH6,\"*\"&($AC$3)&\"*\")-COUNTIF(Dienstplan!B6:BH6,\"*_\"&($AC$3)&\"*\")","v":0},{"$f":"COUNTIF(Dienstplan!B6:BH6,\"*\"&($AD$3)&\"*\")-COUNTIF(Dienstplan!B6:BH6,\"*_\"&($AD$3)&\"*\")","v":0},{"$f":"COUNTIF(Dienstplan!B6:BH6,\"*\"&($AE$3)&\"*\")-COUNTIF(Dienstplan!B6:BH6,\"*_\"&($AE$3)&\"*\")","v":0},{"$f":"COUNTIF(Dienstplan!B6:BH6,\"*\"&($AF$3)&\"*\")-COUNTIF(Dienstplan!B6:BH6,\"*_\"&($AF$3)&\"*\")","v":0},{"$f":"COUNTIF(Dienstplan!B6:BH6,\"*\"&($AG$3)&\"*\")-COUNTIF(Dienstplan!B6:BH6,\"*_\"&($AG$3)&\"*\")","v":0},{"$f":"COUNTIF(Dienstplan!B6:BH6,\"*\"&($AH$3)&\"*\")-COUNTIF(Dienstplan!B6:BH6,\"*_\"&($AH$3)&\"*\")","v":0},{"$f":"COUNTIF(Dienstplan!B6:BH6,\"*\"&($AI$3)&\"*\")-COUNTIF(Dienstplan!B6:BH6,\"*_\"&($AI$3)&\"*\")","v":0},{"$f":"COUNTIF(Dienstplan!$B6:$BH6,\"*\"&($AJ$3)&\"*\")-COUNTIF(Dienstplan!$B6:$BH6,\"*_\"&($AJ$3)&\"*\")","v":0}]
[{"$f":"COUNTIF(Dienstplan!B7:BH7,\"*\"&($A$3)&\"*\")-COUNTIF(Dienstplan!B7:BH7,\"*_\"&($A$3)&\"*\")","v":0},{"$f":"COUNTIF(Dienstplan!B7:BH7,\"*\"&($B$3)&\"*\")-COUNTIF(Dienstplan!B7:BH7,\"*_\"&($B$3)&\"*\")","v":0},{"$f":"COUNTIF(Dienstplan!B7:BH7,\"*\"&($C$3)&\"*\")-COUNTIF(Dienstplan!B7:BH7,\"*_\"&($C$3)&\"*\")","v":0},{"$f":"COUNTIF(Dienstplan!B7:BH7,\"*\"&($D$3)&\"*\")-COUNTIF(Dienstplan!B7:BH7,\"*_\"&($D$3)&\"*\")","v":0},{"$f":"COUNTIF(Dienstplan!B7:BH7,\"*\"&($E$3)&\"*\")-COUNTIF(Dienstplan!B7:BH7,\"*_\"&($E$3)&\"*\")","v":0},{"$f":"COUNTIF(Dienstplan!B7:BH7,\"*\"&($F$3)&\"*\")-COUNTIF(Dienstplan!B7:BH7,\"*_\"&($F$3)&\"*\")","v":1},{"$f":"COUNTIF(Dienstplan!B7:BH7,\"*\"&($G$3)&\"*\")-COUNTIF(Dienstplan!B7:BH7,\"*_\"&($G$3)&\"*\")","v":1},{"$f":"COUNTIF(Dienstplan!B7:BH7,\"*\"&($H$3)&\"*\")-COUNTIF(Dienstplan!B7:BH7,\"*_\"&($H$3)&\"*\")","v":1},{"$f":"COUNTIF(Dienstplan!B7:BH7,\"*\"&($I$3)&\"*\")-COUNTIF(Dienstplan!B7:BH7,\"*_\"&($I$3)&\"*\")","v":1},{"$f":"COUNTIF(Dienstplan!B7:BH7,\"*\"&($J$3)&\"*\")-COUNTIF(Dienstplan!B7:BH7,\"*_\"&($J$3)&\"*\")","v":1},{"$f":"COUNTIF(Dienstplan!B7:BH7,\"*\"&($K$3)&\"*\")-COUNTIF(Dienstplan!B7:BH7,\"*_\"&($K$3)&\"*\")","v":1},{"$f":"COUNTIF(Dienstplan!B7:BH7,\"*\"&($L$3)&\"*\")-COUNTIF(Dienstplan!B7:BH7,\"*_\"&($L$3)&\"*\")","v":1},{"$f":"COUNTIF(Dienstplan!B7:BH7,\"*\"&($M$3)&\"*\")-COUNTIF(Dienstplan!B7:BH7,\"*_\"&($M$3)&\"*\")","v":1},{"$f":"COUNTIF(Dienstplan!B7:BH7,\"*\"&($N$3)&\"*\")-COUNTIF(Dienstplan!B7:BH7,\"*_\"&($N$3)&\"*\")","v":0},{"$f":"COUNTIF(Dienstplan!B7:BH7,\"*\"&($O$3)&\"*\")-COUNTIF(Dienstplan!B7:BH7,\"*_\"&($O$3)&\"*\")","v":1},{"$f":"COUNTIF(Dienstplan!B7:BH7,\"*\"&($P$3)&\"*\")-COUNTIF(Dienstplan!B7:BH7,\"*_\"&($P$3)&\"*\")","v":1},{"$f":"COUNTIF(Dienstplan!B7:BH7,\"*\"&($Q$3)&\"*\")-COUNTIF(Dienstplan!B7:BH7,\"*_\"&($Q$3)&\"*\")","v":0},{"$f":"COUNTIF(Dienstplan!B7:BH7,\"*\"&($R$3)&\"*\")-COUNTIF(Dienstplan!B7:BH7,\"*_\"&($R$3)&\"*\")","v":1},{"$f":"COUNTIF(Dienstplan!B7:BH7,\"*\"&($S$3)&\"*\")-COUNTIF(Dienstplan!B7:BH7,\"*_\"&($S$3)&\"*\")","v":1},{"$f":"COUNTIF(Dienstplan!B7:BH7,\"*\"&($T$3)&\"*\")-COUNTIF(Dienstplan!B7:BH7,\"*_\"&($T$3)&\"*\")","v":1},{"$f":"COUNTIF(Dienstplan!B7:BH7,\"*\"&($U$3)&\"*\")-COUNTIF(Dienstplan!B7:BH7,\"*_\"&($U$3)&\"*\")","v":1},{"$f":"COUNTIF(Dienstplan!B7:BH7,\"*\"&($V$3)&\"*\")-COUNTIF(Dienstplan!B7:BH7,\"*_\"&($V$3)&\"*\")","v":1},{"$f":"COUNTIF(Dienstplan!B7:BH7,\"*\"&($W$3)&\"*\")-COUNTIF(Dienstplan!B7:BH7,\"*_\"&($W$3)&\"*\")","v":0},{"$f":"COUNTIF(Dienstplan!B7:BH7,\"*\"&($X$3)&\"*\")-COUNTIF(Dienstplan!B7:BH7,\"*_\"&($X$3)&\"*\")","v":0},{"$f":"COUNTIF(Dienstplan!B7:BH7,\"*\"&($Y$3)&\"*\")-COUNTIF(Dienstplan!B7:BH7,\"*_\"&($Y$3)&\"*\")","v":0},{"$f":"COUNTIF(Dienstplan!B7:BH7,\"*\"&($Z$3)&\"*\")-COUNTIF(Dienstplan!B7:BH7,\"*_\"&($Z$3)&\"*\")","v":0},{"$f":"COUNTIF(Dienstplan!B7:BH7,\"*\"&($AA$3)&\"*\")-COUNTIF(Dienstplan!B7:BH7,\"*_\"&($AA$3)&\"*\")","v":0},{"$f":"COUNTIF(Dienstplan!B7:BH7,\"*\"&($AB$3)&\"*\")-COUNTIF(Dienstplan!B7:BH7,\"*_\"&($AB$3)&\"*\")","v":0},{"$f":"COUNTIF(Dienstplan!B7:BH7,\"*\"&($AC$3)&\"*\")-COUNTIF(Dienstplan!B7:BH7,\"*_\"&($AC$3)&\"*\")","v":0},{"$f":"COUNTIF(Dienstplan!B7:BH7,\"*\"&($AD$3)&\"*\")-COUNTIF(Dienstplan!B7:BH7,\"*_\"&($AD$3)&\"*\")","v":0},{"$f":"COUNTIF(Dienstplan!B7:BH7,\"*\"&($AE$3)&\"*\")-COUNTIF(Dienstplan!B7:BH7,\"*_\"&($AE$3)&\"*\")","v":0},{"$f":"COUNTIF(Dienstplan!B7:BH7,\"*\"&($AF$3)&\"*\")-COUNTIF(Dienstplan!B7:BH7,\"*_\"&($AF$3)&\"*\")","v":0},{"$f":"COUNTIF(Dienstplan!B7:BH7,\"*\"&($AG$3)&\"*\")-COUNTIF(Dienstplan!B7:BH7,\"*_\"&($AG$3)&\"*\")","v":0},{"$f":"COUNTIF(Dienstplan!B7:BH7,\"*\"&($AH$3)&\"*\")-COUNTIF(Dienstplan!B7:BH7,\"*_\"&($AH$3)&\"*\")","v":0},{"$f":"COUNTIF(Dienstplan!B7:BH7,\"*\"&($AI$3)&\"*\")-COUNTIF(Dienstplan!B7:BH7,\"*_\"&($AI$3)&\"*\")","v":0},{"$f":"COUNTIF(Dienstplan!$B7:$BH7,\"*\"&($AJ$3)&\"*\")-COUNTIF(Dienstplan!$B7:$BH7,\"*_\"&($AJ$3)&\"*\")","v":0}]
[{"$f":"COUNTIF(Dienstplan!B8:BH8,\"*\"&($A$3)&\"*\")-COUNTIF(Dienstplan!B8:BH8,\"*_\"&($A$3)&\"*\")","v":0},{"$f":"COUNTIF(Dienstplan!B8:BH8,\"*\"&($B$3)&\"*\")-COUNTIF(Dienstplan!B8:BH8,\"*_\"&($B$3)&\"*\")","v":0},{"$f":"COUNTIF(Dienstplan!B8:BH8,\"*\"&($C$3)&\"*\")-COUNTIF(Dienstplan!B8:BH8,\"*_\"&($C$3)&\"*\")","v":0},{"$f":"COUNTIF(Dienstplan!B8:BH8,\"*\"&($D$3)&\"*\")-COUNTIF(Dienstplan!B8:BH8,\"*_\"&($D$3)&\"*\")","v":0},{"$f":"COUNTIF(Dienstplan!B8:BH8,\"*\"&($E$3)&\"*\")-COUNTIF(Dienstplan!B8:BH8,\"*_\"&($E$3)&\"*\")","v":0},{"$f":"COUNTIF(Dienstplan!B8:BH8,\"*\"&($F$3)&\"*\")-COUNTIF(Dienstplan!B8:BH8,\"*_\"&($F$3)&\"*\")","v":1},{"$f":"COUNTIF(Dienstplan!B8:BH8,\"*\"&($G$3)&\"*\")-COUNTIF(Dienstplan!B8:BH8,\"*_\"&($G$3)&\"*\")","v":1},{"$f":"COUNTIF(Dienstplan!B8:BH8,\"*\"&($H$3)&\"*\")-COUNTIF(Dienstplan!B8:BH8,\"*_\"&($H$3)&\"*\")","v":1},{"$f":"COUNTIF(Dienstplan!B8:BH8,\"*\"&($I$3)&\"*\")-COUNTIF(Dienstplan!B8:BH8,\"*_\"&($I$3)&\"*\")","v":1},{"$f":"COUNTIF(Dienstplan!B8:BH8,\"*\"&($J$3)&\"*\")-COUNTIF(Dienstplan!B8:BH8,\"*_\"&($J$3)&\"*\")","v":1},{"$f":"COUNTIF(Dienstplan!B8:BH8,\"*\"&($K$3)&\"*\")-COUNTIF(Dienstplan!B8:BH8,\"*_\"&($K$3)&\"*\")","v":1},{"$f":"COUNTIF(Dienstplan!B8:BH8,\"*\"&($L$3)&\"*\")-COUNTIF(Dienstplan!B8:BH8,\"*_\"&($L$3)&\"*\")","v":1},{"$f":"COUNTIF(Dienstplan!B8:BH8,\"*\"&($M$3)&\"*\")-COUNTIF(Dienstplan!B8:BH8,\"*_\"&($M$3)&\"*\")","v":1},{"$f":"COUNTIF(Dienstplan!B8:BH8,\"*\"&($N$3)&\"*\")-COUNTIF(Dienstplan!B8:BH8,\"*_\"&($N$3)&\"*\")","v":0},{"$f":"COUNTIF(Dienstplan!B8:BH8,\"*\"&($O$3)&\"*\")-COUNTIF(Dienstplan!B8:BH8,\"*_\"&($O$3)&\"*\")","v":1},{"$f":"COUNTIF(Dienstplan!B8:BH8,\"*\"&($P$3)&\"*\")-COUNTIF(Dienstplan!B8:BH8,\"*_\"&($P$3)&\"*\")","v":1},{"$f":"COUNTIF(Dienstplan!B8:BH8,\"*\"&($Q$3)&\"*\")-COUNTIF(Dienstplan!B8:BH8,\"*_\"&($Q$3)&\"*\")","v":0},{"$f":"COUNTIF(Dienstplan!B8:BH8,\"*\"&($R$3)&\"*\")-COUNTIF(Dienstplan!B8:BH8,\"*_\"&($R$3)&\"*\")","v":1},{"$f":"COUNTIF(Dienstplan!B8:BH8,\"*\"&($S$3)&\"*\")-COUNTIF(Dienstplan!B8:BH8,\"*_\"&($S$3)&\"*\")","v":1},{"$f":"COUNTIF(Dienstplan!B8:BH8,\"*\"&($T$3)&\"*\")-COUNTIF(Dienstplan!B8:BH8,\"*_\"&($T$3)&\"*\")","v":1},{"$f":"COUNTIF(Dienstplan!B8:BH8,\"*\"&($U$3)&\"*\")-COUNTIF(Dienstplan!B8:BH8,\"*_\"&($U$3)&\"*\")","v":1},{"$f":"COUNTIF(Dienstplan!B8:BH8,\"*\"&($V$3)&\"*\")-COUNTIF(Dienstplan!B8:BH8,\"*_\"&($V$3)&\"*\")","v":1},{"$f":"COUNTIF(Dienstplan!B8:BH8,\"*\"&($W$3)&\"*\")-COUNTIF(Dienstplan!B8:BH8,\"*_\"&($W$3)&\"*\")","v":0},{"$f":"COUNTIF(Dienstplan!B8:BH8,\"*\"&($X$3)&\"*\")-COUNTIF(Dienstplan!B8:BH8,\"*_\"&($X$3)&\"*\")","v":0},{"$f":"COUNTIF(Dienstplan!B8:BH8,\"*\"&($Y$3)&\"*\")-COUNTIF(Dienstplan!B8:BH8,\"*_\"&($Y$3)&\"*\")","v":0},{"$f":"COUNTIF(Dienstplan!B8:BH8,\"*\"&($Z$3)&\"*\")-COUNTIF(Dienstplan!B8:BH8,\"*_\"&($Z$3)&\"*\")","v":0},{"$f":"COUNTIF(Dienstplan!B8:BH8,\"*\"&($AA$3)&\"*\")-COUNTIF(Dienstplan!B8:BH8,\"*_\"&($AA$3)&\"*\")","v":0},{"$f":"COUNTIF(Dienstplan!B8:BH8,\"*\"&($AB$3)&\"*\")-COUNTIF(Dienstplan!B8:BH8,\"*_\"&($AB$3)&\"*\")","v":0},{"$f":"COUNTIF(Dienstplan!B8:BH8,\"*\"&($AC$3)&\"*\")-COUNTIF(Dienstplan!B8:BH8,\"*_\"&($AC$3)&\"*\")","v":0},{"$f":"COUNTIF(Dienstplan!B8:BH8,\"*\"&($AD$3)&\"*\")-COUNTIF(Dienstplan!B8:BH8,\"*_\"&($AD$3)&\"*\")","v":0},{"$f":"COUNTIF(Dienstplan!B8:BH8,\"*\"&($AE$3)&\"*\")-COUNTIF(Dienstplan!B8:BH8,\"*_\"&($AE$3)&\"*\")","v":0},{"$f":"COUNTIF(Dienstplan!B8:BH8,\"*\"&($AF$3)&\"*\")-COUNTIF(Dienstplan!B8:BH8,\"*_\"&($AF$3)&\"*\")","v":0},{"$f":"COUNTIF(Dienstplan!B8:BH8,\"*\"&($AG$3)&\"*\")-COUNTIF(Dienstplan!B8:BH8,\"*_\"&($AG$3)&\"*\")","v":0},{"$f":"COUNTIF(Dienstplan!B8:BH8,\"*\"&($AH$3)&\"*\")-COUNTIF(Dienstplan!B8:BH8,\"*_\"&($AH$3)&\"*\")","v":0},{"$f":"COUNTIF(Dienstplan!B8:BH8,\"*\"&($AI$3)&\"*\")-COUNTIF(Dienstplan!B8:BH8,\"*_\"&($AI$3)&\"*\")","v":0},{"$f":"COUNTIF(Dienstplan!$B8:$BH8,\"*\"&($AJ$3)&\"*\")-COUNTIF(Dienstplan!$B8:$BH8,\"*_\"&($AJ$3)&\"*\")","v":0}]
[{"$f":"COUNTIF(Dienstplan!B9:BH9,\"*\"&($A$3)&\"*\")-COUNTIF(Dienstplan!B9:BH9,\"*_\"&($A$3)&\"*\")","v":0},{"$f":"COUNTIF(Dienstplan!B9:BH9,\"*\"&($B$3)&\"*\")-COUNTIF(Dienstplan!B9:BH9,\"*_\"&($B$3)&\"*\")","v":0},{"$f":"COUNTIF(Dienstplan!B9:BH9,\"*\"&($C$3)&\"*\")-COUNTIF(Dienstplan!B9:BH9,\"*_\"&($C$3)&\"*\")","v":0},{"$f":"COUNTIF(Dienstplan!B9:BH9,\"*\"&($D$3)&\"*\")-COUNTIF(Dienstplan!B9:BH9,\"*_\"&($D$3)&\"*\")","v":0},{"$f":"COUNTIF(Dienstplan!B9:BH9,\"*\"&($E$3)&\"*\")-COUNTIF(Dienstplan!B9:BH9,\"*_\"&($E$3)&\"*\")","v":0},{"$f":"COUNTIF(Dienstplan!B9:BH9,\"*\"&($F$3)&\"*\")-COUNTIF(Dienstplan!B9:BH9,\"*_\"&($F$3)&\"*\")","v":0},{"$f":"COUNTIF(Dienstplan!B9:BH9,\"*\"&($G$3)&\"*\")-COUNTIF(Dienstplan!B9:BH9,\"*_\"&($G$3)&\"*\")","v":1},{"$f":"COUNTIF(Dienstplan!B9:BH9,\"*\"&($H$3)&\"*\")-COUNTIF(Dienstplan!B9:BH9,\"*_\"&($H$3)&\"*\")","v":1},{"$f":"COUNTIF(Dienstplan!B9:BH9,\"*\"&($I$3)&\"*\")-COUNTIF(Dienstplan!B9:BH9,\"*_\"&($I$3)&\"*\")","v":1},{"$f":"COUNTIF(Dienstplan!B9:BH9,\"*\"&($J$3)&\"*\")-COUNTIF(Dienstplan!B9:BH9,\"*_\"&($J$3)&\"*\")","v":0},{"$f":"COUNTIF(Dienstplan!B9:BH9,\"*\"&($K$3)&\"*\")-COUNTIF(Dienstplan!B9:BH9,\"*_\"&($K$3)&\"*\")","v":1},{"$f":"COUNTIF(Dienstplan!B9:BH9,\"*\"&($L$3)&\"*\")-COUNTIF(Dienstplan!B9:BH9,\"*_\"&($L$3)&\"*\")","v":1},{"$f":"COUNTIF(Dienstplan!B9:BH9,\"*\"&($M$3)&\"*\")-COUNTIF(Dienstplan!B9:BH9,\"*_\"&($M$3)&\"*\")","v":1},{"$f":"COUNTIF(Dienstplan!B9:BH9,\"*\"&($N$3)&\"*\")-COUNTIF(Dienstplan!B9:BH9,\"*_\"&($N$3)&\"*\")","v":1},{"$f":"COUNTIF(Dienstplan!B9:BH9,\"*\"&($O$3)&\"*\")-COUNTIF(Dienstplan!B9:BH9,\"*_\"&($O$3)&\"*\")","v":1},{"$f":"COUNTIF(Dienstplan!B9:BH9,\"*\"&($P$3)&\"*\")-COUNTIF(Dienstplan!B9:BH9,\"*_\"&($P$3)&\"*\")","v":0},{"$f":"COUNTIF(Dienstplan!B9:BH9,\"*\"&($Q$3)&\"*\")-COUNTIF(Dienstplan!B9:BH9,\"*_\"&($Q$3)&\"*\")","v":0},{"$f":"COUNTIF(Dienstplan!B9:BH9,\"*\"&($R$3)&\"*\")-COUNTIF(Dienstplan!B9:BH9,\"*_\"&($R$3)&\"*\")","v":0},{"$f":"COUNTIF(Dienstplan!B9:BH9,\"*\"&($S$3)&\"*\")-COUNTIF(Dienstplan!B9:BH9,\"*_\"&($S$3)&\"*\")","v":1},{"$f":"COUNTIF(Dienstplan!B9:BH9,\"*\"&($T$3)&\"*\")-COUNTIF(Dienstplan!B9:BH9,\"*_\"&($T$3)&\"*\")","v":1},{"$f":"COUNTIF(Dienstplan!B9:BH9,\"*\"&($U$3)&\"*\")-COUNTIF(Dienstplan!B9:BH9,\"*_\"&($U$3)&\"*\")","v":1},{"$f":"COUNTIF(Dienstplan!B9:BH9,\"*\"&($V$3)&\"*\")-COUNTIF(Dienstplan!B9:BH9,\"*_\"&($V$3)&\"*\")","v":1},{"$f":"COUNTIF(Dienstplan!B9:BH9,\"*\"&($W$3)&\"*\")-COUNTIF(Dienstplan!B9:BH9,\"*_\"&($W$3)&\"*\")","v":0},{"$f":"COUNTIF(Dienstplan!B9:BH9,\"*\"&($X$3)&\"*\")-COUNTIF(Dienstplan!B9:BH9,\"*_\"&($X$3)&\"*\")","v":0},{"$f":"COUNTIF(Dienstplan!B9:BH9,\"*\"&($Y$3)&\"*\")-COUNTIF(Dienstplan!B9:BH9,\"*_\"&($Y$3)&\"*\")","v":0},{"$f":"COUNTIF(Dienstplan!B9:BH9,\"*\"&($Z$3)&\"*\")-COUNTIF(Dienstplan!B9:BH9,\"*_\"&($Z$3)&\"*\")","v":0},{"$f":"COUNTIF(Dienstplan!B9:BH9,\"*\"&($AA$3)&\"*\")-COUNTIF(Dienstplan!B9:BH9,\"*_\"&($AA$3)&\"*\")","v":0},{"$f":"COUNTIF(Dienstplan!B9:BH9,\"*\"&($AB$3)&\"*\")-COUNTIF(Dienstplan!B9:BH9,\"*_\"&($AB$3)&\"*\")","v":0},{"$f":"COUNTIF(Dienstplan!B9:BH9,\"*\"&($AC$3)&\"*\")-COUNTIF(Dienstplan!B9:BH9,\"*_\"&($AC$3)&\"*\")","v":0},{"$f":"COUNTIF(Dienstplan!B9:BH9,\"*\"&($AD$3)&\"*\")-COUNTIF(Dienstplan!B9:BH9,\"*_\"&($AD$3)&\"*\")","v":0},{"$f":"COUNTIF(Dienstplan!B9:BH9,\"*\"&($AE$3)&\"*\")-COUNTIF(Dienstplan!B9:BH9,\"*_\"&($AE$3)&\"*\")","v":0},{"$f":"COUNTIF(Dienstplan!B9:BH9,\"*\"&($AF$3)&\"*\")-COUNTIF(Dienstplan!B9:BH9,\"*_\"&($AF$3)&\"*\")","v":0},{"$f":"COUNTIF(Dienstplan!B9:BH9,\"*\"&($AG$3)&\"*\")-COUNTIF(Dienstplan!B9:BH9,\"*_\"&($AG$3)&\"*\")","v":0},{"$f":"COUNTIF(Dienstplan!B9:BH9,\"*\"&($AH$3)&\"*\")-COUNTIF(Dienstplan!B9:BH9,\"*_\"&($AH$3)&\"*\")","v":0},{"$f":"COUNTIF(Dienstplan!B9:BH9,\"*\"&($AI$3)&\"*\")-COUNTIF(Dienstplan!B9:BH9,\"*_\"&($AI$3)&\"*\")","v":0},{"$f":"COUNTIF(Dienstplan!$B9:$BH9,\"*\"&($AJ$3)&\"*\")-COUNTIF(Dienstplan!$B9:$BH9,\"*_\"&($AJ$3)&\"*\")","v":0}]
[{"$f":"COUNTIF(Dienstplan!B10:BH10,\"*\"&($A$3)&\"*\")-COUNTIF(Dienstplan!B10:BH10,\"*_\"&($A$3)&\"*\")","v":0},{"$f":"COUNTIF(Dienstplan!B10:BH10,\"*\"&($B$3)&\"*\")-COUNTIF(Dienstplan!B10:BH10,\"*_\"&($B$3)&\"*\")","v":0},{"$f":"COUNTIF(Dienstplan!B10:BH10,\"*\"&($C$3)&\"*\")-COUNTIF(Dienstplan!B10:BH10,\"*_\"&($C$3)&\"*\")","v":0},{"$f":"COUNTIF(Dienstplan!B10:BH10,\"*\"&($D$3)&\"*\")-COUNTIF(Dienstplan!B10:BH10,\"*_\"&($D$3)&\"*\")","v":0},{"$f":"COUNTIF(Dienstplan!B10:BH10,\"*\"&($E$3)&\"*\")-COUNTIF(Dienstplan!B10:BH10,\"*_\"&($E$3)&\"*\")","v":0},{"$f":"COUNTIF(Dienstplan!B10:BH10,\"*\"&($F$3)&\"*\")-COUNTIF(Dienstplan!B10:BH10,\"*_\"&($F$3)&\"*\")","v":0},{"$f":"COUNTIF(Dienstplan!B10:BH10,\"*\"&($G$3)&\"*\")-COUNTIF(Dienstplan!B10:BH10,\"*_\"&($G$3)&\"*\")","v":0},{"$f":"COUNTIF(Dienstplan!B10:BH10,\"*\"&($H$3)&\"*\")-COUNTIF(Dienstplan!B10:BH10,\"*_\"&($H$3)&\"*\")","v":0},{"$f":"COUNTIF(Dienstplan!B10:BH10,\"*\"&($I$3)&\"*\")-COUNTIF(Dienstplan!B10:BH10,\"*_\"&($I$3)&\"*\")","v":0},{"$f":"COUNTIF(Dienstplan!B10:BH10,\"*\"&($J$3)&\"*\")-COUNTIF(Dienstplan!B10:BH10,\"*_\"&($J$3)&\"*\")","v":0},{"$f":"COUNTIF(Dienstplan!B10:BH10,\"*\"&($K$3)&\"*\")-COUNTIF(Dienstplan!B10:BH10,\"*_\"&($K$3)&\"*\")","v":0},{"$f":"COUNTIF(Dienstplan!B10:BH10,\"*\"&($L$3)&\"*\")-COUNTIF(Dienstplan!B10:BH10,\"*_\"&($L$3)&\"*\")","v":1},{"$f":"COUNTIF(Dienstplan!B10:BH10,\"*\"&($M$3)&\"*\")-COUNTIF(Dienstplan!B10:BH10,\"*_\"&($M$3)&\"*\")","v":0},{"$f":"COUNTIF(Dienstplan!B10:BH10,\"*\"&($N$3)&\"*\")-COUNTIF(Dienstplan!B10:BH10,\"*_\"&($N$3)&\"*\")","v":0},{"$f":"COUNTIF(Dienstplan!B10:BH10,\"*\"&($O$3)&\"*\")-COUNTIF(Dienstplan!B10:BH10,\"*_\"&($O$3)&\"*\")","v":0},{"$f":"COUNTIF(Dienstplan!B10:BH10,\"*\"&($P$3)&\"*\")-COUNTIF(Dienstplan!B10:BH10,\"*_\"&($P$3)&\"*\")","v":0},{"$f":"COUNTIF(Dienstplan!B10:BH10,\"*\"&($Q$3)&\"*\")-COUNTIF(Dienstplan!B10:BH10,\"*_\"&($Q$3)&\"*\")","v":0},{"$f":"COUNTIF(Dienstplan!B10:BH10,\"*\"&($R$3)&\"*\")-COUNTIF(Dienstplan!B10:BH10,\"*_\"&($R$3)&\"*\")","v":0},{"$f":"COUNTIF(Dienstplan!B10:BH10,\"*\"&($S$3)&\"*\")-COUNTIF(Dienstplan!B10:BH10,\"*_\"&($S$3)&\"*\")","v":1},{"$f":"COUNTIF(Dienstplan!B10:BH10,\"*\"&($T$3)&\"*\")-COUNTIF(Dienstplan!B10:BH10,\"*_\"&($T$3)&\"*\")","v":0},{"$f":"COUNTIF(Dienstplan!B10:BH10,\"*\"&($U$3)&\"*\")-COUNTIF(Dienstplan!B10:BH10,\"*_\"&($U$3)&\"*\")","v":0},{"$f":"COUNTIF(Dienstplan!B10:BH10,\"*\"&($V$3)&\"*\")-COUNTIF(Dienstplan!B10:BH10,\"*_\"&($V$3)&\"*\")","v":0},{"$f":"COUNTIF(Dienstplan!B10:BH10,\"*\"&($W$3)&\"*\")-COUNTIF(Dienstplan!B10:BH10,\"*_\"&($W$3)&\"*\")","v":0},{"$f":"COUNTIF(Dienstplan!B10:BH10,\"*\"&($X$3)&\"*\")-COUNTIF(Dienstplan!B10:BH10,\"*_\"&($X$3)&\"*\")","v":0},{"$f":"COUNTIF(Dienstplan!B10:BH10,\"*\"&($Y$3)&\"*\")-COUNTIF(Dienstplan!B10:BH10,\"*_\"&($Y$3)&\"*\")","v":0},{"$f":"COUNTIF(Dienstplan!B10:BH10,\"*\"&($Z$3)&\"*\")-COUNTIF(Dienstplan!B10:BH10,\"*_\"&($Z$3)&\"*\")","v":0},{"$f":"COUNTIF(Dienstplan!B10:BH10,\"*\"&($AA$3)&\"*\")-COUNTIF(Dienstplan!B10:BH10,\"*_\"&($AA$3)&\"*\")","v":0},{"$f":"COUNTIF(Dienstplan!B10:BH10,\"*\"&($AB$3)&\"*\")-COUNTIF(Dienstplan!B10:BH10,\"*_\"&($AB$3)&\"*\")","v":0},{"$f":"COUNTIF(Dienstplan!B10:BH10,\"*\"&($AC$3)&\"*\")-COUNTIF(Dienstplan!B10:BH10,\"*_\"&($AC$3)&\"*\")","v":0},{"$f":"COUNTIF(Dienstplan!B10:BH10,\"*\"&($AD$3)&\"*\")-COUNTIF(Dienstplan!B10:BH10,\"*_\"&($AD$3)&\"*\")","v":0},{"$f":"COUNTIF(Dienstplan!B10:BH10,\"*\"&($AE$3)&\"*\")-COUNTIF(Dienstplan!B10:BH10,\"*_\"&($AE$3)&\"*\")","v":0},{"$f":"COUNTIF(Dienstplan!B10:BH10,\"*\"&($AF$3)&\"*\")-COUNTIF(Dienstplan!B10:BH10,\"*_\"&($AF$3)&\"*\")","v":0},{"$f":"COUNTIF(Dienstplan!B10:BH10,\"*\"&($AG$3)&\"*\")-COUNTIF(Dienstplan!B10:BH10,\"*_\"&($AG$3)&\"*\")","v":0},{"$f":"COUNTIF(Dienstplan!B10:BH10,\"*\"&($AH$3)&\"*\")-COUNTIF(Dienstplan!B10:BH10,\"*_\"&($AH$3)&\"*\")","v":0},{"$f":"COUNTIF(Dienstplan!B10:BH10,\"*\"&($AI$3)&\"*\")-COUNTIF(Dienstplan!B10:BH10,\"*_\"&($AI$3)&\"*\")","v":0},{"$f":"COUNTIF(Dienstplan!$B10:$BH10,\"*\"&($AJ$3)&\"*\")-COUNTIF(Dienstplan!$B10:$BH10,\"*_\"&($AJ$3)&\"*\")","v":0}]
[{"$f":"COUNTIF(Dienstplan!B11:BH11,\"*\"&($A$3)&\"*\")-COUNTIF(Dienstplan!B11:BH11,\"*_\"&($A$3)&\"*\")","v":0},{"$f":"COUNTIF(Dienstplan!B11:BH11,\"*\"&($B$3)&\"*\")-COUNTIF(Dienstplan!B11:BH11,\"*_\"&($B$3)&\"*\")","v":0},{"$f":"COUNTIF(Dienstplan!B11:BH11,\"*\"&($C$3)&\"*\")-COUNTIF(Dienstplan!B11:BH11,\"*_\"&($C$3)&\"*\")","v":0},{"$f":"COUNTIF(Dienstplan!B11:BH11,\"*\"&($D$3)&\"*\")-COUNTIF(Dienstplan!B11:BH11,\"*_\"&($D$3)&\"*\")","v":0},{"$f":"COUNTIF(Dienstplan!B11:BH11,\"*\"&($E$3)&\"*\")-COUNTIF(Dienstplan!B11:BH11,\"*_\"&($E$3)&\"*\")","v":0},{"$f":"COUNTIF(Dienstplan!B11:BH11,\"*\"&($F$3)&\"*\")-COUNTIF(Dienstplan!B11:BH11,\"*_\"&($F$3)&\"*\")","v":0},{"$f":"COUNTIF(Dienstplan!B11:BH11,\"*\"&($G$3)&\"*\")-COUNTIF(Dienstplan!B11:BH11,\"*_\"&($G$3)&\"*\")","v":0},{"$f":"COUNTIF(Dienstplan!B11:BH11,\"*\"&($H$3)&\"*\")-COUNTIF(Dienstplan!B11:BH11,\"*_\"&($H$3)&\"*\")","v":0},{"$f":"COUNTIF(Dienstplan!B11:BH11,\"*\"&($I$3)&\"*\")-COUNTIF(Dienstplan!B11:BH11,\"*_\"&($I$3)&\"*\")","v":0},{"$f":"COUNTIF(Dienstplan!B11:BH11,\"*\"&($J$3)&\"*\")-COUNTIF(Dienstplan!B11:BH11,\"*_\"&($J$3)&\"*\")","v":0},{"$f":"COUNTIF(Dienstplan!B11:BH11,\"*\"&($K$3)&\"*\")-COUNTIF(Dienstplan!B11:BH11,\"*_\"&($K$3)&\"*\")","v":0},{"$f":"COUNTIF(Dienstplan!B11:BH11,\"*\"&($L$3)&\"*\")-COUNTIF(Dienstplan!B11:BH11,\"*_\"&($L$3)&\"*\")","v":0},{"$f":"COUNTIF(Dienstplan!B11:BH11,\"*\"&($M$3)&\"*\")-COUNTIF(Dienstplan!B11:BH11,\"*_\"&($M$3)&\"*\")","v":0},{"$f":"COUNTIF(Dienstplan!B11:BH11,\"*\"&($N$3)&\"*\")-COUNTIF(Dienstplan!B11:BH11,\"*_\"&($N$3)&\"*\")","v":0},{"$f":"COUNTIF(Dienstplan!B11:BH11,\"*\"&($O$3)&\"*\")-COUNTIF(Dienstplan!B11:BH11,\"*_\"&($O$3)&\"*\")","v":0},{"$f":"COUNTIF(Dienstplan!B11:BH11,\"*\"&($P$3)&\"*\")-COUNTIF(Dienstplan!B11:BH11,\"*_\"&($P$3)&\"*\")","v":0},{"$f":"COUNTIF(Dienstplan!B11:BH11,\"*\"&($Q$3)&\"*\")-COUNTIF(Dienstplan!B11:BH11,\"*_\"&($Q$3)&\"*\")","v":0},{"$f":"COUNTIF(Dienstplan!B11:BH11,\"*\"&($R$3)&\"*\")-COUNTIF(Dienstplan!B11:BH11,\"*_\"&($R$3)&\"*\")","v":0},{"$f":"COUNTIF(Dienstplan!B11:BH11,\"*\"&($S$3)&\"*\")-COUNTIF(Dienstplan!B11:BH11,\"*_\"&($S$3)&\"*\")","v":0},{"$f":"COUNTIF(Dienstplan!B11:BH11,\"*\"&($T$3)&\"*\")-COUNTIF(Dienstplan!B11:BH11,\"*_\"&($T$3)&\"*\")","v":0},{"$f":"COUNTIF(Dienstplan!B11:BH11,\"*\"&($U$3)&\"*\")-COUNTIF(Dienstplan!B11:BH11,\"*_\"&($U$3)&\"*\")","v":0},{"$f":"COUNTIF(Dienstplan!B11:BH11,\"*\"&($V$3)&\"*\")-COUNTIF(Dienstplan!B11:BH11,\"*_\"&($V$3)&\"*\")","v":0},{"$f":"COUNTIF(Dienstplan!B11:BH11,\"*\"&($W$3)&\"*\")-COUNTIF(Dienstplan!B11:BH11,\"*_\"&($W$3)&\"*\")","v":0},{"$f":"COUNTIF(Dienstplan!B11:BH11,\"*\"&($X$3)&\"*\")-COUNTIF(Dienstplan!B11:BH11,\"*_\"&($X$3)&\"*\")","v":0},{"$f":"COUNTIF(Dienstplan!B11:BH11,\"*\"&($Y$3)&\"*\")-COUNTIF(Dienstplan!B11:BH11,\"*_\"&($Y$3)&\"*\")","v":0},{"$f":"COUNTIF(Dienstplan!B11:BH11,\"*\"&($Z$3)&\"*\")-COUNTIF(Dienstplan!B11:BH11,\"*_\"&($Z$3)&\"*\")","v":0},{"$f":"COUNTIF(Dienstplan!B11:BH11,\"*\"&($AA$3)&\"*\")-COUNTIF(Dienstplan!B11:BH11,\"*_\"&($AA$3)&\"*\")","v":0},{"$f":"COUNTIF(Dienstplan!B11:BH11,\"*\"&($AB$3)&\"*\")-COUNTIF(Dienstplan!B11:BH11,\"*_\"&($AB$3)&\"*\")","v":0},{"$f":"COUNTIF(Dienstplan!B11:BH11,\"*\"&($AC$3)&\"*\")-COUNTIF(Dienstplan!B11:BH11,\"*_\"&($AC$3)&\"*\")","v":0},{"$f":"COUNTIF(Dienstplan!B11:BH11,\"*\"&($AD$3)&\"*\")-COUNTIF(Dienstplan!B11:BH11,\"*_\"&($AD$3)&\"*\")","v":0},{"$f":"COUNTIF(Dienstplan!B11:BH11,\"*\"&($AE$3)&\"*\")-COUNTIF(Dienstplan!B11:BH11,\"*_\"&($AE$3)&\"*\")","v":0},{"$f":"COUNTIF(Dienstplan!B11:BH11,\"*\"&($AF$3)&\"*\")-COUNTIF(Dienstplan!B11:BH11,\"*_\"&($AF$3)&\"*\")","v":0},{"$f":"COUNTIF(Dienstplan!B11:BH11,\"*\"&($AG$3)&\"*\")-COUNTIF(Dienstplan!B11:BH11,\"*_\"&($AG$3)&\"*\")","v":0},{"$f":"COUNTIF(Dienstplan!B11:BH11,\"*\"&($AH$3)&\"*\")-COUNTIF(Dienstplan!B11:BH11,\"*_\"&($AH$3)&\"*\")","v":0},{"$f":"COUNTIF(Dienstplan!B11:BH11,\"*\"&($AI$3)&\"*\")-COUNTIF(Dienstplan!B11:BH11,\"*_\"&($AI$3)&\"*\")","v":0},{"$f":"COUNTIF(Dienstplan!$B11:$BH11,\"*\"&($AJ$3)&\"*\")-COUNTIF(Dienstplan!$B11:$BH11,\"*_\"&($AJ$3)&\"*\")","v":0}]
[{"$f":"COUNTIF(Dienstplan!B12:BH12,\"*\"&($A$3)&\"*\")-COUNTIF(Dienstplan!B12:BH12,\"*_\"&($A$3)&\"*\")","v":0},{"$f":"COUNTIF(Dienstplan!B12:BH12,\"*\"&($B$3)&\"*\")-COUNTIF(Dienstplan!B12:BH12,\"*_\"&($B$3)&\"*\")","v":0},{"$f":"COUNTIF(Dienstplan!B12:BH12,\"*\"&($C$3)&\"*\")-COUNTIF(Dienstplan!B12:BH12,\"*_\"&($C$3)&\"*\")","v":0},{"$f":"COUNTIF(Dienstplan!B12:BH12,\"*\"&($D$3)&\"*\")-COUNTIF(Dienstplan!B12:BH12,\"*_\"&($D$3)&\"*\")","v":0},{"$f":"COUNTIF(Dienstplan!B12:BH12,\"*\"&($E$3)&\"*\")-COUNTIF(Dienstplan!B12:BH12,\"*_\"&($E$3)&\"*\")","v":0},{"$f":"COUNTIF(Dienstplan!B12:BH12,\"*\"&($F$3)&\"*\")-COUNTIF(Dienstplan!B12:BH12,\"*_\"&($F$3)&\"*\")","v":0},{"$f":"COUNTIF(Dienstplan!B12:BH12,\"*\"&($G$3)&\"*\")-COUNTIF(Dienstplan!B12:BH12,\"*_\"&($G$3)&\"*\")","v":0},{"$f":"COUNTIF(Dienstplan!B12:BH12,\"*\"&($H$3)&\"*\")-COUNTIF(Dienstplan!B12:BH12,\"*_\"&($H$3)&\"*\")","v":0},{"$f":"COUNTIF(Dienstplan!B12:BH12,\"*\"&($I$3)&\"*\")-COUNTIF(Dienstplan!B12:BH12,\"*_\"&($I$3)&\"*\")","v":0},{"$f":"COUNTIF(Dienstplan!B12:BH12,\"*\"&($J$3)&\"*\")-COUNTIF(Dienstplan!B12:BH12,\"*_\"&($J$3)&\"*\")","v":0},{"$f":"COUNTIF(Dienstplan!B12:BH12,\"*\"&($K$3)&\"*\")-COUNTIF(Dienstplan!B12:BH12,\"*_\"&($K$3)&\"*\")","v":0},{"$f":"COUNTIF(Dienstplan!B12:BH12,\"*\"&($L$3)&\"*\")-COUNTIF(Dienstplan!B12:BH12,\"*_\"&($L$3)&\"*\")","v":0},{"$f":"COUNTIF(Dienstplan!B12:BH12,\"*\"&($M$3)&\"*\")-COUNTIF(Dienstplan!B12:BH12,\"*_\"&($M$3)&\"*\")","v":0},{"$f":"COUNTIF(Dienstplan!B12:BH12,\"*\"&($N$3)&\"*\")-COUNTIF(Dienstplan!B12:BH12,\"*_\"&($N$3)&\"*\")","v":0},{"$f":"COUNTIF(Dienstplan!B12:BH12,\"*\"&($O$3)&\"*\")-COUNTIF(Dienstplan!B12:BH12,\"*_\"&($O$3)&\"*\")","v":0},{"$f":"COUNTIF(Dienstplan!B12:BH12,\"*\"&($P$3)&\"*\")-COUNTIF(Dienstplan!B12:BH12,\"*_\"&($P$3)&\"*\")","v":0},{"$f":"COUNTIF(Dienstplan!B12:BH12,\"*\"&($Q$3)&\"*\")-COUNTIF(Dienstplan!B12:BH12,\"*_\"&($Q$3)&\"*\")","v":0},{"$f":"COUNTIF(Dienstplan!B12:BH12,\"*\"&($R$3)&\"*\")-COUNTIF(Dienstplan!B12:BH12,\"*_\"&($R$3)&\"*\")","v":0},{"$f":"COUNTIF(Dienstplan!B12:BH12,\"*\"&($S$3)&\"*\")-COUNTIF(Dienstplan!B12:BH12,\"*_\"&($S$3)&\"*\")","v":0},{"$f":"COUNTIF(Dienstplan!B12:BH12,\"*\"&($T$3)&\"*\")-COUNTIF(Dienstplan!B12:BH12,\"*_\"&($T$3)&\"*\")","v":0},{"$f":"COUNTIF(Dienstplan!B12:BH12,\"*\"&($U$3)&\"*\")-COUNTIF(Dienstplan!B12:BH12,\"*_\"&($U$3)&\"*\")","v":0},{"$f":"COUNTIF(Dienstplan!B12:BH12,\"*\"&($V$3)&\"*\")-COUNTIF(Dienstplan!B12:BH12,\"*_\"&($V$3)&\"*\")","v":0},{"$f":"COUNTIF(Dienstplan!B12:BH12,\"*\"&($W$3)&\"*\")-COUNTIF(Dienstplan!B12:BH12,\"*_\"&($W$3)&\"*\")","v":0},{"$f":"COUNTIF(Dienstplan!B12:BH12,\"*\"&($X$3)&\"*\")-COUNTIF(Dienstplan!B12:BH12,\"*_\"&($X$3)&\"*\")","v":0},{"$f":"COUNTIF(Dienstplan!B12:BH12,\"*\"&($Y$3)&\"*\")-COUNTIF(Dienstplan!B12:BH12,\"*_\"&($Y$3)&\"*\")","v":0},{"$f":"COUNTIF(Dienstplan!B12:BH12,\"*\"&($Z$3)&\"*\")-COUNTIF(Dienstplan!B12:BH12,\"*_\"&($Z$3)&\"*\")","v":0},{"$f":"COUNTIF(Dienstplan!B12:BH12,\"*\"&($AA$3)&\"*\")-COUNTIF(Dienstplan!B12:BH12,\"*_\"&($AA$3)&\"*\")","v":0},{"$f":"COUNTIF(Dienstplan!B12:BH12,\"*\"&($AB$3)&\"*\")-COUNTIF(Dienstplan!B12:BH12,\"*_\"&($AB$3)&\"*\")","v":0},{"$f":"COUNTIF(Dienstplan!B12:BH12,\"*\"&($AC$3)&\"*\")-COUNTIF(Dienstplan!B12:BH12,\"*_\"&($AC$3)&\"*\")","v":0},{"$f":"COUNTIF(Dienstplan!B12:BH12,\"*\"&($AD$3)&\"*\")-COUNTIF(Dienstplan!B12:BH12,\"*_\"&($AD$3)&\"*\")","v":0},{"$f":"COUNTIF(Dienstplan!B12:BH12,\"*\"&($AE$3)&\"*\")-COUNTIF(Dienstplan!B12:BH12,\"*_\"&($AE$3)&\"*\")","v":0},{"$f":"COUNTIF(Dienstplan!B12:BH12,\"*\"&($AF$3)&\"*\")-COUNTIF(Dienstplan!B12:BH12,\"*_\"&($AF$3)&\"*\")","v":0},{"$f":"COUNTIF(Dienstplan!B12:BH12,\"*\"&($AG$3)&\"*\")-COUNTIF(Dienstplan!B12:BH12,\"*_\"&($AG$3)&\"*\")","v":0},{"$f":"COUNTIF(Dienstplan!B12:BH12,\"*\"&($AH$3)&\"*\")-COUNTIF(Dienstplan!B12:BH12,\"*_\"&($AH$3)&\"*\")","v":0},{"$f":"COUNTIF(Dienstplan!B12:BH12,\"*\"&($AI$3)&\"*\")-COUNTIF(Dienstplan!B12:BH12,\"*_\"&($AI$3)&\"*\")","v":0},{"$f":"COUNTIF(Dienstplan!$B12:$BH12,\"*\"&($AJ$3)&\"*\")-COUNTIF(Dienstplan!$B12:$BH12,\"*_\"&($AJ$3)&\"*\")","v":0}]
[{"$f":"COUNTIF(Dienstplan!B13:BH13,\"*\"&($A$3)&\"*\")-COUNTIF(Dienstplan!B13:BH13,\"*_\"&($A$3)&\"*\")","v":0},{"$f":"COUNTIF(Dienstplan!B13:BH13,\"*\"&($B$3)&\"*\")-COUNTIF(Dienstplan!B13:BH13,\"*_\"&($B$3)&\"*\")","v":0},{"$f":"COUNTIF(Dienstplan!B13:BH13,\"*\"&($C$3)&\"*\")-COUNTIF(Dienstplan!B13:BH13,\"*_\"&($C$3)&\"*\")","v":0},{"$f":"COUNTIF(Dienstplan!B13:BH13,\"*\"&($D$3)&\"*\")-COUNTIF(Dienstplan!B13:BH13,\"*_\"&($D$3)&\"*\")","v":0},{"$f":"COUNTIF(Dienstplan!B13:BH13,\"*\"&($E$3)&\"*\")-COUNTIF(Dienstplan!B13:BH13,\"*_\"&($E$3)&\"*\")","v":0},{"$f":"COUNTIF(Dienstplan!B13:BH13,\"*\"&($F$3)&\"*\")-COUNTIF(Dienstplan!B13:BH13,\"*_\"&($F$3)&\"*\")","v":0},{"$f":"COUNTIF(Dienstplan!B13:BH13,\"*\"&($G$3)&\"*\")-COUNTIF(Dienstplan!B13:BH13,\"*_\"&($G$3)&\"*\")","v":0},{"$f":"COUNTIF(Dienstplan!B13:BH13,\"*\"&($H$3)&\"*\")-COUNTIF(Dienstplan!B13:BH13,\"*_\"&($H$3)&\"*\")","v":0},{"$f":"COUNTIF(Dienstplan!B13:BH13,\"*\"&($I$3)&\"*\")-COUNTIF(Dienstplan!B13:BH13,\"*_\"&($I$3)&\"*\")","v":0},{"$f":"COUNTIF(Dienstplan!B13:BH13,\"*\"&($J$3)&\"*\")-COUNTIF(Dienstplan!B13:BH13,\"*_\"&($J$3)&\"*\")","v":0},{"$f":"COUNTIF(Dienstplan!B13:BH13,\"*\"&($K$3)&\"*\")-COUNTIF(Dienstplan!B13:BH13,\"*_\"&($K$3)&\"*\")","v":0},{"$f":"COUNTIF(Dienstplan!B13:BH13,\"*\"&($L$3)&\"*\")-COUNTIF(Dienstplan!B13:BH13,\"*_\"&($L$3)&\"*\")","v":0},{"$f":"COUNTIF(Dienstplan!B13:BH13,\"*\"&($M$3)&\"*\")-COUNTIF(Dienstplan!B13:BH13,\"*_\"&($M$3)&\"*\")","v":0},{"$f":"COUNTIF(Dienstplan!B13:BH13,\"*\"&($N$3)&\"*\")-COUNTIF(Dienstplan!B13:BH13,\"*_\"&($N$3)&\"*\")","v":0},{"$f":"COUNTIF(Dienstplan!B13:BH13,\"*\"&($O$3)&\"*\")-COUNTIF(Dienstplan!B13:BH13,\"*_\"&($O$3)&\"*\")","v":0},{"$f":"COUNTIF(Dienstplan!B13:BH13,\"*\"&($P$3)&\"*\")-COUNTIF(Dienstplan!B13:BH13,\"*_\"&($P$3)&\"*\")","v":0},{"$f":"COUNTIF(Dienstplan!B13:BH13,\"*\"&($Q$3)&\"*\")-COUNTIF(Dienstplan!B13:BH13,\"*_\"&($Q$3)&\"*\")","v":0},{"$f":"COUNTIF(Dienstplan!B13:BH13,\"*\"&($R$3)&\"*\")-COUNTIF(Dienstplan!B13:BH13,\"*_\"&($R$3)&\"*\")","v":0},{"$f":"COUNTIF(Dienstplan!B13:BH13,\"*\"&($S$3)&\"*\")-COUNTIF(Dienstplan!B13:BH13,\"*_\"&($S$3)&\"*\")","v":0},{"$f":"COUNTIF(Dienstplan!B13:BH13,\"*\"&($T$3)&\"*\")-COUNTIF(Dienstplan!B13:BH13,\"*_\"&($T$3)&\"*\")","v":0},{"$f":"COUNTIF(Dienstplan!B13:BH13,\"*\"&($U$3)&\"*\")-COUNTIF(Dienstplan!B13:BH13,\"*_\"&($U$3)&\"*\")","v":0},{"$f":"COUNTIF(Dienstplan!B13:BH13,\"*\"&($V$3)&\"*\")-COUNTIF(Dienstplan!B13:BH13,\"*_\"&($V$3)&\"*\")","v":0},{"$f":"COUNTIF(Dienstplan!B13:BH13,\"*\"&($W$3)&\"*\")-COUNTIF(Dienstplan!B13:BH13,\"*_\"&($W$3)&\"*\")","v":0},{"$f":"COUNTIF(Dienstplan!B13:BH13,\"*\"&($X$3)&\"*\")-COUNTIF(Dienstplan!B13:BH13,\"*_\"&($X$3)&\"*\")","v":0},{"$f":"COUNTIF(Dienstplan!B13:BH13,\"*\"&($Y$3)&\"*\")-COUNTIF(Dienstplan!B13:BH13,\"*_\"&($Y$3)&\"*\")","v":0},{"$f":"COUNTIF(Dienstplan!B13:BH13,\"*\"&($Z$3)&\"*\")-COUNTIF(Dienstplan!B13:BH13,\"*_\"&($Z$3)&\"*\")","v":0},{"$f":"COUNTIF(Dienstplan!B13:BH13,\"*\"&($AA$3)&\"*\")-COUNTIF(Dienstplan!B13:BH13,\"*_\"&($AA$3)&\"*\")","v":0},{"$f":"COUNTIF(Dienstplan!B13:BH13,\"*\"&($AB$3)&\"*\")-COUNTIF(Dienstplan!B13:BH13,\"*_\"&($AB$3)&\"*\")","v":0},{"$f":"COUNTIF(Dienstplan!B13:BH13,\"*\"&($AC$3)&\"*\")-COUNTIF(Dienstplan!B13:BH13,\"*_\"&($AC$3)&\"*\")","v":0},{"$f":"COUNTIF(Dienstplan!B13:BH13,\"*\"&($AD$3)&\"*\")-COUNTIF(Dienstplan!B13:BH13,\"*_\"&($AD$3)&\"*\")","v":0},{"$f":"COUNTIF(Dienstplan!B13:BH13,\"*\"&($AE$3)&\"*\")-COUNTIF(Dienstplan!B13:BH13,\"*_\"&($AE$3)&\"*\")","v":0},{"$f":"COUNTIF(Dienstplan!B13:BH13,\"*\"&($AF$3)&\"*\")-COUNTIF(Dienstplan!B13:BH13,\"*_\"&($AF$3)&\"*\")","v":0},{"$f":"COUNTIF(Dienstplan!B13:BH13,\"*\"&($AG$3)&\"*\")-COUNTIF(Dienstplan!B13:BH13,\"*_\"&($AG$3)&\"*\")","v":0},{"$f":"COUNTIF(Dienstplan!B13:BH13,\"*\"&($AH$3)&\"*\")-COUNTIF(Dienstplan!B13:BH13,\"*_\"&($AH$3)&\"*\")","v":0},{"$f":"COUNTIF(Dienstplan!B13:BH13,\"*\"&($AI$3)&\"*\")-COUNTIF(Dienstplan!B13:BH13,\"*_\"&($AI$3)&\"*\")","v":0},{"$f":"COUNTIF(Dienstplan!$B13:$BH13,\"*\"&($AJ$3)&\"*\")-COUNTIF(Dienstplan!$B13:$BH13,\"*_\"&($AJ$3)&\"*\")","v":0}]
[{"$f":"COUNTIF(Dienstplan!B14:BH14,\"*\"&($A$3)&\"*\")-COUNTIF(Dienstplan!B14:BH14,\"*_\"&($A$3)&\"*\")","v":0},{"$f":"COUNTIF(Dienstplan!B14:BH14,\"*\"&($B$3)&\"*\")-COUNTIF(Dienstplan!B14:BH14,\"*_\"&($B$3)&\"*\")","v":0},{"$f":"COUNTIF(Dienstplan!B14:BH14,\"*\"&($C$3)&\"*\")-COUNTIF(Dienstplan!B14:BH14,\"*_\"&($C$3)&\"*\")","v":0},{"$f":"COUNTIF(Dienstplan!B14:BH14,\"*\"&($D$3)&\"*\")-COUNTIF(Dienstplan!B14:BH14,\"*_\"&($D$3)&\"*\")","v":0},{"$f":"COUNTIF(Dienstplan!B14:BH14,\"*\"&($E$3)&\"*\")-COUNTIF(Dienstplan!B14:BH14,\"*_\"&($E$3)&\"*\")","v":0},{"$f":"COUNTIF(Dienstplan!B14:BH14,\"*\"&($F$3)&\"*\")-COUNTIF(Dienstplan!B14:BH14,\"*_\"&($F$3)&\"*\")","v":0},{"$f":"COUNTIF(Dienstplan!B14:BH14,\"*\"&($G$3)&\"*\")-COUNTIF(Dienstplan!B14:BH14,\"*_\"&($G$3)&\"*\")","v":0},{"$f":"COUNTIF(Dienstplan!B14:BH14,\"*\"&($H$3)&\"*\")-COUNTIF(Dienstplan!B14:BH14,\"*_\"&($H$3)&\"*\")","v":0},{"$f":"COUNTIF(Dienstplan!B14:BH14,\"*\"&($I$3)&\"*\")-COUNTIF(Dienstplan!B14:BH14,\"*_\"&($I$3)&\"*\")","v":0},{"$f":"COUNTIF(Dienstplan!B14:BH14,\"*\"&($J$3)&\"*\")-COUNTIF(Dienstplan!B14:BH14,\"*_\"&($J$3)&\"*\")","v":0},{"$f":"COUNTIF(Dienstplan!B14:BH14,\"*\"&($K$3)&\"*\")-COUNTIF(Dienstplan!B14:BH14,\"*_\"&($K$3)&\"*\")","v":0},{"$f":"COUNTIF(Dienstplan!B14:BH14,\"*\"&($L$3)&\"*\")-COUNTIF(Dienstplan!B14:BH14,\"*_\"&($L$3)&\"*\")","v":0},{"$f":"COUNTIF(Dienstplan!B14:BH14,\"*\"&($M$3)&\"*\")-COUNTIF(Dienstplan!B14:BH14,\"*_\"&($M$3)&\"*\")","v":0},{"$f":"COUNTIF(Dienstplan!B14:BH14,\"*\"&($N$3)&\"*\")-COUNTIF(Dienstplan!B14:BH14,\"*_\"&($N$3)&\"*\")","v":0},{"$f":"COUNTIF(Dienstplan!B14:BH14,\"*\"&($O$3)&\"*\")-COUNTIF(Dienstplan!B14:BH14,\"*_\"&($O$3)&\"*\")","v":0},{"$f":"COUNTIF(Dienstplan!B14:BH14,\"*\"&($P$3)&\"*\")-COUNTIF(Dienstplan!B14:BH14,\"*_\"&($P$3)&\"*\")","v":0},{"$f":"COUNTIF(Dienstplan!B14:BH14,\"*\"&($Q$3)&\"*\")-COUNTIF(Dienstplan!B14:BH14,\"*_\"&($Q$3)&\"*\")","v":0},{"$f":"COUNTIF(Dienstplan!B14:BH14,\"*\"&($R$3)&\"*\")-COUNTIF(Dienstplan!B14:BH14,\"*_\"&($R$3)&\"*\")","v":0},{"$f":"COUNTIF(Dienstplan!B14:BH14,\"*\"&($S$3)&\"*\")-COUNTIF(Dienstplan!B14:BH14,\"*_\"&($S$3)&\"*\")","v":0},{"$f":"COUNTIF(Dienstplan!B14:BH14,\"*\"&($T$3)&\"*\")-COUNTIF(Dienstplan!B14:BH14,\"*_\"&($T$3)&\"*\")","v":0},{"$f":"COUNTIF(Dienstplan!B14:BH14,\"*\"&($U$3)&\"*\")-COUNTIF(Dienstplan!B14:BH14,\"*_\"&($U$3)&\"*\")","v":0},{"$f":"COUNTIF(Dienstplan!B14:BH14,\"*\"&($V$3)&\"*\")-COUNTIF(Dienstplan!B14:BH14,\"*_\"&($V$3)&\"*\")","v":0},{"$f":"COUNTIF(Dienstplan!B14:BH14,\"*\"&($W$3)&\"*\")-COUNTIF(Dienstplan!B14:BH14,\"*_\"&($W$3)&\"*\")","v":0},{"$f":"COUNTIF(Dienstplan!B14:BH14,\"*\"&($X$3)&\"*\")-COUNTIF(Dienstplan!B14:BH14,\"*_\"&($X$3)&\"*\")","v":0},{"$f":"COUNTIF(Dienstplan!B14:BH14,\"*\"&($Y$3)&\"*\")-COUNTIF(Dienstplan!B14:BH14,\"*_\"&($Y$3)&\"*\")","v":0},{"$f":"COUNTIF(Dienstplan!B14:BH14,\"*\"&($Z$3)&\"*\")-COUNTIF(Dienstplan!B14:BH14,\"*_\"&($Z$3)&\"*\")","v":0},{"$f":"COUNTIF(Dienstplan!B14:BH14,\"*\"&($AA$3)&\"*\")-COUNTIF(Dienstplan!B14:BH14,\"*_\"&($AA$3)&\"*\")","v":0},{"$f":"COUNTIF(Dienstplan!B14:BH14,\"*\"&($AB$3)&\"*\")-COUNTIF(Dienstplan!B14:BH14,\"*_\"&($AB$3)&\"*\")","v":0},{"$f":"COUNTIF(Dienstplan!B14:BH14,\"*\"&($AC$3)&\"*\")-COUNTIF(Dienstplan!B14:BH14,\"*_\"&($AC$3)&\"*\")","v":0},{"$f":"COUNTIF(Dienstplan!B14:BH14,\"*\"&($AD$3)&\"*\")-COUNTIF(Dienstplan!B14:BH14,\"*_\"&($AD$3)&\"*\")","v":0},{"$f":"COUNTIF(Dienstplan!B14:BH14,\"*\"&($AE$3)&\"*\")-COUNTIF(Dienstplan!B14:BH14,\"*_\"&($AE$3)&\"*\")","v":0},{"$f":"COUNTIF(Dienstplan!B14:BH14,\"*\"&($AF$3)&\"*\")-COUNTIF(Dienstplan!B14:BH14,\"*_\"&($AF$3)&\"*\")","v":0},{"$f":"COUNTIF(Dienstplan!B14:BH14,\"*\"&($AG$3)&\"*\")-COUNTIF(Dienstplan!B14:BH14,\"*_\"&($AG$3)&\"*\")","v":0},{"$f":"COUNTIF(Dienstplan!B14:BH14,\"*\"&($AH$3)&\"*\")-COUNTIF(Dienstplan!B14:BH14,\"*_\"&($AH$3)&\"*\")","v":0},{"$f":"COUNTIF(Dienstplan!B14:BH14,\"*\"&($AI$3)&\"*\")-COUNTIF(Dienstplan!B14:BH14,\"*_\"&($AI$3)&\"*\")","v":0},{"$f":"COUNTIF(Dienstplan!$B14:$BH14,\"*\"&($AJ$3)&\"*\")-COUNTIF(Dienstplan!$B14:$BH14,\"*_\"&($AJ$3)&\"*\")","v":0}]
[{"$f":"COUNTIF(Dienstplan!B15:BH15,\"*\"&($A$3)&\"*\")-COUNTIF(Dienstplan!B15:BH15,\"*_\"&($A$3)&\"*\")","v":0},{"$f":"COUNTIF(Dienstplan!B15:BH15,\"*\"&($B$3)&\"*\")-COUNTIF(Dienstplan!B15:BH15,\"*_\"&($B$3)&\"*\")","v":0},{"$f":"COUNTIF(Dienstplan!B15:BH15,\"*\"&($C$3)&\"*\")-COUNTIF(Dienstplan!B15:BH15,\"*_\"&($C$3)&\"*\")","v":0},{"$f":"COUNTIF(Dienstplan!B15:BH15,\"*\"&($D$3)&\"*\")-COUNTIF(Dienstplan!B15:BH15,\"*_\"&($D$3)&\"*\")","v":0},{"$f":"COUNTIF(Dienstplan!B15:BH15,\"*\"&($E$3)&\"*\")-COUNTIF(Dienstplan!B15:BH15,\"*_\"&($E$3)&\"*\")","v":1},{"$f":"COUNTIF(Dienstplan!B15:BH15,\"*\"&($F$3)&\"*\")-COUNTIF(Dienstplan!B15:BH15,\"*_\"&($F$3)&\"*\")","v":0},{"$f":"COUNTIF(Dienstplan!B15:BH15,\"*\"&($G$3)&\"*\")-COUNTIF(Dienstplan!B15:BH15,\"*_\"&($G$3)&\"*\")","v":1},{"$f":"COUNTIF(Dienstplan!B15:BH15,\"*\"&($H$3)&\"*\")-COUNTIF(Dienstplan!B15:BH15,\"*_\"&($H$3)&\"*\")","v":1},{"$f":"COUNTIF(Dienstplan!B15:BH15,\"*\"&($I$3)&\"*\")-COUNTIF(Dienstplan!B15:BH15,\"*_\"&($I$3)&\"*\")","v":1},{"$f":"COUNTIF(Dienstplan!B15:BH15,\"*\"&($J$3)&\"*\")-COUNTIF(Dienstplan!B15:BH15,\"*_\"&($J$3)&\"*\")","v":0},{"$f":"COUNTIF(Dienstplan!B15:BH15,\"*\"&($K$3)&\"*\")-COUNTIF(Dienstplan!B15:BH15,\"*_\"&($K$3)&\"*\")","v":1},{"$f":"COUNTIF(Dienstplan!B15:BH15,\"*\"&($L$3)&\"*\")-COUNTIF(Dienstplan!B15:BH15,\"*_\"&($L$3)&\"*\")","v":1},{"$f":"COUNTIF(Dienstplan!B15:BH15,\"*\"&($M$3)&\"*\")-COUNTIF(Dienstplan!B15:BH15,\"*_\"&($M$3)&\"*\")","v":1},{"$f":"COUNTIF(Dienstplan!B15:BH15,\"*\"&($N$3)&\"*\")-COUNTIF(Dienstplan!B15:BH15,\"*_\"&($N$3)&\"*\")","v":1},{"$f":"COUNTIF(Dienstplan!B15:BH15,\"*\"&($O$3)&\"*\")-COUNTIF(Dienstplan!B15:BH15,\"*_\"&($O$3)&\"*\")","v":1},{"$f":"COUNTIF(Dienstplan!B15:BH15,\"*\"&($P$3)&\"*\")-COUNTIF(Dienstplan!B15:BH15,\"*_\"&($P$3)&\"*\")","v":1},{"$f":"COUNTIF(Dienstplan!B15:BH15,\"*\"&($Q$3)&\"*\")-COUNTIF(Dienstplan!B15:BH15,\"*_\"&($Q$3)&\"*\")","v":0},{"$f":"COUNTIF(Dienstplan!B15:BH15,\"*\"&($R$3)&\"*\")-COUNTIF(Dienstplan!B15:BH15,\"*_\"&($R$3)&\"*\")","v":1},{"$f":"COUNTIF(Dienstplan!B15:BH15,\"*\"&($S$3)&\"*\")-COUNTIF(Dienstplan!B15:BH15,\"*_\"&($S$3)&\"*\")","v":1},{"$f":"COUNTIF(Dienstplan!B15:BH15,\"*\"&($T$3)&\"*\")-COUNTIF(Dienstplan!B15:BH15,\"*_\"&($T$3)&\"*\")","v":1},{"$f":"COUNTIF(Dienstplan!B15:BH15,\"*\"&($U$3)&\"*\")-COUNTIF(Dienstplan!B15:BH15,\"*_\"&($U$3)&\"*\")","v":1},{"$f":"COUNTIF(Dienstplan!B15:BH15,\"*\"&($V$3)&\"*\")-COUNTIF(Dienstplan!B15:BH15,\"*_\"&($V$3)&\"*\")","v":1},{"$f":"COUNTIF(Dienstplan!B15:BH15,\"*\"&($W$3)&\"*\")-COUNTIF(Dienstplan!B15:BH15,\"*_\"&($W$3)&\"*\")","v":0},{"$f":"COUNTIF(Dienstplan!B15:BH15,\"*\"&($X$3)&\"*\")-COUNTIF(Dienstplan!B15:BH15,\"*_\"&($X$3)&\"*\")","v":0},{"$f":"COUNTIF(Dienstplan!B15:BH15,\"*\"&($Y$3)&\"*\")-COUNTIF(Dienstplan!B15:BH15,\"*_\"&($Y$3)&\"*\")","v":0},{"$f":"COUNTIF(Dienstplan!B15:BH15,\"*\"&($Z$3)&\"*\")-COUNTIF(Dienstplan!B15:BH15,\"*_\"&($Z$3)&\"*\")","v":0},{"$f":"COUNTIF(Dienstplan!B15:BH15,\"*\"&($AA$3)&\"*\")-COUNTIF(Dienstplan!B15:BH15,\"*_\"&($AA$3)&\"*\")","v":0},{"$f":"COUNTIF(Dienstplan!B15:BH15,\"*\"&($AB$3)&\"*\")-COUNTIF(Dienstplan!B15:BH15,\"*_\"&($AB$3)&\"*\")","v":0},{"$f":"COUNTIF(Dienstplan!B15:BH15,\"*\"&($AC$3)&\"*\")-COUNTIF(Dienstplan!B15:BH15,\"*_\"&($AC$3)&\"*\")","v":0},{"$f":"COUNTIF(Dienstplan!B15:BH15,\"*\"&($AD$3)&\"*\")-COUNTIF(Dienstplan!B15:BH15,\"*_\"&($AD$3)&\"*\")","v":0},{"$f":"COUNTIF(Dienstplan!B15:BH15,\"*\"&($AE$3)&\"*\")-COUNTIF(Dienstplan!B15:BH15,\"*_\"&($AE$3)&\"*\")","v":0},{"$f":"COUNTIF(Dienstplan!B15:BH15,\"*\"&($AF$3)&\"*\")-COUNTIF(Dienstplan!B15:BH15,\"*_\"&($AF$3)&\"*\")","v":0},{"$f":"COUNTIF(Dienstplan!B15:BH15,\"*\"&($AG$3)&\"*\")-COUNTIF(Dienstplan!B15:BH15,\"*_\"&($AG$3)&\"*\")","v":0},{"$f":"COUNTIF(Dienstplan!B15:BH15,\"*\"&($AH$3)&\"*\")-COUNTIF(Dienstplan!B15:BH15,\"*_\"&($AH$3)&\"*\")","v":0},{"$f":"COUNTIF(Dienstplan!B15:BH15,\"*\"&($AI$3)&\"*\")-COUNTIF(Dienstplan!B15:BH15,\"*_\"&($AI$3)&\"*\")","v":0},{"$f":"COUNTIF(Dienstplan!$B15:$BH15,\"*\"&($AJ$3)&\"*\")-COUNTIF(Dienstplan!$B15:$BH15,\"*_\"&($AJ$3)&\"*\")","v":0}]
[{"$f":"COUNTIF(Dienstplan!B16:BH16,\"*\"&($A$3)&\"*\")-COUNTIF(Dienstplan!B16:BH16,\"*_\"&($A$3)&\"*\")","v":0},{"$f":"COUNTIF(Dienstplan!B16:BH16,\"*\"&($B$3)&\"*\")-COUNTIF(Dienstplan!B16:BH16,\"*_\"&($B$3)&\"*\")","v":0},{"$f":"COUNTIF(Dienstplan!B16:BH16,\"*\"&($C$3)&\"*\")-COUNTIF(Dienstplan!B16:BH16,\"*_\"&($C$3)&\"*\")","v":0},{"$f":"COUNTIF(Dienstplan!B16:BH16,\"*\"&($D$3)&\"*\")-COUNTIF(Dienstplan!B16:BH16,\"*_\"&($D$3)&\"*\")","v":0},{"$f":"COUNTIF(Dienstplan!B16:BH16,\"*\"&($E$3)&\"*\")-COUNTIF(Dienstplan!B16:BH16,\"*_\"&($E$3)&\"*\")","v":1},{"$f":"COUNTIF(Dienstplan!B16:BH16,\"*\"&($F$3)&\"*\")-COUNTIF(Dienstplan!B16:BH16,\"*_\"&($F$3)&\"*\")","v":0},{"$f":"COUNTIF(Dienstplan!B16:BH16,\"*\"&($G$3)&\"*\")-COUNTIF(Dienstplan!B16:BH16,\"*_\"&($G$3)&\"*\")","v":1},{"$f":"COUNTIF(Dienstplan!B16:BH16,\"*\"&($H$3)&\"*\")-COUNTIF(Dienstplan!B16:BH16,\"*_\"&($H$3)&\"*\")","v":1},{"$f":"COUNTIF(Dienstplan!B16:BH16,\"*\"&($I$3)&\"*\")-COUNTIF(Dienstplan!B16:BH16,\"*_\"&($I$3)&\"*\")","v":1},{"$f":"COUNTIF(Dienstplan!B16:BH16,\"*\"&($J$3)&\"*\")-COUNTIF(Dienstplan!B16:BH16,\"*_\"&($J$3)&\"*\")","v":1},{"$f":"COUNTIF(Dienstplan!B16:BH16,\"*\"&($K$3)&\"*\")-COUNTIF(Dienstplan!B16:BH16,\"*_\"&($K$3)&\"*\")","v":1},{"$f":"COUNTIF(Dienstplan!B16:BH16,\"*\"&($L$3)&\"*\")-COUNTIF(Dienstplan!B16:BH16,\"*_\"&($L$3)&\"*\")","v":1},{"$f":"COUNTIF(Dienstplan!B16:BH16,\"*\"&($M$3)&\"*\")-COUNTIF(Dienstplan!B16:BH16,\"*_\"&($M$3)&\"*\")","v":1},{"$f":"COUNTIF(Dienstplan!B16:BH16,\"*\"&($N$3)&\"*\")-COUNTIF(Dienstplan!B16:BH16,\"*_\"&($N$3)&\"*\")","v":0},{"$f":"COUNTIF(Dienstplan!B16:BH16,\"*\"&($O$3)&\"*\")-COUNTIF(Dienstplan!B16:BH16,\"*_\"&($O$3)&\"*\")","v":1},{"$f":"COUNTIF(Dienstplan!B16:BH16,\"*\"&($P$3)&\"*\")-COUNTIF(Dienstplan!B16:BH16,\"*_\"&($P$3)&\"*\")","v":1},{"$f":"COUNTIF(Dienstplan!B16:BH16,\"*\"&($Q$3)&\"*\")-COUNTIF(Dienstplan!B16:BH16,\"*_\"&($Q$3)&\"*\")","v":0},{"$f":"COUNTIF(Dienstplan!B16:BH16,\"*\"&($R$3)&\"*\")-COUNTIF(Dienstplan!B16:BH16,\"*_\"&($R$3)&\"*\")","v":1},{"$f":"COUNTIF(Dienstplan!B16:BH16,\"*\"&($S$3)&\"*\")-COUNTIF(Dienstplan!B16:BH16,\"*_\"&($S$3)&\"*\")","v":1},{"$f":"COUNTIF(Dienstplan!B16:BH16,\"*\"&($T$3)&\"*\")-COUNTIF(Dienstplan!B16:BH16,\"*_\"&($T$3)&\"*\")","v":1},{"$f":"COUNTIF(Dienstplan!B16:BH16,\"*\"&($U$3)&\"*\")-COUNTIF(Dienstplan!B16:BH16,\"*_\"&($U$3)&\"*\")","v":1},{"$f":"COUNTIF(Dienstplan!B16:BH16,\"*\"&($V$3)&\"*\")-COUNTIF(Dienstplan!B16:BH16,\"*_\"&($V$3)&\"*\")","v":1},{"$f":"COUNTIF(Dienstplan!B16:BH16,\"*\"&($W$3)&\"*\")-COUNTIF(Dienstplan!B16:BH16,\"*_\"&($W$3)&\"*\")","v":0},{"$f":"COUNTIF(Dienstplan!B16:BH16,\"*\"&($X$3)&\"*\")-COUNTIF(Dienstplan!B16:BH16,\"*_\"&($X$3)&\"*\")","v":0},{"$f":"COUNTIF(Dienstplan!B16:BH16,\"*\"&($Y$3)&\"*\")-COUNTIF(Dienstplan!B16:BH16,\"*_\"&($Y$3)&\"*\")","v":0},{"$f":"COUNTIF(Dienstplan!B16:BH16,\"*\"&($Z$3)&\"*\")-COUNTIF(Dienstplan!B16:BH16,\"*_\"&($Z$3)&\"*\")","v":0},{"$f":"COUNTIF(Dienstplan!B16:BH16,\"*\"&($AA$3)&\"*\")-COUNTIF(Dienstplan!B16:BH16,\"*_\"&($AA$3)&\"*\")","v":0},{"$f":"COUNTIF(Dienstplan!B16:BH16,\"*\"&($AB$3)&\"*\")-COUNTIF(Dienstplan!B16:BH16,\"*_\"&($AB$3)&\"*\")","v":0},{"$f":"COUNTIF(Dienstplan!B16:BH16,\"*\"&($AC$3)&\"*\")-COUNTIF(Dienstplan!B16:BH16,\"*_\"&($AC$3)&\"*\")","v":0},{"$f":"COUNTIF(Dienstplan!B16:BH16,\"*\"&($AD$3)&\"*\")-COUNTIF(Dienstplan!B16:BH16,\"*_\"&($AD$3)&\"*\")","v":0},{"$f":"COUNTIF(Dienstplan!B16:BH16,\"*\"&($AE$3)&\"*\")-COUNTIF(Dienstplan!B16:BH16,\"*_\"&($AE$3)&\"*\")","v":0},{"$f":"COUNTIF(Dienstplan!B16:BH16,\"*\"&($AF$3)&\"*\")-COUNTIF(Dienstplan!B16:BH16,\"*_\"&($AF$3)&\"*\")","v":0},{"$f":"COUNTIF(Dienstplan!B16:BH16,\"*\"&($AG$3)&\"*\")-COUNTIF(Dienstplan!B16:BH16,\"*_\"&($AG$3)&\"*\")","v":0},{"$f":"COUNTIF(Dienstplan!B16:BH16,\"*\"&($AH$3)&\"*\")-COUNTIF(Dienstplan!B16:BH16,\"*_\"&($AH$3)&\"*\")","v":0},{"$f":"COUNTIF(Dienstplan!B16:BH16,\"*\"&($AI$3)&\"*\")-COUNTIF(Dienstplan!B16:BH16,\"*_\"&($AI$3)&\"*\")","v":0},{"$f":"COUNTIF(Dienstplan!$B16:$BH16,\"*\"&($AJ$3)&\"*\")-COUNTIF(Dienstplan!$B16:$BH16,\"*_\"&($AJ$3)&\"*\")","v":0}]
[{"$f":"COUNTIF(Dienstplan!B17:BH17,\"*\"&($A$3)&\"*\")-COUNTIF(Dienstplan!B17:BH17,\"*_\"&($A$3)&\"*\")","v":0},{"$f":"COUNTIF(Dienstplan!B17:BH17,\"*\"&($B$3)&\"*\")-COUNTIF(Dienstplan!B17:BH17,\"*_\"&($B$3)&\"*\")","v":0},{"$f":"COUNTIF(Dienstplan!B17:BH17,\"*\"&($C$3)&\"*\")-COUNTIF(Dienstplan!B17:BH17,\"*_\"&($C$3)&\"*\")","v":0},{"$f":"COUNTIF(Dienstplan!B17:BH17,\"*\"&($D$3)&\"*\")-COUNTIF(Dienstplan!B17:BH17,\"*_\"&($D$3)&\"*\")","v":0},{"$f":"COUNTIF(Dienstplan!B17:BH17,\"*\"&($E$3)&\"*\")-COUNTIF(Dienstplan!B17:BH17,\"*_\"&($E$3)&\"*\")","v":1},{"$f":"COUNTIF(Dienstplan!B17:BH17,\"*\"&($F$3)&\"*\")-COUNTIF(Dienstplan!B17:BH17,\"*_\"&($F$3)&\"*\")","v":0},{"$f":"COUNTIF(Dienstplan!B17:BH17,\"*\"&($G$3)&\"*\")-COUNTIF(Dienstplan!B17:BH17,\"*_\"&($G$3)&\"*\")","v":1},{"$f":"COUNTIF(Dienstplan!B17:BH17,\"*\"&($H$3)&\"*\")-COUNTIF(Dienstplan!B17:BH17,\"*_\"&($H$3)&\"*\")","v":1},{"$f":"COUNTIF(Dienstplan!B17:BH17,\"*\"&($I$3)&\"*\")-COUNTIF(Dienstplan!B17:BH17,\"*_\"&($I$3)&\"*\")","v":1},{"$f":"COUNTIF(Dienstplan!B17:BH17,\"*\"&($J$3)&\"*\")-COUNTIF(Dienstplan!B17:BH17,\"*_\"&($J$3)&\"*\")","v":1},{"$f":"COUNTIF(Dienstplan!B17:BH17,\"*\"&($K$3)&\"*\")-COUNTIF(Dienstplan!B17:BH17,\"*_\"&($K$3)&\"*\")","v":1},{"$f":"COUNTIF(Dienstplan!B17:BH17,\"*\"&($L$3)&\"*\")-COUNTIF(Dienstplan!B17:BH17,\"*_\"&($L$3)&\"*\")","v":1},{"$f":"COUNTIF(Dienstplan!B17:BH17,\"*\"&($M$3)&\"*\")-COUNTIF(Dienstplan!B17:BH17,\"*_\"&($M$3)&\"*\")","v":1},{"$f":"COUNTIF(Dienstplan!B17:BH17,\"*\"&($N$3)&\"*\")-COUNTIF(Dienstplan!B17:BH17,\"*_\"&($N$3)&\"*\")","v":0},{"$f":"COUNTIF(Dienstplan!B17:BH17,\"*\"&($O$3)&\"*\")-COUNTIF(Dienstplan!B17:BH17,\"*_\"&($O$3)&\"*\")","v":1},{"$f":"COUNTIF(Dienstplan!B17:BH17,\"*\"&($P$3)&\"*\")-COUNTIF(Dienstplan!B17:BH17,\"*_\"&($P$3)&\"*\")","v":1},{"$f":"COUNTIF(Dienstplan!B17:BH17,\"*\"&($Q$3)&\"*\")-COUNTIF(Dienstplan!B17:BH17,\"*_\"&($Q$3)&\"*\")","v":0},{"$f":"COUNTIF(Dienstplan!B17:BH17,\"*\"&($R$3)&\"*\")-COUNTIF(Dienstplan!B17:BH17,\"*_\"&($R$3)&\"*\")","v":1},{"$f":"COUNTIF(Dienstplan!B17:BH17,\"*\"&($S$3)&\"*\")-COUNTIF(Dienstplan!B17:BH17,\"*_\"&($S$3)&\"*\")","v":1},{"$f":"COUNTIF(Dienstplan!B17:BH17,\"*\"&($T$3)&\"*\")-COUNTIF(Dienstplan!B17:BH17,\"*_\"&($T$3)&\"*\")","v":1},{"$f":"COUNTIF(Dienstplan!B17:BH17,\"*\"&($U$3)&\"*\")-COUNTIF(Dienstplan!B17:BH17,\"*_\"&($U$3)&\"*\")","v":1},{"$f":"COUNTIF(Dienstplan!B17:BH17,\"*\"&($V$3)&\"*\")-COUNTIF(Dienstplan!B17:BH17,\"*_\"&($V$3)&\"*\")","v":1},{"$f":"COUNTIF(Dienstplan!B17:BH17,\"*\"&($W$3)&\"*\")-COUNTIF(Dienstplan!B17:BH17,\"*_\"&($W$3)&\"*\")","v":0},{"$f":"COUNTIF(Dienstplan!B17:BH17,\"*\"&($X$3)&\"*\")-COUNTIF(Dienstplan!B17:BH17,\"*_\"&($X$3)&\"*\")","v":0},{"$f":"COUNTIF(Dienstplan!B17:BH17,\"*\"&($Y$3)&\"*\")-COUNTIF(Dienstplan!B17:BH17,\"*_\"&($Y$3)&\"*\")","v":0},{"$f":"COUNTIF(Dienstplan!B17:BH17,\"*\"&($Z$3)&\"*\")-COUNTIF(Dienstplan!B17:BH17,\"*_\"&($Z$3)&\"*\")","v":0},{"$f":"COUNTIF(Dienstplan!B17:BH17,\"*\"&($AA$3)&\"*\")-COUNTIF(Dienstplan!B17:BH17,\"*_\"&($AA$3)&\"*\")","v":0},{"$f":"COUNTIF(Dienstplan!B17:BH17,\"*\"&($AB$3)&\"*\")-COUNTIF(Dienstplan!B17:BH17,\"*_\"&($AB$3)&\"*\")","v":0},{"$f":"COUNTIF(Dienstplan!B17:BH17,\"*\"&($AC$3)&\"*\")-COUNTIF(Dienstplan!B17:BH17,\"*_\"&($AC$3)&\"*\")","v":0},{"$f":"COUNTIF(Dienstplan!B17:BH17,\"*\"&($AD$3)&\"*\")-COUNTIF(Dienstplan!B17:BH17,\"*_\"&($AD$3)&\"*\")","v":0},{"$f":"COUNTIF(Dienstplan!B17:BH17,\"*\"&($AE$3)&\"*\")-COUNTIF(Dienstplan!B17:BH17,\"*_\"&($AE$3)&\"*\")","v":0},{"$f":"COUNTIF(Dienstplan!B17:BH17,\"*\"&($AF$3)&\"*\")-COUNTIF(Dienstplan!B17:BH17,\"*_\"&($AF$3)&\"*\")","v":0},{"$f":"COUNTIF(Dienstplan!B17:BH17,\"*\"&($AG$3)&\"*\")-COUNTIF(Dienstplan!B17:BH17,\"*_\"&($AG$3)&\"*\")","v":0},{"$f":"COUNTIF(Dienstplan!B17:BH17,\"*\"&($AH$3)&\"*\")-COUNTIF(Dienstplan!B17:BH17,\"*_\"&($AH$3)&\"*\")","v":0},{"$f":"COUNTIF(Dienstplan!B17:BH17,\"*\"&($AI$3)&\"*\")-COUNTIF(Dienstplan!B17:BH17,\"*_\"&($AI$3)&\"*\")","v":0},{"$f":"COUNTIF(Dienstplan!$B17:$BH17,\"*\"&($AJ$3)&\"*\")-COUNTIF(Dienstplan!$B17:$BH17,\"*_\"&($AJ$3)&\"*\")","v":0}]
[{"$f":"COUNTIF(Dienstplan!B18:BH18,\"*\"&($A$3)&\"*\")-COUNTIF(Dienstplan!B18:BH18,\"*_\"&($A$3)&\"*\")","v":0},{"$f":"COUNTIF(Dienstplan!B18:BH18,\"*\"&($B$3)&\"*\")-COUNTIF(Dienstplan!B18:BH18,\"*_\"&($B$3)&\"*\")","v":0},{"$f":"COUNTIF(Dienstplan!B18:BH18,\"*\"&($C$3)&\"*\")-COUNTIF(Dienstplan!B18:BH18,\"*_\"&($C$3)&\"*\")","v":0},{"$f":"COUNTIF(Dienstplan!B18:BH18,\"*\"&($D$3)&\"*\")-COUNTIF(Dienstplan!B18:BH18,\"*_\"&($D$3)&\"*\")","v":0},{"$f":"COUNTIF(Dienstplan!B18:BH18,\"*\"&($E$3)&\"*\")-COUNTIF(Dienstplan!B18:BH18,\"*_\"&($E$3)&\"*\")","v":1},{"$f":"COUNTIF(Dienstplan!B18:BH18,\"*\"&($F$3)&\"*\")-COUNTIF(Dienstplan!B18:BH18,\"*_\"&($F$3)&\"*\")","v":0},{"$f":"COUNTIF(Dienstplan!B18:BH18,\"*\"&($G$3)&\"*\")-COUNTIF(Dienstplan!B18:BH18,\"*_\"&($G$3)&\"*\")","v":1},{"$f":"COUNTIF(Dienstplan!B18:BH18,\"*\"&($H$3)&\"*\")-COUNTIF(Dienstplan!B18:BH18,\"*_\"&($H$3)&\"*\")","v":1},{"$f":"COUNTIF(Dienstplan!B18:BH18,\"*\"&($I$3)&\"*\")-COUNTIF(Dienstplan!B18:BH18,\"*_\"&($I$3)&\"*\")","v":1},{"$f":"COUNTIF(Dienstplan!B18:BH18,\"*\"&($J$3)&\"*\")-COUNTIF(Dienstplan!B18:BH18,\"*_\"&($J$3)&\"*\")","v":1},{"$f":"COUNTIF(Dienstplan!B18:BH18,\"*\"&($K$3)&\"*\")-COUNTIF(Dienstplan!B18:BH18,\"*_\"&($K$3)&\"*\")","v":1},{"$f":"COUNTIF(Dienstplan!B18:BH18,\"*\"&($L$3)&\"*\")-COUNTIF(Dienstplan!B18:BH18,\"*_\"&($L$3)&\"*\")","v":1},{"$f":"COUNTIF(Dienstplan!B18:BH18,\"*\"&($M$3)&\"*\")-COUNTIF(Dienstplan!B18:BH18,\"*_\"&($M$3)&\"*\")","v":1},{"$f":"COUNTIF(Dienstplan!B18:BH18,\"*\"&($N$3)&\"*\")-COUNTIF(Dienstplan!B18:BH18,\"*_\"&($N$3)&\"*\")","v":0},{"$f":"COUNTIF(Dienstplan!B18:BH18,\"*\"&($O$3)&\"*\")-COUNTIF(Dienstplan!B18:BH18,\"*_\"&($O$3)&\"*\")","v":1},{"$f":"COUNTIF(Dienstplan!B18:BH18,\"*\"&($P$3)&\"*\")-COUNTIF(Dienstplan!B18:BH18,\"*_\"&($P$3)&\"*\")","v":1},{"$f":"COUNTIF(Dienstplan!B18:BH18,\"*\"&($Q$3)&\"*\")-COUNTIF(Dienstplan!B18:BH18,\"*_\"&($Q$3)&\"*\")","v":0},{"$f":"COUNTIF(Dienstplan!B18:BH18,\"*\"&($R$3)&\"*\")-COUNTIF(Dienstplan!B18:BH18,\"*_\"&($R$3)&\"*\")","v":1},{"$f":"COUNTIF(Dienstplan!B18:BH18,\"*\"&($S$3)&\"*\")-COUNTIF(Dienstplan!B18:BH18,\"*_\"&($S$3)&\"*\")","v":1},{"$f":"COUNTIF(Dienstplan!B18:BH18,\"*\"&($T$3)&\"*\")-COUNTIF(Dienstplan!B18:BH18,\"*_\"&($T$3)&\"*\")","v":1},{"$f":"COUNTIF(Dienstplan!B18:BH18,\"*\"&($U$3)&\"*\")-COUNTIF(Dienstplan!B18:BH18,\"*_\"&($U$3)&\"*\")","v":1},{"$f":"COUNTIF(Dienstplan!B18:BH18,\"*\"&($V$3)&\"*\")-COUNTIF(Dienstplan!B18:BH18,\"*_\"&($V$3)&\"*\")","v":1},{"$f":"COUNTIF(Dienstplan!B18:BH18,\"*\"&($W$3)&\"*\")-COUNTIF(Dienstplan!B18:BH18,\"*_\"&($W$3)&\"*\")","v":0},{"$f":"COUNTIF(Dienstplan!B18:BH18,\"*\"&($X$3)&\"*\")-COUNTIF(Dienstplan!B18:BH18,\"*_\"&($X$3)&\"*\")","v":0},{"$f":"COUNTIF(Dienstplan!B18:BH18,\"*\"&($Y$3)&\"*\")-COUNTIF(Dienstplan!B18:BH18,\"*_\"&($Y$3)&\"*\")","v":0},{"$f":"COUNTIF(Dienstplan!B18:BH18,\"*\"&($Z$3)&\"*\")-COUNTIF(Dienstplan!B18:BH18,\"*_\"&($Z$3)&\"*\")","v":0},{"$f":"COUNTIF(Dienstplan!B18:BH18,\"*\"&($AA$3)&\"*\")-COUNTIF(Dienstplan!B18:BH18,\"*_\"&($AA$3)&\"*\")","v":0},{"$f":"COUNTIF(Dienstplan!B18:BH18,\"*\"&($AB$3)&\"*\")-COUNTIF(Dienstplan!B18:BH18,\"*_\"&($AB$3)&\"*\")","v":0},{"$f":"COUNTIF(Dienstplan!B18:BH18,\"*\"&($AC$3)&\"*\")-COUNTIF(Dienstplan!B18:BH18,\"*_\"&($AC$3)&\"*\")","v":0},{"$f":"COUNTIF(Dienstplan!B18:BH18,\"*\"&($AD$3)&\"*\")-COUNTIF(Dienstplan!B18:BH18,\"*_\"&($AD$3)&\"*\")","v":0},{"$f":"COUNTIF(Dienstplan!B18:BH18,\"*\"&($AE$3)&\"*\")-COUNTIF(Dienstplan!B18:BH18,\"*_\"&($AE$3)&\"*\")","v":0},{"$f":"COUNTIF(Dienstplan!B18:BH18,\"*\"&($AF$3)&\"*\")-COUNTIF(Dienstplan!B18:BH18,\"*_\"&($AF$3)&\"*\")","v":0},{"$f":"COUNTIF(Dienstplan!B18:BH18,\"*\"&($AG$3)&\"*\")-COUNTIF(Dienstplan!B18:BH18,\"*_\"&($AG$3)&\"*\")","v":0},{"$f":"COUNTIF(Dienstplan!B18:BH18,\"*\"&($AH$3)&\"*\")-COUNTIF(Dienstplan!B18:BH18,\"*_\"&($AH$3)&\"*\")","v":0},{"$f":"COUNTIF(Dienstplan!B18:BH18,\"*\"&($AI$3)&\"*\")-COUNTIF(Dienstplan!B18:BH18,\"*_\"&($AI$3)&\"*\")","v":0},{"$f":"COUNTIF(Dienstplan!$B18:$BH18,\"*\"&($AJ$3)&\"*\")-COUNTIF(Dienstplan!$B18:$BH18,\"*_\"&($AJ$3)&\"*\")","v":0}]
[{"$f":"COUNTIF(Dienstplan!B19:BH19,\"*\"&($A$3)&\"*\")-COUNTIF(Dienstplan!B19:BH19,\"*_\"&($A$3)&\"*\")","v":0},{"$f":"COUNTIF(Dienstplan!B19:BH19,\"*\"&($B$3)&\"*\")-COUNTIF(Dienstplan!B19:BH19,\"*_\"&($B$3)&\"*\")","v":0},{"$f":"COUNTIF(Dienstplan!B19:BH19,\"*\"&($C$3)&\"*\")-COUNTIF(Dienstplan!B19:BH19,\"*_\"&($C$3)&\"*\")","v":0},{"$f":"COUNTIF(Dienstplan!B19:BH19,\"*\"&($D$3)&\"*\")-COUNTIF(Dienstplan!B19:BH19,\"*_\"&($D$3)&\"*\")","v":0},{"$f":"COUNTIF(Dienstplan!B19:BH19,\"*\"&($E$3)&\"*\")-COUNTIF(Dienstplan!B19:BH19,\"*_\"&($E$3)&\"*\")","v":0},{"$f":"COUNTIF(Dienstplan!B19:BH19,\"*\"&($F$3)&\"*\")-COUNTIF(Dienstplan!B19:BH19,\"*_\"&($F$3)&\"*\")","v":0},{"$f":"COUNTIF(Dienstplan!B19:BH19,\"*\"&($G$3)&\"*\")-COUNTIF(Dienstplan!B19:BH19,\"*_\"&($G$3)&\"*\")","v":0},{"$f":"COUNTIF(Dienstplan!B19:BH19,\"*\"&($H$3)&\"*\")-COUNTIF(Dienstplan!B19:BH19,\"*_\"&($H$3)&\"*\")","v":1},{"$f":"COUNTIF(Dienstplan!B19:BH19,\"*\"&($I$3)&\"*\")-COUNTIF(Dienstplan!B19:BH19,\"*_\"&($I$3)&\"*\")","v":1},{"$f":"COUNTIF(Dienstplan!B19:BH19,\"*\"&($J$3)&\"*\")-COUNTIF(Dienstplan!B19:BH19,\"*_\"&($J$3)&\"*\")","v":0},{"$f":"COUNTIF(Dienstplan!B19:BH19,\"*\"&($K$3)&\"*\")-COUNTIF(Dienstplan!B19:BH19,\"*_\"&($K$3)&\"*\")","v":0},{"$f":"COUNTIF(Dienstplan!B19:BH19,\"*\"&($L$3)&\"*\")-COUNTIF(Dienstplan!B19:BH19,\"*_\"&($L$3)&\"*\")","v":1},{"$f":"COUNTIF(Dienstplan!B19:BH19,\"*\"&($M$3)&\"*\")-COUNTIF(Dienstplan!B19:BH19,\"*_\"&($M$3)&\"*\")","v":1},{"$f":"COUNTIF(Dienstplan!B19:BH19,\"*\"&($N$3)&\"*\")-COUNTIF(Dienstplan!B19:BH19,\"*_\"&($N$3)&\"*\")","v":1},{"$f":"COUNTIF(Dienstplan!B19:BH19,\"*\"&($O$3)&\"*\")-COUNTIF(Dienstplan!B19:BH19,\"*_\"&($O$3)&\"*\")","v":0},{"$f":"COUNTIF(Dienstplan!B19:BH19,\"*\"&($P$3)&\"*\")-COUNTIF(Dienstplan!B19:BH19,\"*_\"&($P$3)&\"*\")","v":0},{"$f":"COUNTIF(Dienstplan!B19:BH19,\"*\"&($Q$3)&\"*\")-COUNTIF(Dienstplan!B19:BH19,\"*_\"&($Q$3)&\"*\")","v":0},{"$f":"COUNTIF(Dienstplan!B19:BH19,\"*\"&($R$3)&\"*\")-COUNTIF(Dienstplan!B19:BH19,\"*_\"&($R$3)&\"*\")","v":1},{"$f":"COUNTIF(Dienstplan!B19:BH19,\"*\"&($S$3)&\"*\")-COUNTIF(Dienstplan!B19:BH19,\"*_\"&($S$3)&\"*\")","v":1},{"$f":"COUNTIF(Dienstplan!B19:BH19,\"*\"&($T$3)&\"*\")-COUNTIF(Dienstplan!B19:BH19,\"*_\"&($T$3)&\"*\")","v":1},{"$f":"COUNTIF(Dienstplan!B19:BH19,\"*\"&($U$3)&\"*\")-COUNTIF(Dienstplan!B19:BH19,\"*_\"&($U$3)&\"*\")","v":1},{"$f":"COUNTIF(Dienstplan!B19:BH19,\"*\"&($V$3)&\"*\")-COUNTIF(Dienstplan!B19:BH19,\"*_\"&($V$3)&\"*\")","v":0},{"$f":"COUNTIF(Dienstplan!B19:BH19,\"*\"&($W$3)&\"*\")-COUNTIF(Dienstplan!B19:BH19,\"*_\"&($W$3)&\"*\")","v":0},{"$f":"COUNTIF(Dienstplan!B19:BH19,\"*\"&($X$3)&\"*\")-COUNTIF(Dienstplan!B19:BH19,\"*_\"&($X$3)&\"*\")","v":0},{"$f":"COUNTIF(Dienstplan!B19:BH19,\"*\"&($Y$3)&\"*\")-COUNTIF(Dienstplan!B19:BH19,\"*_\"&($Y$3)&\"*\")","v":0},{"$f":"COUNTIF(Dienstplan!B19:BH19,\"*\"&($Z$3)&\"*\")-COUNTIF(Dienstplan!B19:BH19,\"*_\"&($Z$3)&\"*\")","v":0},{"$f":"COUNTIF(Dienstplan!B19:BH19,\"*\"&($AA$3)&\"*\")-COUNTIF(Dienstplan!B19:BH19,\"*_\"&($AA$3)&\"*\")","v":0},{"$f":"COUNTIF(Dienstplan!B19:BH19,\"*\"&($AB$3)&\"*\")-COUNTIF(Dienstplan!B19:BH19,\"*_\"&($AB$3)&\"*\")","v":0},{"$f":"COUNTIF(Dienstplan!B19:BH19,\"*\"&($AC$3)&\"*\")-COUNTIF(Dienstplan!B19:BH19,\"*_\"&($AC$3)&\"*\")","v":0},{"$f":"COUNTIF(Dienstplan!B19:BH19,\"*\"&($AD$3)&\"*\")-COUNTIF(Dienstplan!B19:BH19,\"*_\"&($AD$3)&\"*\")","v":0},{"$f":"COUNTIF(Dienstplan!B19:BH19,\"*\"&($AE$3)&\"*\")-COUNTIF(Dienstplan!B19:BH19,\"*_\"&($AE$3)&\"*\")","v":0},{"$f":"COUNTIF(Dienstplan!B19:BH19,\"*\"&($AF$3)&\"*\")-COUNTIF(Dienstplan!B19:BH19,\"*_\"&($AF$3)&\"*\")","v":0},{"$f":"COUNTIF(Dienstplan!B19:BH19,\"*\"&($AG$3)&\"*\")-COUNTIF(Dienstplan!B19:BH19,\"*_\"&($AG$3)&\"*\")","v":0},{"$f":"COUNTIF(Dienstplan!B19:BH19,\"*\"&($AH$3)&\"*\")-COUNTIF(Dienstplan!B19:BH19,\"*_\"&($AH$3)&\"*\")","v":0},{"$f":"COUNTIF(Dienstplan!B19:BH19,\"*\"&($AI$3)&\"*\")-COUNTIF(Dienstplan!B19:BH19,\"*_\"&($AI$3)&\"*\")","v":0},{"$f":"COUNTIF(Dienstplan!$B19:$BH19,\"*\"&($AJ$3)&\"*\")-COUNTIF(Dienstplan!$B19:$BH19,\"*_\"&($AJ$3)&\"*\")","v":0}]
[{"$f":"COUNTIF(Dienstplan!B20:BH20,\"*\"&($A$3)&\"*\")-COUNTIF(Dienstplan!B20:BH20,\"*_\"&($A$3)&\"*\")","v":0},{"$f":"COUNTIF(Dienstplan!B20:BH20,\"*\"&($B$3)&\"*\")-COUNTIF(Dienstplan!B20:BH20,\"*_\"&($B$3)&\"*\")","v":0},{"$f":"COUNTIF(Dienstplan!B20:BH20,\"*\"&($C$3)&\"*\")-COUNTIF(Dienstplan!B20:BH20,\"*_\"&($C$3)&\"*\")","v":0},{"$f":"COUNTIF(Dienstplan!B20:BH20,\"*\"&($D$3)&\"*\")-COUNTIF(Dienstplan!B20:BH20,\"*_\"&($D$3)&\"*\")","v":0},{"$f":"COUNTIF(Dienstplan!B20:BH20,\"*\"&($E$3)&\"*\")-COUNTIF(Dienstplan!B20:BH20,\"*_\"&($E$3)&\"*\")","v":0},{"$f":"COUNTIF(Dienstplan!B20:BH20,\"*\"&($F$3)&\"*\")-COUNTIF(Dienstplan!B20:BH20,\"*_\"&($F$3)&\"*\")","v":0},{"$f":"COUNTIF(Dienstplan!B20:BH20,\"*\"&($G$3)&\"*\")-COUNTIF(Dienstplan!B20:BH20,\"*_\"&($G$3)&\"*\")","v":0},{"$f":"COUNTIF(Dienstplan!B20:BH20,\"*\"&($H$3)&\"*\")-COUNTIF(Dienstplan!B20:BH20,\"*_\"&($H$3)&\"*\")","v":1},{"$f":"COUNTIF(Dienstplan!B20:BH20,\"*\"&($I$3)&\"*\")-COUNTIF(Dienstplan!B20:BH20,\"*_\"&($I$3)&\"*\")","v":1},{"$f":"COUNTIF(Dienstplan!B20:BH20,\"*\"&($J$3)&\"*\")-COUNTIF(Dienstplan!B20:BH20,\"*_\"&($J$3)&\"*\")","v":0},{"$f":"COUNTIF(Dienstplan!B20:BH20,\"*\"&($K$3)&\"*\")-COUNTIF(Dienstplan!B20:BH20,\"*_\"&($K$3)&\"*\")","v":0},{"$f":"COUNTIF(Dienstplan!B20:BH20,\"*\"&($L$3)&\"*\")-COUNTIF(Dienstplan!B20:BH20,\"*_\"&($L$3)&\"*\")","v":1},{"$f":"COUNTIF(Dienstplan!B20:BH20,\"*\"&($M$3)&\"*\")-COUNTIF(Dienstplan!B20:BH20,\"*_\"&($M$3)&\"*\")","v":1},{"$f":"COUNTIF(Dienstplan!B20:BH20,\"*\"&($N$3)&\"*\")-COUNTIF(Dienstplan!B20:BH20,\"*_\"&($N$3)&\"*\")","v":1},{"$f":"COUNTIF(Dienstplan!B20:BH20,\"*\"&($O$3)&\"*\")-COUNTIF(Dienstplan!B20:BH20,\"*_\"&($O$3)&\"*\")","v":0},{"$f":"COUNTIF(Dienstplan!B20:BH20,\"*\"&($P$3)&\"*\")-COUNTIF(Dienstplan!B20:BH20,\"*_\"&($P$3)&\"*\")","v":0},{"$f":"COUNTIF(Dienstplan!B20:BH20,\"*\"&($Q$3)&\"*\")-COUNTIF(Dienstplan!B20:BH20,\"*_\"&($Q$3)&\"*\")","v":0},{"$f":"COUNTIF(Dienstplan!B20:BH20,\"*\"&($R$3)&\"*\")-COUNTIF(Dienstplan!B20:BH20,\"*_\"&($R$3)&\"*\")","v":0},{"$f":"COUNTIF(Dienstplan!B20:BH20,\"*\"&($S$3)&\"*\")-COUNTIF(Dienstplan!B20:BH20,\"*_\"&($S$3)&\"*\")","v":1},{"$f":"COUNTIF(Dienstplan!B20:BH20,\"*\"&($T$3)&\"*\")-COUNTIF(Dienstplan!B20:BH20,\"*_\"&($T$3)&\"*\")","v":0},{"$f":"COUNTIF(Dienstplan!B20:BH20,\"*\"&($U$3)&\"*\")-COUNTIF(Dienstplan!B20:BH20,\"*_\"&($U$3)&\"*\")","v":1},{"$f":"COUNTIF(Dienstplan!B20:BH20,\"*\"&($V$3)&\"*\")-COUNTIF(Dienstplan!B20:BH20,\"*_\"&($V$3)&\"*\")","v":0},{"$f":"COUNTIF(Dienstplan!B20:BH20,\"*\"&($W$3)&\"*\")-COUNTIF(Dienstplan!B20:BH20,\"*_\"&($W$3)&\"*\")","v":0},{"$f":"COUNTIF(Dienstplan!B20:BH20,\"*\"&($X$3)&\"*\")-COUNTIF(Dienstplan!B20:BH20,\"*_\"&($X$3)&\"*\")","v":0},{"$f":"COUNTIF(Dienstplan!B20:BH20,\"*\"&($Y$3)&\"*\")-COUNTIF(Dienstplan!B20:BH20,\"*_\"&($Y$3)&\"*\")","v":0},{"$f":"COUNTIF(Dienstplan!B20:BH20,\"*\"&($Z$3)&\"*\")-COUNTIF(Dienstplan!B20:BH20,\"*_\"&($Z$3)&\"*\")","v":0},{"$f":"COUNTIF(Dienstplan!B20:BH20,\"*\"&($AA$3)&\"*\")-COUNTIF(Dienstplan!B20:BH20,\"*_\"&($AA$3)&\"*\")","v":0},{"$f":"COUNTIF(Dienstplan!B20:BH20,\"*\"&($AB$3)&\"*\")-COUNTIF(Dienstplan!B20:BH20,\"*_\"&($AB$3)&\"*\")","v":0},{"$f":"COUNTIF(Dienstplan!B20:BH20,\"*\"&($AC$3)&\"*\")-COUNTIF(Dienstplan!B20:BH20,\"*_\"&($AC$3)&\"*\")","v":0},{"$f":"COUNTIF(Dienstplan!B20:BH20,\"*\"&($AD$3)&\"*\")-COUNTIF(Dienstplan!B20:BH20,\"*_\"&($AD$3)&\"*\")","v":0},{"$f":"COUNTIF(Dienstplan!B20:BH20,\"*\"&($AE$3)&\"*\")-COUNTIF(Dienstplan!B20:BH20,\"*_\"&($AE$3)&\"*\")","v":0},{"$f":"COUNTIF(Dienstplan!B20:BH20,\"*\"&($AF$3)&\"*\")-COUNTIF(Dienstplan!B20:BH20,\"*_\"&($AF$3)&\"*\")","v":0},{"$f":"COUNTIF(Dienstplan!B20:BH20,\"*\"&($AG$3)&\"*\")-COUNTIF(Dienstplan!B20:BH20,\"*_\"&($AG$3)&\"*\")","v":0},{"$f":"COUNTIF(Dienstplan!B20:BH20,\"*\"&($AH$3)&\"*\")-COUNTIF(Dienstplan!B20:BH20,\"*_\"&($AH$3)&\"*\")","v":0},{"$f":"COUNTIF(Dienstplan!B20:BH20,\"*\"&($AI$3)&\"*\")-COUNTIF(Dienstplan!B20:BH20,\"*_\"&($AI$3)&\"*\")","v":0},{"$f":"COUNTIF(Dienstplan!$B20:$BH20,\"*\"&($AJ$3)&\"*\")-COUNTIF(Dienstplan!$B20:$BH20,\"*_\"&($AJ$3)&\"*\")","v":0}]
[{"$f":"COUNTIF(Dienstplan!B21:BH21,\"*\"&($A$3)&\"*\")-COUNTIF(Dienstplan!B21:BH21,\"*_\"&($A$3)&\"*\")","v":0},{"$f":"COUNTIF(Dienstplan!B21:BH21,\"*\"&($B$3)&\"*\")-COUNTIF(Dienstplan!B21:BH21,\"*_\"&($B$3)&\"*\")","v":0},{"$f":"COUNTIF(Dienstplan!B21:BH21,\"*\"&($C$3)&\"*\")-COUNTIF(Dienstplan!B21:BH21,\"*_\"&($C$3)&\"*\")","v":0},{"$f":"COUNTIF(Dienstplan!B21:BH21,\"*\"&($D$3)&\"*\")-COUNTIF(Dienstplan!B21:BH21,\"*_\"&($D$3)&\"*\")","v":0},{"$f":"COUNTIF(Dienstplan!B21:BH21,\"*\"&($E$3)&\"*\")-COUNTIF(Dienstplan!B21:BH21,\"*_\"&($E$3)&\"*\")","v":0},{"$f":"COUNTIF(Dienstplan!B21:BH21,\"*\"&($F$3)&\"*\")-COUNTIF(Dienstplan!B21:BH21,\"*_\"&($F$3)&\"*\")","v":0},{"$f":"COUNTIF(Dienstplan!B21:BH21,\"*\"&($G$3)&\"*\")-COUNTIF(Dienstplan!B21:BH21,\"*_\"&($G$3)&\"*\")","v":0},{"$f":"COUNTIF(Dienstplan!B21:BH21,\"*\"&($H$3)&\"*\")-COUNTIF(Dienstplan!B21:BH21,\"*_\"&($H$3)&\"*\")","v":0},{"$f":"COUNTIF(Dienstplan!B21:BH21,\"*\"&($I$3)&\"*\")-COUNTIF(Dienstplan!B21:BH21,\"*_\"&($I$3)&\"*\")","v":0},{"$f":"COUNTIF(Dienstplan!B21:BH21,\"*\"&($J$3)&\"*\")-COUNTIF(Dienstplan!B21:BH21,\"*_\"&($J$3)&\"*\")","v":0},{"$f":"COUNTIF(Dienstplan!B21:BH21,\"*\"&($K$3)&\"*\")-COUNTIF(Dienstplan!B21:BH21,\"*_\"&($K$3)&\"*\")","v":0},{"$f":"COUNTIF(Dienstplan!B21:BH21,\"*\"&($L$3)&\"*\")-COUNTIF(Dienstplan!B21:BH21,\"*_\"&($L$3)&\"*\")","v":0},{"$f":"COUNTIF(Dienstplan!B21:BH21,\"*\"&($M$3)&\"*\")-COUNTIF(Dienstplan!B21:BH21,\"*_\"&($M$3)&\"*\")","v":0},{"$f":"COUNTIF(Dienstplan!B21:BH21,\"*\"&($N$3)&\"*\")-COUNTIF(Dienstplan!B21:BH21,\"*_\"&($N$3)&\"*\")","v":0},{"$f":"COUNTIF(Dienstplan!B21:BH21,\"*\"&($O$3)&\"*\")-COUNTIF(Dienstplan!B21:BH21,\"*_\"&($O$3)&\"*\")","v":0},{"$f":"COUNTIF(Dienstplan!B21:BH21,\"*\"&($P$3)&\"*\")-COUNTIF(Dienstplan!B21:BH21,\"*_\"&($P$3)&\"*\")","v":0},{"$f":"COUNTIF(Dienstplan!B21:BH21,\"*\"&($Q$3)&\"*\")-COUNTIF(Dienstplan!B21:BH21,\"*_\"&($Q$3)&\"*\")","v":0},{"$f":"COUNTIF(Dienstplan!B21:BH21,\"*\"&($R$3)&\"*\")-COUNTIF(Dienstplan!B21:BH21,\"*_\"&($R$3)&\"*\")","v":0},{"$f":"COUNTIF(Dienstplan!B21:BH21,\"*\"&($S$3)&\"*\")-COUNTIF(Dienstplan!B21:BH21,\"*_\"&($S$3)&\"*\")","v":0},{"$f":"COUNTIF(Dienstplan!B21:BH21,\"*\"&($T$3)&\"*\")-COUNTIF(Dienstplan!B21:BH21,\"*_\"&($T$3)&\"*\")","v":0},{"$f":"COUNTIF(Dienstplan!B21:BH21,\"*\"&($U$3)&\"*\")-COUNTIF(Dienstplan!B21:BH21,\"*_\"&($U$3)&\"*\")","v":0},{"$f":"COUNTIF(Dienstplan!B21:BH21,\"*\"&($V$3)&\"*\")-COUNTIF(Dienstplan!B21:BH21,\"*_\"&($V$3)&\"*\")","v":0},{"$f":"COUNTIF(Dienstplan!B21:BH21,\"*\"&($W$3)&\"*\")-COUNTIF(Dienstplan!B21:BH21,\"*_\"&($W$3)&\"*\")","v":0},{"$f":"COUNTIF(Dienstplan!B21:BH21,\"*\"&($X$3)&\"*\")-COUNTIF(Dienstplan!B21:BH21,\"*_\"&($X$3)&\"*\")","v":0},{"$f":"COUNTIF(Dienstplan!B21:BH21,\"*\"&($Y$3)&\"*\")-COUNTIF(Dienstplan!B21:BH21,\"*_\"&($Y$3)&\"*\")","v":0},{"$f":"COUNTIF(Dienstplan!B21:BH21,\"*\"&($Z$3)&\"*\")-COUNTIF(Dienstplan!B21:BH21,\"*_\"&($Z$3)&\"*\")","v":0},{"$f":"COUNTIF(Dienstplan!B21:BH21,\"*\"&($AA$3)&\"*\")-COUNTIF(Dienstplan!B21:BH21,\"*_\"&($AA$3)&\"*\")","v":0},{"$f":"COUNTIF(Dienstplan!B21:BH21,\"*\"&($AB$3)&\"*\")-COUNTIF(Dienstplan!B21:BH21,\"*_\"&($AB$3)&\"*\")","v":0},{"$f":"COUNTIF(Dienstplan!B21:BH21,\"*\"&($AC$3)&\"*\")-COUNTIF(Dienstplan!B21:BH21,\"*_\"&($AC$3)&\"*\")","v":0},{"$f":"COUNTIF(Dienstplan!B21:BH21,\"*\"&($AD$3)&\"*\")-COUNTIF(Dienstplan!B21:BH21,\"*_\"&($AD$3)&\"*\")","v":0},{"$f":"COUNTIF(Dienstplan!B21:BH21,\"*\"&($AE$3)&\"*\")-COUNTIF(Dienstplan!B21:BH21,\"*_\"&($AE$3)&\"*\")","v":0},{"$f":"COUNTIF(Dienstplan!B21:BH21,\"*\"&($AF$3)&\"*\")-COUNTIF(Dienstplan!B21:BH21,\"*_\"&($AF$3)&\"*\")","v":0},{"$f":"COUNTIF(Dienstplan!B21:BH21,\"*\"&($AG$3)&\"*\")-COUNTIF(Dienstplan!B21:BH21,\"*_\"&($AG$3)&\"*\")","v":0},{"$f":"COUNTIF(Dienstplan!B21:BH21,\"*\"&($AH$3)&\"*\")-COUNTIF(Dienstplan!B21:BH21,\"*_\"&($AH$3)&\"*\")","v":0},{"$f":"COUNTIF(Dienstplan!B21:BH21,\"*\"&($AI$3)&\"*\")-COUNTIF(Dienstplan!B21:BH21,\"*_\"&($AI$3)&\"*\")","v":0},{"$f":"COUNTIF(Dienstplan!$B21:$BH21,\"*\"&($AJ$3)&\"*\")-COUNTIF(Dienstplan!$B21:$BH21,\"*_\"&($AJ$3)&\"*\")","v":0}]
[{"$f":"COUNTIF(Dienstplan!B22:BH22,\"*\"&($A$3)&\"*\")-COUNTIF(Dienstplan!B22:BH22,\"*_\"&($A$3)&\"*\")","v":0},{"$f":"COUNTIF(Dienstplan!B22:BH22,\"*\"&($B$3)&\"*\")-COUNTIF(Dienstplan!B22:BH22,\"*_\"&($B$3)&\"*\")","v":0},{"$f":"COUNTIF(Dienstplan!B22:BH22,\"*\"&($C$3)&\"*\")-COUNTIF(Dienstplan!B22:BH22,\"*_\"&($C$3)&\"*\")","v":0},{"$f":"COUNTIF(Dienstplan!B22:BH22,\"*\"&($D$3)&\"*\")-COUNTIF(Dienstplan!B22:BH22,\"*_\"&($D$3)&\"*\")","v":0},{"$f":"COUNTIF(Dienstplan!B22:BH22,\"*\"&($E$3)&\"*\")-COUNTIF(Dienstplan!B22:BH22,\"*_\"&($E$3)&\"*\")","v":0},{"$f":"COUNTIF(Dienstplan!B22:BH22,\"*\"&($F$3)&\"*\")-COUNTIF(Dienstplan!B22:BH22,\"*_\"&($F$3)&\"*\")","v":0},{"$f":"COUNTIF(Dienstplan!B22:BH22,\"*\"&($G$3)&\"*\")-COUNTIF(Dienstplan!B22:BH22,\"*_\"&($G$3)&\"*\")","v":0},{"$f":"COUNTIF(Dienstplan!B22:BH22,\"*\"&($H$3)&\"*\")-COUNTIF(Dienstplan!B22:BH22,\"*_\"&($H$3)&\"*\")","v":0},{"$f":"COUNTIF(Dienstplan!B22:BH22,\"*\"&($I$3)&\"*\")-COUNTIF(Dienstplan!B22:BH22,\"*_\"&($I$3)&\"*\")","v":0},{"$f":"COUNTIF(Dienstplan!B22:BH22,\"*\"&($J$3)&\"*\")-COUNTIF(Dienstplan!B22:BH22,\"*_\"&($J$3)&\"*\")","v":0},{"$f":"COUNTIF(Dienstplan!B22:BH22,\"*\"&($K$3)&\"*\")-COUNTIF(Dienstplan!B22:BH22,\"*_\"&($K$3)&\"*\")","v":0},{"$f":"COUNTIF(Dienstplan!B22:BH22,\"*\"&($L$3)&\"*\")-COUNTIF(Dienstplan!B22:BH22,\"*_\"&($L$3)&\"*\")","v":0},{"$f":"COUNTIF(Dienstplan!B22:BH22,\"*\"&($M$3)&\"*\")-COUNTIF(Dienstplan!B22:BH22,\"*_\"&($M$3)&\"*\")","v":0},{"$f":"COUNTIF(Dienstplan!B22:BH22,\"*\"&($N$3)&\"*\")-COUNTIF(Dienstplan!B22:BH22,\"*_\"&($N$3)&\"*\")","v":0},{"$f":"COUNTIF(Dienstplan!B22:BH22,\"*\"&($O$3)&\"*\")-COUNTIF(Dienstplan!B22:BH22,\"*_\"&($O$3)&\"*\")","v":0},{"$f":"COUNTIF(Dienstplan!B22:BH22,\"*\"&($P$3)&\"*\")-COUNTIF(Dienstplan!B22:BH22,\"*_\"&($P$3)&\"*\")","v":0},{"$f":"COUNTIF(Dienstplan!B22:BH22,\"*\"&($Q$3)&\"*\")-COUNTIF(Dienstplan!B22:BH22,\"*_\"&($Q$3)&\"*\")","v":0},{"$f":"COUNTIF(Dienstplan!B22:BH22,\"*\"&($R$3)&\"*\")-COUNTIF(Dienstplan!B22:BH22,\"*_\"&($R$3)&\"*\")","v":0},{"$f":"COUNTIF(Dienstplan!B22:BH22,\"*\"&($S$3)&\"*\")-COUNTIF(Dienstplan!B22:BH22,\"*_\"&($S$3)&\"*\")","v":0},{"$f":"COUNTIF(Dienstplan!B22:BH22,\"*\"&($T$3)&\"*\")-COUNTIF(Dienstplan!B22:BH22,\"*_\"&($T$3)&\"*\")","v":0},{"$f":"COUNTIF(Dienstplan!B22:BH22,\"*\"&($U$3)&\"*\")-COUNTIF(Dienstplan!B22:BH22,\"*_\"&($U$3)&\"*\")","v":0},{"$f":"COUNTIF(Dienstplan!B22:BH22,\"*\"&($V$3)&\"*\")-COUNTIF(Dienstplan!B22:BH22,\"*_\"&($V$3)&\"*\")","v":0},{"$f":"COUNTIF(Dienstplan!B22:BH22,\"*\"&($W$3)&\"*\")-COUNTIF(Dienstplan!B22:BH22,\"*_\"&($W$3)&\"*\")","v":0},{"$f":"COUNTIF(Dienstplan!B22:BH22,\"*\"&($X$3)&\"*\")-COUNTIF(Dienstplan!B22:BH22,\"*_\"&($X$3)&\"*\")","v":0},{"$f":"COUNTIF(Dienstplan!B22:BH22,\"*\"&($Y$3)&\"*\")-COUNTIF(Dienstplan!B22:BH22,\"*_\"&($Y$3)&\"*\")","v":0},{"$f":"COUNTIF(Dienstplan!B22:BH22,\"*\"&($Z$3)&\"*\")-COUNTIF(Dienstplan!B22:BH22,\"*_\"&($Z$3)&\"*\")","v":0},{"$f":"COUNTIF(Dienstplan!B22:BH22,\"*\"&($AA$3)&\"*\")-COUNTIF(Dienstplan!B22:BH22,\"*_\"&($AA$3)&\"*\")","v":0},{"$f":"COUNTIF(Dienstplan!B22:BH22,\"*\"&($AB$3)&\"*\")-COUNTIF(Dienstplan!B22:BH22,\"*_\"&($AB$3)&\"*\")","v":0},{"$f":"COUNTIF(Dienstplan!B22:BH22,\"*\"&($AC$3)&\"*\")-COUNTIF(Dienstplan!B22:BH22,\"*_\"&($AC$3)&\"*\")","v":0},{"$f":"COUNTIF(Dienstplan!B22:BH22,\"*\"&($AD$3)&\"*\")-COUNTIF(Dienstplan!B22:BH22,\"*_\"&($AD$3)&\"*\")","v":0},{"$f":"COUNTIF(Dienstplan!B22:BH22,\"*\"&($AE$3)&\"*\")-COUNTIF(Dienstplan!B22:BH22,\"*_\"&($AE$3)&\"*\")","v":0},{"$f":"COUNTIF(Dienstplan!B22:BH22,\"*\"&($AF$3)&\"*\")-COUNTIF(Dienstplan!B22:BH22,\"*_\"&($AF$3)&\"*\")","v":0},{"$f":"COUNTIF(Dienstplan!B22:BH22,\"*\"&($AG$3)&\"*\")-COUNTIF(Dienstplan!B22:BH22,\"*_\"&($AG$3)&\"*\")","v":0},{"$f":"COUNTIF(Dienstplan!B22:BH22,\"*\"&($AH$3)&\"*\")-COUNTIF(Dienstplan!B22:BH22,\"*_\"&($AH$3)&\"*\")","v":0},{"$f":"COUNTIF(Dienstplan!B22:BH22,\"*\"&($AI$3)&\"*\")-COUNTIF(Dienstplan!B22:BH22,\"*_\"&($AI$3)&\"*\")","v":0},{"$f":"COUNTIF(Dienstplan!$B22:$BH22,\"*\"&($AJ$3)&\"*\")-COUNTIF(Dienstplan!$B22:$BH22,\"*_\"&($AJ$3)&\"*\")","v":0}]
[{"$f":"COUNTIF(Dienstplan!B23:BH23,\"*\"&($A$3)&\"*\")-COUNTIF(Dienstplan!B23:BH23,\"*_\"&($A$3)&\"*\")","v":0},{"$f":"COUNTIF(Dienstplan!B23:BH23,\"*\"&($B$3)&\"*\")-COUNTIF(Dienstplan!B23:BH23,\"*_\"&($B$3)&\"*\")","v":0},{"$f":"COUNTIF(Dienstplan!B23:BH23,\"*\"&($C$3)&\"*\")-COUNTIF(Dienstplan!B23:BH23,\"*_\"&($C$3)&\"*\")","v":0},{"$f":"COUNTIF(Dienstplan!B23:BH23,\"*\"&($D$3)&\"*\")-COUNTIF(Dienstplan!B23:BH23,\"*_\"&($D$3)&\"*\")","v":0},{"$f":"COUNTIF(Dienstplan!B23:BH23,\"*\"&($E$3)&\"*\")-COUNTIF(Dienstplan!B23:BH23,\"*_\"&($E$3)&\"*\")","v":0},{"$f":"COUNTIF(Dienstplan!B23:BH23,\"*\"&($F$3)&\"*\")-COUNTIF(Dienstplan!B23:BH23,\"*_\"&($F$3)&\"*\")","v":0},{"$f":"COUNTIF(Dienstplan!B23:BH23,\"*\"&($G$3)&\"*\")-COUNTIF(Dienstplan!B23:BH23,\"*_\"&($G$3)&\"*\")","v":0},{"$f":"COUNTIF(Dienstplan!B23:BH23,\"*\"&($H$3)&\"*\")-COUNTIF(Dienstplan!B23:BH23,\"*_\"&($H$3)&\"*\")","v":0},{"$f":"COUNTIF(Dienstplan!B23:BH23,\"*\"&($I$3)&\"*\")-COUNTIF(Dienstplan!B23:BH23,\"*_\"&($I$3)&\"*\")","v":0},{"$f":"COUNTIF(Dienstplan!B23:BH23,\"*\"&($J$3)&\"*\")-COUNTIF(Dienstplan!B23:BH23,\"*_\"&($J$3)&\"*\")","v":0},{"$f":"COUNTIF(Dienstplan!B23:BH23,\"*\"&($K$3)&\"*\")-COUNTIF(Dienstplan!B23:BH23,\"*_\"&($K$3)&\"*\")","v":0},{"$f":"COUNTIF(Dienstplan!B23:BH23,\"*\"&($L$3)&\"*\")-COUNTIF(Dienstplan!B23:BH23,\"*_\"&($L$3)&\"*\")","v":0},{"$f":"COUNTIF(Dienstplan!B23:BH23,\"*\"&($M$3)&\"*\")-COUNTIF(Dienstplan!B23:BH23,\"*_\"&($M$3)&\"*\")","v":0},{"$f":"COUNTIF(Dienstplan!B23:BH23,\"*\"&($N$3)&\"*\")-COUNTIF(Dienstplan!B23:BH23,\"*_\"&($N$3)&\"*\")","v":0},{"$f":"COUNTIF(Dienstplan!B23:BH23,\"*\"&($O$3)&\"*\")-COUNTIF(Dienstplan!B23:BH23,\"*_\"&($O$3)&\"*\")","v":0},{"$f":"COUNTIF(Dienstplan!B23:BH23,\"*\"&($P$3)&\"*\")-COUNTIF(Dienstplan!B23:BH23,\"*_\"&($P$3)&\"*\")","v":0},{"$f":"COUNTIF(Dienstplan!B23:BH23,\"*\"&($Q$3)&\"*\")-COUNTIF(Dienstplan!B23:BH23,\"*_\"&($Q$3)&\"*\")","v":0},{"$f":"COUNTIF(Dienstplan!B23:BH23,\"*\"&($R$3)&\"*\")-COUNTIF(Dienstplan!B23:BH23,\"*_\"&($R$3)&\"*\")","v":0},{"$f":"COUNTIF(Dienstplan!B23:BH23,\"*\"&($S$3)&\"*\")-COUNTIF(Dienstplan!B23:BH23,\"*_\"&($S$3)&\"*\")","v":0},{"$f":"COUNTIF(Dienstplan!B23:BH23,\"*\"&($T$3)&\"*\")-COUNTIF(Dienstplan!B23:BH23,\"*_\"&($T$3)&\"*\")","v":0},{"$f":"COUNTIF(Dienstplan!B23:BH23,\"*\"&($U$3)&\"*\")-COUNTIF(Dienstplan!B23:BH23,\"*_\"&($U$3)&\"*\")","v":0},{"$f":"COUNTIF(Dienstplan!B23:BH23,\"*\"&($V$3)&\"*\")-COUNTIF(Dienstplan!B23:BH23,\"*_\"&($V$3)&\"*\")","v":0},{"$f":"COUNTIF(Dienstplan!B23:BH23,\"*\"&($W$3)&\"*\")-COUNTIF(Dienstplan!B23:BH23,\"*_\"&($W$3)&\"*\")","v":0},{"$f":"COUNTIF(Dienstplan!B23:BH23,\"*\"&($X$3)&\"*\")-COUNTIF(Dienstplan!B23:BH23,\"*_\"&($X$3)&\"*\")","v":0},{"$f":"COUNTIF(Dienstplan!B23:BH23,\"*\"&($Y$3)&\"*\")-COUNTIF(Dienstplan!B23:BH23,\"*_\"&($Y$3)&\"*\")","v":0},{"$f":"COUNTIF(Dienstplan!B23:BH23,\"*\"&($Z$3)&\"*\")-COUNTIF(Dienstplan!B23:BH23,\"*_\"&($Z$3)&\"*\")","v":0},{"$f":"COUNTIF(Dienstplan!B23:BH23,\"*\"&($AA$3)&\"*\")-COUNTIF(Dienstplan!B23:BH23,\"*_\"&($AA$3)&\"*\")","v":0},{"$f":"COUNTIF(Dienstplan!B23:BH23,\"*\"&($AB$3)&\"*\")-COUNTIF(Dienstplan!B23:BH23,\"*_\"&($AB$3)&\"*\")","v":0},{"$f":"COUNTIF(Dienstplan!B23:BH23,\"*\"&($AC$3)&\"*\")-COUNTIF(Dienstplan!B23:BH23,\"*_\"&($AC$3)&\"*\")","v":0},{"$f":"COUNTIF(Dienstplan!B23:BH23,\"*\"&($AD$3)&\"*\")-COUNTIF(Dienstplan!B23:BH23,\"*_\"&($AD$3)&\"*\")","v":0},{"$f":"COUNTIF(Dienstplan!B23:BH23,\"*\"&($AE$3)&\"*\")-COUNTIF(Dienstplan!B23:BH23,\"*_\"&($AE$3)&\"*\")","v":0},{"$f":"COUNTIF(Dienstplan!B23:BH23,\"*\"&($AF$3)&\"*\")-COUNTIF(Dienstplan!B23:BH23,\"*_\"&($AF$3)&\"*\")","v":0},{"$f":"COUNTIF(Dienstplan!B23:BH23,\"*\"&($AG$3)&\"*\")-COUNTIF(Dienstplan!B23:BH23,\"*_\"&($AG$3)&\"*\")","v":0},{"$f":"COUNTIF(Dienstplan!B23:BH23,\"*\"&($AH$3)&\"*\")-COUNTIF(Dienstplan!B23:BH23,\"*_\"&($AH$3)&\"*\")","v":0},{"$f":"COUNTIF(Dienstplan!B23:BH23,\"*\"&($AI$3)&\"*\")-COUNTIF(Dienstplan!B23:BH23,\"*_\"&($AI$3)&\"*\")","v":0},{"$f":"COUNTIF(Dienstplan!$B23:$BH23,\"*\"&($AJ$3)&\"*\")-COUNTIF(Dienstplan!$B23:$BH23,\"*_\"&($AJ$3)&\"*\")","v":0}]
[{"$f":"COUNTIF(Dienstplan!B24:BH24,\"*\"&($A$3)&\"*\")-COUNTIF(Dienstplan!B24:BH24,\"*_\"&($A$3)&\"*\")","v":0},{"$f":"COUNTIF(Dienstplan!B24:BH24,\"*\"&($B$3)&\"*\")-COUNTIF(Dienstplan!B24:BH24,\"*_\"&($B$3)&\"*\")","v":0},{"$f":"COUNTIF(Dienstplan!B24:BH24,\"*\"&($C$3)&\"*\")-COUNTIF(Dienstplan!B24:BH24,\"*_\"&($C$3)&\"*\")","v":0},{"$f":"COUNTIF(Dienstplan!B24:BH24,\"*\"&($D$3)&\"*\")-COUNTIF(Dienstplan!B24:BH24,\"*_\"&($D$3)&\"*\")","v":0},{"$f":"COUNTIF(Dienstplan!B24:BH24,\"*\"&($E$3)&\"*\")-COUNTIF(Dienstplan!B24:BH24,\"*_\"&($E$3)&\"*\")","v":0},{"$f":"COUNTIF(Dienstplan!B24:BH24,\"*\"&($F$3)&\"*\")-COUNTIF(Dienstplan!B24:BH24,\"*_\"&($F$3)&\"*\")","v":0},{"$f":"COUNTIF(Dienstplan!B24:BH24,\"*\"&($G$3)&\"*\")-COUNTIF(Dienstplan!B24:BH24,\"*_\"&($G$3)&\"*\")","v":0},{"$f":"COUNTIF(Dienstplan!B24:BH24,\"*\"&($H$3)&\"*\")-COUNTIF(Dienstplan!B24:BH24,\"*_\"&($H$3)&\"*\")","v":0},{"$f":"COUNTIF(Dienstplan!B24:BH24,\"*\"&($I$3)&\"*\")-COUNTIF(Dienstplan!B24:BH24,\"*_\"&($I$3)&\"*\")","v":0},{"$f":"COUNTIF(Dienstplan!B24:BH24,\"*\"&($J$3)&\"*\")-COUNTIF(Dienstplan!B24:BH24,\"*_\"&($J$3)&\"*\")","v":0},{"$f":"COUNTIF(Dienstplan!B24:BH24,\"*\"&($K$3)&\"*\")-COUNTIF(Dienstplan!B24:BH24,\"*_\"&($K$3)&\"*\")","v":0},{"$f":"COUNTIF(Dienstplan!B24:BH24,\"*\"&($L$3)&\"*\")-COUNTIF(Dienstplan!B24:BH24,\"*_\"&($L$3)&\"*\")","v":0},{"$f":"COUNTIF(Dienstplan!B24:BH24,\"*\"&($M$3)&\"*\")-COUNTIF(Dienstplan!B24:BH24,\"*_\"&($M$3)&\"*\")","v":0},{"$f":"COUNTIF(Dienstplan!B24:BH24,\"*\"&($N$3)&\"*\")-COUNTIF(Dienstplan!B24:BH24,\"*_\"&($N$3)&\"*\")","v":0},{"$f":"COUNTIF(Dienstplan!B24:BH24,\"*\"&($O$3)&\"*\")-COUNTIF(Dienstplan!B24:BH24,\"*_\"&($O$3)&\"*\")","v":0},{"$f":"COUNTIF(Dienstplan!B24:BH24,\"*\"&($P$3)&\"*\")-COUNTIF(Dienstplan!B24:BH24,\"*_\"&($P$3)&\"*\")","v":0},{"$f":"COUNTIF(Dienstplan!B24:BH24,\"*\"&($Q$3)&\"*\")-COUNTIF(Dienstplan!B24:BH24,\"*_\"&($Q$3)&\"*\")","v":0},{"$f":"COUNTIF(Dienstplan!B24:BH24,\"*\"&($R$3)&\"*\")-COUNTIF(Dienstplan!B24:BH24,\"*_\"&($R$3)&\"*\")","v":0},{"$f":"COUNTIF(Dienstplan!B24:BH24,\"*\"&($S$3)&\"*\")-COUNTIF(Dienstplan!B24:BH24,\"*_\"&($S$3)&\"*\")","v":0},{"$f":"COUNTIF(Dienstplan!B24:BH24,\"*\"&($T$3)&\"*\")-COUNTIF(Dienstplan!B24:BH24,\"*_\"&($T$3)&\"*\")","v":0},{"$f":"COUNTIF(Dienstplan!B24:BH24,\"*\"&($U$3)&\"*\")-COUNTIF(Dienstplan!B24:BH24,\"*_\"&($U$3)&\"*\")","v":0},{"$f":"COUNTIF(Dienstplan!B24:BH24,\"*\"&($V$3)&\"*\")-COUNTIF(Dienstplan!B24:BH24,\"*_\"&($V$3)&\"*\")","v":0},{"$f":"COUNTIF(Dienstplan!B24:BH24,\"*\"&($W$3)&\"*\")-COUNTIF(Dienstplan!B24:BH24,\"*_\"&($W$3)&\"*\")","v":0},{"$f":"COUNTIF(Dienstplan!B24:BH24,\"*\"&($X$3)&\"*\")-COUNTIF(Dienstplan!B24:BH24,\"*_\"&($X$3)&\"*\")","v":0},{"$f":"COUNTIF(Dienstplan!B24:BH24,\"*\"&($Y$3)&\"*\")-COUNTIF(Dienstplan!B24:BH24,\"*_\"&($Y$3)&\"*\")","v":0},{"$f":"COUNTIF(Dienstplan!B24:BH24,\"*\"&($Z$3)&\"*\")-COUNTIF(Dienstplan!B24:BH24,\"*_\"&($Z$3)&\"*\")","v":0},{"$f":"COUNTIF(Dienstplan!B24:BH24,\"*\"&($AA$3)&\"*\")-COUNTIF(Dienstplan!B24:BH24,\"*_\"&($AA$3)&\"*\")","v":0},{"$f":"COUNTIF(Dienstplan!B24:BH24,\"*\"&($AB$3)&\"*\")-COUNTIF(Dienstplan!B24:BH24,\"*_\"&($AB$3)&\"*\")","v":0},{"$f":"COUNTIF(Dienstplan!B24:BH24,\"*\"&($AC$3)&\"*\")-COUNTIF(Dienstplan!B24:BH24,\"*_\"&($AC$3)&\"*\")","v":0},{"$f":"COUNTIF(Dienstplan!B24:BH24,\"*\"&($AD$3)&\"*\")-COUNTIF(Dienstplan!B24:BH24,\"*_\"&($AD$3)&\"*\")","v":0},{"$f":"COUNTIF(Dienstplan!B24:BH24,\"*\"&($AE$3)&\"*\")-COUNTIF(Dienstplan!B24:BH24,\"*_\"&($AE$3)&\"*\")","v":0},{"$f":"COUNTIF(Dienstplan!B24:BH24,\"*\"&($AF$3)&\"*\")-COUNTIF(Dienstplan!B24:BH24,\"*_\"&($AF$3)&\"*\")","v":0},{"$f":"COUNTIF(Dienstplan!B24:BH24,\"*\"&($AG$3)&\"*\")-COUNTIF(Dienstplan!B24:BH24,\"*_\"&($AG$3)&\"*\")","v":0},{"$f":"COUNTIF(Dienstplan!B24:BH24,\"*\"&($AH$3)&\"*\")-COUNTIF(Dienstplan!B24:BH24,\"*_\"&($AH$3)&\"*\")","v":0},{"$f":"COUNTIF(Dienstplan!B24:BH24,\"*\"&($AI$3)&\"*\")-COUNTIF(Dienstplan!B24:BH24,\"*_\"&($AI$3)&\"*\")","v":0},{"$f":"COUNTIF(Dienstplan!$B24:$BH24,\"*\"&($AJ$3)&\"*\")-COUNTIF(Dienstplan!$B24:$BH24,\"*_\"&($AJ$3)&\"*\")","v":0}]
[{"$f":"COUNTIF(Dienstplan!B25:BH25,\"*\"&($A$3)&\"*\")-COUNTIF(Dienstplan!B25:BH25,\"*_\"&($A$3)&\"*\")","v":0},{"$f":"COUNTIF(Dienstplan!B25:BH25,\"*\"&($B$3)&\"*\")-COUNTIF(Dienstplan!B25:BH25,\"*_\"&($B$3)&\"*\")","v":0},{"$f":"COUNTIF(Dienstplan!B25:BH25,\"*\"&($C$3)&\"*\")-COUNTIF(Dienstplan!B25:BH25,\"*_\"&($C$3)&\"*\")","v":0},{"$f":"COUNTIF(Dienstplan!B25:BH25,\"*\"&($D$3)&\"*\")-COUNTIF(Dienstplan!B25:BH25,\"*_\"&($D$3)&\"*\")","v":0},{"$f":"COUNTIF(Dienstplan!B25:BH25,\"*\"&($E$3)&\"*\")-COUNTIF(Dienstplan!B25:BH25,\"*_\"&($E$3)&\"*\")","v":0},{"$f":"COUNTIF(Dienstplan!B25:BH25,\"*\"&($F$3)&\"*\")-COUNTIF(Dienstplan!B25:BH25,\"*_\"&($F$3)&\"*\")","v":1},{"$f":"COUNTIF(Dienstplan!B25:BH25,\"*\"&($G$3)&\"*\")-COUNTIF(Dienstplan!B25:BH25,\"*_\"&($G$3)&\"*\")","v":1},{"$f":"COUNTIF(Dienstplan!B25:BH25,\"*\"&($H$3)&\"*\")-COUNTIF(Dienstplan!B25:BH25,\"*_\"&($H$3)&\"*\")","v":1},{"$f":"COUNTIF(Dienstplan!B25:BH25,\"*\"&($I$3)&\"*\")-COUNTIF(Dienstplan!B25:BH25,\"*_\"&($I$3)&\"*\")","v":1},{"$f":"COUNTIF(Dienstplan!B25:BH25,\"*\"&($J$3)&\"*\")-COUNTIF(Dienstplan!B25:BH25,\"*_\"&($J$3)&\"*\")","v":1},{"$f":"COUNTIF(Dienstplan!B25:BH25,\"*\"&($K$3)&\"*\")-COUNTIF(Dienstplan!B25:BH25,\"*_\"&($K$3)&\"*\")","v":1},{"$f":"COUNTIF(Dienstplan!B25:BH25,\"*\"&($L$3)&\"*\")-COUNTIF(Dienstplan!B25:BH25,\"*_\"&($L$3)&\"*\")","v":1},{"$f":"COUNTIF(Dienstplan!B25:BH25,\"*\"&($M$3)&\"*\")-COUNTIF(Dienstplan!B25:BH25,\"*_\"&($M$3)&\"*\")","v":1},{"$f":"COUNTIF(Dienstplan!B25:BH25,\"*\"&($N$3)&\"*\")-COUNTIF(Dienstplan!B25:BH25,\"*_\"&($N$3)&\"*\")","v":0},{"$f":"COUNTIF(Dienstplan!B25:BH25,\"*\"&($O$3)&\"*\")-COUNTIF(Dienstplan!B25:BH25,\"*_\"&($O$3)&\"*\")","v":1},{"$f":"COUNTIF(Dienstplan!B25:BH25,\"*\"&($P$3)&\"*\")-COUNTIF(Dienstplan!B25:BH25,\"*_\"&($P$3)&\"*\")","v":1},{"$f":"COUNTIF(Dienstplan!B25:BH25,\"*\"&($Q$3)&\"*\")-COUNTIF(Dienstplan!B25:BH25,\"*_\"&($Q$3)&\"*\")","v":0},{"$f":"COUNTIF(Dienstplan!B25:BH25,\"*\"&($R$3)&\"*\")-COUNTIF(Dienstplan!B25:BH25,\"*_\"&($R$3)&\"*\")","v":1},{"$f":"COUNTIF(Dienstplan!B25:BH25,\"*\"&($S$3)&\"*\")-COUNTIF(Dienstplan!B25:BH25,\"*_\"&($S$3)&\"*\")","v":0},{"$f":"COUNTIF(Dienstplan!B25:BH25,\"*\"&($T$3)&\"*\")-COUNTIF(Dienstplan!B25:BH25,\"*_\"&($T$3)&\"*\")","v":1},{"$f":"COUNTIF(Dienstplan!B25:BH25,\"*\"&($U$3)&\"*\")-COUNTIF(Dienstplan!B25:BH25,\"*_\"&($U$3)&\"*\")","v":1},{"$f":"COUNTIF(Dienstplan!B25:BH25,\"*\"&($V$3)&\"*\")-COUNTIF(Dienstplan!B25:BH25,\"*_\"&($V$3)&\"*\")","v":1},{"$f":"COUNTIF(Dienstplan!B25:BH25,\"*\"&($W$3)&\"*\")-COUNTIF(Dienstplan!B25:BH25,\"*_\"&($W$3)&\"*\")","v":0},{"$f":"COUNTIF(Dienstplan!B25:BH25,\"*\"&($X$3)&\"*\")-COUNTIF(Dienstplan!B25:BH25,\"*_\"&($X$3)&\"*\")","v":0},{"$f":"COUNTIF(Dienstplan!B25:BH25,\"*\"&($Y$3)&\"*\")-COUNTIF(Dienstplan!B25:BH25,\"*_\"&($Y$3)&\"*\")","v":0},{"$f":"COUNTIF(Dienstplan!B25:BH25,\"*\"&($Z$3)&\"*\")-COUNTIF(Dienstplan!B25:BH25,\"*_\"&($Z$3)&\"*\")","v":0},{"$f":"COUNTIF(Dienstplan!B25:BH25,\"*\"&($AA$3)&\"*\")-COUNTIF(Dienstplan!B25:BH25,\"*_\"&($AA$3)&\"*\")","v":0},{"$f":"COUNTIF(Dienstplan!B25:BH25,\"*\"&($AB$3)&\"*\")-COUNTIF(Dienstplan!B25:BH25,\"*_\"&($AB$3)&\"*\")","v":0},{"$f":"COUNTIF(Dienstplan!B25:BH25,\"*\"&($AC$3)&\"*\")-COUNTIF(Dienstplan!B25:BH25,\"*_\"&($AC$3)&\"*\")","v":0},{"$f":"COUNTIF(Dienstplan!B25:BH25,\"*\"&($AD$3)&\"*\")-COUNTIF(Dienstplan!B25:BH25,\"*_\"&($AD$3)&\"*\")","v":0},{"$f":"COUNTIF(Dienstplan!B25:BH25,\"*\"&($AE$3)&\"*\")-COUNTIF(Dienstplan!B25:BH25,\"*_\"&($AE$3)&\"*\")","v":0},{"$f":"COUNTIF(Dienstplan!B25:BH25,\"*\"&($AF$3)&\"*\")-COUNTIF(Dienstplan!B25:BH25,\"*_\"&($AF$3)&\"*\")","v":0},{"$f":"COUNTIF(Dienstplan!B25:BH25,\"*\"&($AG$3)&\"*\")-COUNTIF(Dienstplan!B25:BH25,\"*_\"&($AG$3)&\"*\")","v":0},{"$f":"COUNTIF(Dienstplan!B25:BH25,\"*\"&($AH$3)&\"*\")-COUNTIF(Dienstplan!B25:BH25,\"*_\"&($AH$3)&\"*\")","v":0},{"$f":"COUNTIF(Dienstplan!B25:BH25,\"*\"&($AI$3)&\"*\")-COUNTIF(Dienstplan!B25:BH25,\"*_\"&($AI$3)&\"*\")","v":0},{"$f":"COUNTIF(Dienstplan!$B25:$BH25,\"*\"&($AJ$3)&\"*\")-COUNTIF(Dienstplan!$B25:$BH25,\"*_\"&($AJ$3)&\"*\")","v":0}]
[{"$f":"COUNTIF(Dienstplan!B26:BH26,\"*\"&($A$3)&\"*\")-COUNTIF(Dienstplan!B26:BH26,\"*_\"&($A$3)&\"*\")","v":0},{"$f":"COUNTIF(Dienstplan!B26:BH26,\"*\"&($B$3)&\"*\")-COUNTIF(Dienstplan!B26:BH26,\"*_\"&($B$3)&\"*\")","v":0},{"$f":"COUNTIF(Dienstplan!B26:BH26,\"*\"&($C$3)&\"*\")-COUNTIF(Dienstplan!B26:BH26,\"*_\"&($C$3)&\"*\")","v":0},{"$f":"COUNTIF(Dienstplan!B26:BH26,\"*\"&($D$3)&\"*\")-COUNTIF(Dienstplan!B26:BH26,\"*_\"&($D$3)&\"*\")","v":0},{"$f":"COUNTIF(Dienstplan!B26:BH26,\"*\"&($E$3)&\"*\")-COUNTIF(Dienstplan!B26:BH26,\"*_\"&($E$3)&\"*\")","v":0},{"$f":"COUNTIF(Dienstplan!B26:BH26,\"*\"&($F$3)&\"*\")-COUNTIF(Dienstplan!B26:BH26,\"*_\"&($F$3)&\"*\")","v":1},{"$f":"COUNTIF(Dienstplan!B26:BH26,\"*\"&($G$3)&\"*\")-COUNTIF(Dienstplan!B26:BH26,\"*_\"&($G$3)&\"*\")","v":1},{"$f":"COUNTIF(Dienstplan!B26:BH26,\"*\"&($H$3)&\"*\")-COUNTIF(Dienstplan!B26:BH26,\"*_\"&($H$3)&\"*\")","v":1},{"$f":"COUNTIF(Dienstplan!B26:BH26,\"*\"&($I$3)&\"*\")-COUNTIF(Dienstplan!B26:BH26,\"*_\"&($I$3)&\"*\")","v":1},{"$f":"COUNTIF(Dienstplan!B26:BH26,\"*\"&($J$3)&\"*\")-COUNTIF(Dienstplan!B26:BH26,\"*_\"&($J$3)&\"*\")","v":1},{"$f":"COUNTIF(Dienstplan!B26:BH26,\"*\"&($K$3)&\"*\")-COUNTIF(Dienstplan!B26:BH26,\"*_\"&($K$3)&\"*\")","v":1},{"$f":"COUNTIF(Dienstplan!B26:BH26,\"*\"&($L$3)&\"*\")-COUNTIF(Dienstplan!B26:BH26,\"*_\"&($L$3)&\"*\")","v":1},{"$f":"COUNTIF(Dienstplan!B26:BH26,\"*\"&($M$3)&\"*\")-COUNTIF(Dienstplan!B26:BH26,\"*_\"&($M$3)&\"*\")","v":1},{"$f":"COUNTIF(Dienstplan!B26:BH26,\"*\"&($N$3)&\"*\")-COUNTIF(Dienstplan!B26:BH26,\"*_\"&($N$3)&\"*\")","v":0},{"$f":"COUNTIF(Dienstplan!B26:BH26,\"*\"&($O$3)&\"*\")-COUNTIF(Dienstplan!B26:BH26,\"*_\"&($O$3)&\"*\")","v":1},{"$f":"COUNTIF(Dienstplan!B26:BH26,\"*\"&($P$3)&\"*\")-COUNTIF(Dienstplan!B26:BH26,\"*_\"&($P$3)&\"*\")","v":1},{"$f":"COUNTIF(Dienstplan!B26:BH26,\"*\"&($Q$3)&\"*\")-COUNTIF(Dienstplan!B26:BH26,\"*_\"&($Q$3)&\"*\")","v":0},{"$f":"COUNTIF(Dienstplan!B26:BH26,\"*\"&($R$3)&\"*\")-COUNTIF(Dienstplan!B26:BH26,\"*_\"&($R$3)&\"*\")","v":1},{"$f":"COUNTIF(Dienstplan!B26:BH26,\"*\"&($S$3)&\"*\")-COUNTIF(Dienstplan!B26:BH26,\"*_\"&($S$3)&\"*\")","v":0},{"$f":"COUNTIF(Dienstplan!B26:BH26,\"*\"&($T$3)&\"*\")-COUNTIF(Dienstplan!B26:BH26,\"*_\"&($T$3)&\"*\")","v":1},{"$f":"COUNTIF(Dienstplan!B26:BH26,\"*\"&($U$3)&\"*\")-COUNTIF(Dienstplan!B26:BH26,\"*_\"&($U$3)&\"*\")","v":1},{"$f":"COUNTIF(Dienstplan!B26:BH26,\"*\"&($V$3)&\"*\")-COUNTIF(Dienstplan!B26:BH26,\"*_\"&($V$3)&\"*\")","v":1},{"$f":"COUNTIF(Dienstplan!B26:BH26,\"*\"&($W$3)&\"*\")-COUNTIF(Dienstplan!B26:BH26,\"*_\"&($W$3)&\"*\")","v":0},{"$f":"COUNTIF(Dienstplan!B26:BH26,\"*\"&($X$3)&\"*\")-COUNTIF(Dienstplan!B26:BH26,\"*_\"&($X$3)&\"*\")","v":0},{"$f":"COUNTIF(Dienstplan!B26:BH26,\"*\"&($Y$3)&\"*\")-COUNTIF(Dienstplan!B26:BH26,\"*_\"&($Y$3)&\"*\")","v":0},{"$f":"COUNTIF(Dienstplan!B26:BH26,\"*\"&($Z$3)&\"*\")-COUNTIF(Dienstplan!B26:BH26,\"*_\"&($Z$3)&\"*\")","v":0},{"$f":"COUNTIF(Dienstplan!B26:BH26,\"*\"&($AA$3)&\"*\")-COUNTIF(Dienstplan!B26:BH26,\"*_\"&($AA$3)&\"*\")","v":0},{"$f":"COUNTIF(Dienstplan!B26:BH26,\"*\"&($AB$3)&\"*\")-COUNTIF(Dienstplan!B26:BH26,\"*_\"&($AB$3)&\"*\")","v":0},{"$f":"COUNTIF(Dienstplan!B26:BH26,\"*\"&($AC$3)&\"*\")-COUNTIF(Dienstplan!B26:BH26,\"*_\"&($AC$3)&\"*\")","v":0},{"$f":"COUNTIF(Dienstplan!B26:BH26,\"*\"&($AD$3)&\"*\")-COUNTIF(Dienstplan!B26:BH26,\"*_\"&($AD$3)&\"*\")","v":0},{"$f":"COUNTIF(Dienstplan!B26:BH26,\"*\"&($AE$3)&\"*\")-COUNTIF(Dienstplan!B26:BH26,\"*_\"&($AE$3)&\"*\")","v":0},{"$f":"COUNTIF(Dienstplan!B26:BH26,\"*\"&($AF$3)&\"*\")-COUNTIF(Dienstplan!B26:BH26,\"*_\"&($AF$3)&\"*\")","v":0},{"$f":"COUNTIF(Dienstplan!B26:BH26,\"*\"&($AG$3)&\"*\")-COUNTIF(Dienstplan!B26:BH26,\"*_\"&($AG$3)&\"*\")","v":0},{"$f":"COUNTIF(Dienstplan!B26:BH26,\"*\"&($AH$3)&\"*\")-COUNTIF(Dienstplan!B26:BH26,\"*_\"&($AH$3)&\"*\")","v":0},{"$f":"COUNTIF(Dienstplan!B26:BH26,\"*\"&($AI$3)&\"*\")-COUNTIF(Dienstplan!B26:BH26,\"*_\"&($AI$3)&\"*\")","v":0},{"$f":"COUNTIF(Dienstplan!$B26:$BH26,\"*\"&($AJ$3)&\"*\")-COUNTIF(Dienstplan!$B26:$BH26,\"*_\"&($AJ$3)&\"*\")","v":0}]
[{"$f":"COUNTIF(Dienstplan!B27:BH27,\"*\"&($A$3)&\"*\")-COUNTIF(Dienstplan!B27:BH27,\"*_\"&($A$3)&\"*\")","v":0},{"$f":"COUNTIF(Dienstplan!B27:BH27,\"*\"&($B$3)&\"*\")-COUNTIF(Dienstplan!B27:BH27,\"*_\"&($B$3)&\"*\")","v":0},{"$f":"COUNTIF(Dienstplan!B27:BH27,\"*\"&($C$3)&\"*\")-COUNTIF(Dienstplan!B27:BH27,\"*_\"&($C$3)&\"*\")","v":0},{"$f":"COUNTIF(Dienstplan!B27:BH27,\"*\"&($D$3)&\"*\")-COUNTIF(Dienstplan!B27:BH27,\"*_\"&($D$3)&\"*\")","v":0},{"$f":"COUNTIF(Dienstplan!B27:BH27,\"*\"&($E$3)&\"*\")-COUNTIF(Dienstplan!B27:BH27,\"*_\"&($E$3)&\"*\")","v":0},{"$f":"COUNTIF(Dienstplan!B27:BH27,\"*\"&($F$3)&\"*\")-COUNTIF(Dienstplan!B27:BH27,\"*_\"&($F$3)&\"*\")","v":0},{"$f":"COUNTIF(Dienstplan!B27:BH27,\"*\"&($G$3)&\"*\")-COUNTIF(Dienstplan!B27:BH27,\"*_\"&($G$3)&\"*\")","v":1},{"$f":"COUNTIF(Dienstplan!B27:BH27,\"*\"&($H$3)&\"*\")-COUNTIF(Dienstplan!B27:BH27,\"*_\"&($H$3)&\"*\")","v":1},{"$f":"COUNTIF(Dienstplan!B27:BH27,\"*\"&($I$3)&\"*\")-COUNTIF(Dienstplan!B27:BH27,\"*_\"&($I$3)&\"*\")","v":1},{"$f":"COUNTIF(Dienstplan!B27:BH27,\"*\"&($J$3)&\"*\")-COUNTIF(Dienstplan!B27:BH27,\"*_\"&($J$3)&\"*\")","v":1},{"$f":"COUNTIF(Dienstplan!B27:BH27,\"*\"&($K$3)&\"*\")-COUNTIF(Dienstplan!B27:BH27,\"*_\"&($K$3)&\"*\")","v":1},{"$f":"COUNTIF(Dienstplan!B27:BH27,\"*\"&($L$3)&\"*\")-COUNTIF(Dienstplan!B27:BH27,\"*_\"&($L$3)&\"*\")","v":1},{"$f":"COUNTIF(Dienstplan!B27:BH27,\"*\"&($M$3)&\"*\")-COUNTIF(Dienstplan!B27:BH27,\"*_\"&($M$3)&\"*\")","v":1},{"$f":"COUNTIF(Dienstplan!B27:BH27,\"*\"&($N$3)&\"*\")-COUNTIF(Dienstplan!B27:BH27,\"*_\"&($N$3)&\"*\")","v":0},{"$f":"COUNTIF(Dienstplan!B27:BH27,\"*\"&($O$3)&\"*\")-COUNTIF(Dienstplan!B27:BH27,\"*_\"&($O$3)&\"*\")","v":1},{"$f":"COUNTIF(Dienstplan!B27:BH27,\"*\"&($P$3)&\"*\")-COUNTIF(Dienstplan!B27:BH27,\"*_\"&($P$3)&\"*\")","v":1},{"$f":"COUNTIF(Dienstplan!B27:BH27,\"*\"&($Q$3)&\"*\")-COUNTIF(Dienstplan!B27:BH27,\"*_\"&($Q$3)&\"*\")","v":0},{"$f":"COUNTIF(Dienstplan!B27:BH27,\"*\"&($R$3)&\"*\")-COUNTIF(Dienstplan!B27:BH27,\"*_\"&($R$3)&\"*\")","v":1},{"$f":"COUNTIF(Dienstplan!B27:BH27,\"*\"&($S$3)&\"*\")-COUNTIF(Dienstplan!B27:BH27,\"*_\"&($S$3)&\"*\")","v":1},{"$f":"COUNTIF(Dienstplan!B27:BH27,\"*\"&($T$3)&\"*\")-COUNTIF(Dienstplan!B27:BH27,\"*_\"&($T$3)&\"*\")","v":1},{"$f":"COUNTIF(Dienstplan!B27:BH27,\"*\"&($U$3)&\"*\")-COUNTIF(Dienstplan!B27:BH27,\"*_\"&($U$3)&\"*\")","v":1},{"$f":"COUNTIF(Dienstplan!B27:BH27,\"*\"&($V$3)&\"*\")-COUNTIF(Dienstplan!B27:BH27,\"*_\"&($V$3)&\"*\")","v":1},{"$f":"COUNTIF(Dienstplan!B27:BH27,\"*\"&($W$3)&\"*\")-COUNTIF(Dienstplan!B27:BH27,\"*_\"&($W$3)&\"*\")","v":0},{"$f":"COUNTIF(Dienstplan!B27:BH27,\"*\"&($X$3)&\"*\")-COUNTIF(Dienstplan!B27:BH27,\"*_\"&($X$3)&\"*\")","v":0},{"$f":"COUNTIF(Dienstplan!B27:BH27,\"*\"&($Y$3)&\"*\")-COUNTIF(Dienstplan!B27:BH27,\"*_\"&($Y$3)&\"*\")","v":0},{"$f":"COUNTIF(Dienstplan!B27:BH27,\"*\"&($Z$3)&\"*\")-COUNTIF(Dienstplan!B27:BH27,\"*_\"&($Z$3)&\"*\")","v":0},{"$f":"COUNTIF(Dienstplan!B27:BH27,\"*\"&($AA$3)&\"*\")-COUNTIF(Dienstplan!B27:BH27,\"*_\"&($AA$3)&\"*\")","v":0},{"$f":"COUNTIF(Dienstplan!B27:BH27,\"*\"&($AB$3)&\"*\")-COUNTIF(Dienstplan!B27:BH27,\"*_\"&($AB$3)&\"*\")","v":0},{"$f":"COUNTIF(Dienstplan!B27:BH27,\"*\"&($AC$3)&\"*\")-COUNTIF(Dienstplan!B27:BH27,\"*_\"&($AC$3)&\"*\")","v":0},{"$f":"COUNTIF(Dienstplan!B27:BH27,\"*\"&($AD$3)&\"*\")-COUNTIF(Dienstplan!B27:BH27,\"*_\"&($AD$3)&\"*\")","v":0},{"$f":"COUNTIF(Dienstplan!B27:BH27,\"*\"&($AE$3)&\"*\")-COUNTIF(Dienstplan!B27:BH27,\"*_\"&($AE$3)&\"*\")","v":0},{"$f":"COUNTIF(Dienstplan!B27:BH27,\"*\"&($AF$3)&\"*\")-COUNTIF(Dienstplan!B27:BH27,\"*_\"&($AF$3)&\"*\")","v":0},{"$f":"COUNTIF(Dienstplan!B27:BH27,\"*\"&($AG$3)&\"*\")-COUNTIF(Dienstplan!B27:BH27,\"*_\"&($AG$3)&\"*\")","v":0},{"$f":"COUNTIF(Dienstplan!B27:BH27,\"*\"&($AH$3)&\"*\")-COUNTIF(Dienstplan!B27:BH27,\"*_\"&($AH$3)&\"*\")","v":0},{"$f":"COUNTIF(Dienstplan!B27:BH27,\"*\"&($AI$3)&\"*\")-COUNTIF(Dienstplan!B27:BH27,\"*_\"&($AI$3)&\"*\")","v":0},{"$f":"COUNTIF(Dienstplan!$B27:$BH27,\"*\"&($AJ$3)&\"*\")-COUNTIF(Dienstplan!$B27:$BH27,\"*_\"&($AJ$3)&\"*\")","v":0}]
[{"$f":"COUNTIF(Dienstplan!B28:BH28,\"*\"&($A$3)&\"*\")-COUNTIF(Dienstplan!B28:BH28,\"*_\"&($A$3)&\"*\")","v":0},{"$f":"COUNTIF(Dienstplan!B28:BH28,\"*\"&($B$3)&\"*\")-COUNTIF(Dienstplan!B28:BH28,\"*_\"&($B$3)&\"*\")","v":0},{"$f":"COUNTIF(Dienstplan!B28:BH28,\"*\"&($C$3)&\"*\")-COUNTIF(Dienstplan!B28:BH28,\"*_\"&($C$3)&\"*\")","v":0},{"$f":"COUNTIF(Dienstplan!B28:BH28,\"*\"&($D$3)&\"*\")-COUNTIF(Dienstplan!B28:BH28,\"*_\"&($D$3)&\"*\")","v":0},{"$f":"COUNTIF(Dienstplan!B28:BH28,\"*\"&($E$3)&\"*\")-COUNTIF(Dienstplan!B28:BH28,\"*_\"&($E$3)&\"*\")","v":0},{"$f":"COUNTIF(Dienstplan!B28:BH28,\"*\"&($F$3)&\"*\")-COUNTIF(Dienstplan!B28:BH28,\"*_\"&($F$3)&\"*\")","v":0},{"$f":"COUNTIF(Dienstplan!B28:BH28,\"*\"&($G$3)&\"*\")-COUNTIF(Dienstplan!B28:BH28,\"*_\"&($G$3)&\"*\")","v":1},{"$f":"COUNTIF(Dienstplan!B28:BH28,\"*\"&($H$3)&\"*\")-COUNTIF(Dienstplan!B28:BH28,\"*_\"&($H$3)&\"*\")","v":1},{"$f":"COUNTIF(Dienstplan!B28:BH28,\"*\"&($I$3)&\"*\")-COUNTIF(Dienstplan!B28:BH28,\"*_\"&($I$3)&\"*\")","v":1},{"$f":"COUNTIF(Dienstplan!B28:BH28,\"*\"&($J$3)&\"*\")-COUNTIF(Dienstplan!B28:BH28,\"*_\"&($J$3)&\"*\")","v":1},{"$f":"COUNTIF(Dienstplan!B28:BH28,\"*\"&($K$3)&\"*\")-COUNTIF(Dienstplan!B28:BH28,\"*_\"&($K$3)&\"*\")","v":1},{"$f":"COUNTIF(Dienstplan!B28:BH28,\"*\"&($L$3)&\"*\")-COUNTIF(Dienstplan!B28:BH28,\"*_\"&($L$3)&\"*\")","v":1},{"$f":"COUNTIF(Dienstplan!B28:BH28,\"*\"&($M$3)&\"*\")-COUNTIF(Dienstplan!B28:BH28,\"*_\"&($M$3)&\"*\")","v":1},{"$f":"COUNTIF(Dienstplan!B28:BH28,\"*\"&($N$3)&\"*\")-COUNTIF(Dienstplan!B28:BH28,\"*_\"&($N$3)&\"*\")","v":0},{"$f":"COUNTIF(Dienstplan!B28:BH28,\"*\"&($O$3)&\"*\")-COUNTIF(Dienstplan!B28:BH28,\"*_\"&($O$3)&\"*\")","v":1},{"$f":"COUNTIF(Dienstplan!B28:BH28,\"*\"&($P$3)&\"*\")-COUNTIF(Dienstplan!B28:BH28,\"*_\"&($P$3)&\"*\")","v":1},{"$f":"COUNTIF(Dienstplan!B28:BH28,\"*\"&($Q$3)&\"*\")-COUNTIF(Dienstplan!B28:BH28,\"*_\"&($Q$3)&\"*\")","v":0},{"$f":"COUNTIF(Dienstplan!B28:BH28,\"*\"&($R$3)&\"*\")-COUNTIF(Dienstplan!B28:BH28,\"*_\"&($R$3)&\"*\")","v":0},{"$f":"COUNTIF(Dienstplan!B28:BH28,\"*\"&($S$3)&\"*\")-COUNTIF(Dienstplan!B28:BH28,\"*_\"&($S$3)&\"*\")","v":1},{"$f":"COUNTIF(Dienstplan!B28:BH28,\"*\"&($T$3)&\"*\")-COUNTIF(Dienstplan!B28:BH28,\"*_\"&($T$3)&\"*\")","v":1},{"$f":"COUNTIF(Dienstplan!B28:BH28,\"*\"&($U$3)&\"*\")-COUNTIF(Dienstplan!B28:BH28,\"*_\"&($U$3)&\"*\")","v":1},{"$f":"COUNTIF(Dienstplan!B28:BH28,\"*\"&($V$3)&\"*\")-COUNTIF(Dienstplan!B28:BH28,\"*_\"&($V$3)&\"*\")","v":1},{"$f":"COUNTIF(Dienstplan!B28:BH28,\"*\"&($W$3)&\"*\")-COUNTIF(Dienstplan!B28:BH28,\"*_\"&($W$3)&\"*\")","v":0},{"$f":"COUNTIF(Dienstplan!B28:BH28,\"*\"&($X$3)&\"*\")-COUNTIF(Dienstplan!B28:BH28,\"*_\"&($X$3)&\"*\")","v":0},{"$f":"COUNTIF(Dienstplan!B28:BH28,\"*\"&($Y$3)&\"*\")-COUNTIF(Dienstplan!B28:BH28,\"*_\"&($Y$3)&\"*\")","v":0},{"$f":"COUNTIF(Dienstplan!B28:BH28,\"*\"&($Z$3)&\"*\")-COUNTIF(Dienstplan!B28:BH28,\"*_\"&($Z$3)&\"*\")","v":0},{"$f":"COUNTIF(Dienstplan!B28:BH28,\"*\"&($AA$3)&\"*\")-COUNTIF(Dienstplan!B28:BH28,\"*_\"&($AA$3)&\"*\")","v":0},{"$f":"COUNTIF(Dienstplan!B28:BH28,\"*\"&($AB$3)&\"*\")-COUNTIF(Dienstplan!B28:BH28,\"*_\"&($AB$3)&\"*\")","v":0},{"$f":"COUNTIF(Dienstplan!B28:BH28,\"*\"&($AC$3)&\"*\")-COUNTIF(Dienstplan!B28:BH28,\"*_\"&($AC$3)&\"*\")","v":0},{"$f":"COUNTIF(Dienstplan!B28:BH28,\"*\"&($AD$3)&\"*\")-COUNTIF(Dienstplan!B28:BH28,\"*_\"&($AD$3)&\"*\")","v":0},{"$f":"COUNTIF(Dienstplan!B28:BH28,\"*\"&($AE$3)&\"*\")-COUNTIF(Dienstplan!B28:BH28,\"*_\"&($AE$3)&\"*\")","v":0},{"$f":"COUNTIF(Dienstplan!B28:BH28,\"*\"&($AF$3)&\"*\")-COUNTIF(Dienstplan!B28:BH28,\"*_\"&($AF$3)&\"*\")","v":0},{"$f":"COUNTIF(Dienstplan!B28:BH28,\"*\"&($AG$3)&\"*\")-COUNTIF(Dienstplan!B28:BH28,\"*_\"&($AG$3)&\"*\")","v":0},{"$f":"COUNTIF(Dienstplan!B28:BH28,\"*\"&($AH$3)&\"*\")-COUNTIF(Dienstplan!B28:BH28,\"*_\"&($AH$3)&\"*\")","v":0},{"$f":"COUNTIF(Dienstplan!B28:BH28,\"*\"&($AI$3)&\"*\")-COUNTIF(Dienstplan!B28:BH28,\"*_\"&($AI$3)&\"*\")","v":0},{"$f":"COUNTIF(Dienstplan!$B28:$BH28,\"*\"&($AJ$3)&\"*\")-COUNTIF(Dienstplan!$B28:$BH28,\"*_\"&($AJ$3)&\"*\")","v":0}]
[{"$f":"COUNTIF(Dienstplan!B29:BH29,\"*\"&($A$3)&\"*\")-COUNTIF(Dienstplan!B29:BH29,\"*_\"&($A$3)&\"*\")","v":0},{"$f":"COUNTIF(Dienstplan!B29:BH29,\"*\"&($B$3)&\"*\")-COUNTIF(Dienstplan!B29:BH29,\"*_\"&($B$3)&\"*\")","v":0},{"$f":"COUNTIF(Dienstplan!B29:BH29,\"*\"&($C$3)&\"*\")-COUNTIF(Dienstplan!B29:BH29,\"*_\"&($C$3)&\"*\")","v":0},{"$f":"COUNTIF(Dienstplan!B29:BH29,\"*\"&($D$3)&\"*\")-COUNTIF(Dienstplan!B29:BH29,\"*_\"&($D$3)&\"*\")","v":0},{"$f":"COUNTIF(Dienstplan!B29:BH29,\"*\"&($E$3)&\"*\")-COUNTIF(Dienstplan!B29:BH29,\"*_\"&($E$3)&\"*\")","v":0},{"$f":"COUNTIF(Dienstplan!B29:BH29,\"*\"&($F$3)&\"*\")-COUNTIF(Dienstplan!B29:BH29,\"*_\"&($F$3)&\"*\")","v":0},{"$f":"COUNTIF(Dienstplan!B29:BH29,\"*\"&($G$3)&\"*\")-COUNTIF(Dienstplan!B29:BH29,\"*_\"&($G$3)&\"*\")","v":0},{"$f":"COUNTIF(Dienstplan!B29:BH29,\"*\"&($H$3)&\"*\")-COUNTIF(Dienstplan!B29:BH29,\"*_\"&($H$3)&\"*\")","v":1},{"$f":"COUNTIF(Dienstplan!B29:BH29,\"*\"&($I$3)&\"*\")-COUNTIF(Dienstplan!B29:BH29,\"*_\"&($I$3)&\"*\")","v":1},{"$f":"COUNTIF(Dienstplan!B29:BH29,\"*\"&($J$3)&\"*\")-COUNTIF(Dienstplan!B29:BH29,\"*_\"&($J$3)&\"*\")","v":0},{"$f":"COUNTIF(Dienstplan!B29:BH29,\"*\"&($K$3)&\"*\")-COUNTIF(Dienstplan!B29:BH29,\"*_\"&($K$3)&\"*\")","v":0},{"$f":"COUNTIF(Dienstplan!B29:BH29,\"*\"&($L$3)&\"*\")-COUNTIF(Dienstplan!B29:BH29,\"*_\"&($L$3)&\"*\")","v":1},{"$f":"COUNTIF(Dienstplan!B29:BH29,\"*\"&($M$3)&\"*\")-COUNTIF(Dienstplan!B29:BH29,\"*_\"&($M$3)&\"*\")","v":1},{"$f":"COUNTIF(Dienstplan!B29:BH29,\"*\"&($N$3)&\"*\")-COUNTIF(Dienstplan!B29:BH29,\"*_\"&($N$3)&\"*\")","v":1},{"$f":"COUNTIF(Dienstplan!B29:BH29,\"*\"&($O$3)&\"*\")-COUNTIF(Dienstplan!B29:BH29,\"*_\"&($O$3)&\"*\")","v":0},{"$f":"COUNTIF(Dienstplan!B29:BH29,\"*\"&($P$3)&\"*\")-COUNTIF(Dienstplan!B29:BH29,\"*_\"&($P$3)&\"*\")","v":0},{"$f":"COUNTIF(Dienstplan!B29:BH29,\"*\"&($Q$3)&\"*\")-COUNTIF(Dienstplan!B29:BH29,\"*_\"&($Q$3)&\"*\")","v":0},{"$f":"COUNTIF(Dienstplan!B29:BH29,\"*\"&($R$3)&\"*\")-COUNTIF(Dienstplan!B29:BH29,\"*_\"&($R$3)&\"*\")","v":0},{"$f":"COUNTIF(Dienstplan!B29:BH29,\"*\"&($S$3)&\"*\")-COUNTIF(Dienstplan!B29:BH29,\"*_\"&($S$3)&\"*\")","v":1},{"$f":"COUNTIF(Dienstplan!B29:BH29,\"*\"&($T$3)&\"*\")-COUNTIF(Dienstplan!B29:BH29,\"*_\"&($T$3)&\"*\")","v":1},{"$f":"COUNTIF(Dienstplan!B29:BH29,\"*\"&($U$3)&\"*\")-COUNTIF(Dienstplan!B29:BH29,\"*_\"&($U$3)&\"*\")","v":1},{"$f":"COUNTIF(Dienstplan!B29:BH29,\"*\"&($V$3)&\"*\")-COUNTIF(Dienstplan!B29:BH29,\"*_\"&($V$3)&\"*\")","v":0},{"$f":"COUNTIF(Dienstplan!B29:BH29,\"*\"&($W$3)&\"*\")-COUNTIF(Dienstplan!B29:BH29,\"*_\"&($W$3)&\"*\")","v":1},{"$f":"COUNTIF(Dienstplan!B29:BH29,\"*\"&($X$3)&\"*\")-COUNTIF(Dienstplan!B29:BH29,\"*_\"&($X$3)&\"*\")","v":0},{"$f":"COUNTIF(Dienstplan!B29:BH29,\"*\"&($Y$3)&\"*\")-COUNTIF(Dienstplan!B29:BH29,\"*_\"&($Y$3)&\"*\")","v":0},{"$f":"COUNTIF(Dienstplan!B29:BH29,\"*\"&($Z$3)&\"*\")-COUNTIF(Dienstplan!B29:BH29,\"*_\"&($Z$3)&\"*\")","v":0},{"$f":"COUNTIF(Dienstplan!B29:BH29,\"*\"&($AA$3)&\"*\")-COUNTIF(Dienstplan!B29:BH29,\"*_\"&($AA$3)&\"*\")","v":0},{"$f":"COUNTIF(Dienstplan!B29:BH29,\"*\"&($AB$3)&\"*\")-COUNTIF(Dienstplan!B29:BH29,\"*_\"&($AB$3)&\"*\")","v":0},{"$f":"COUNTIF(Dienstplan!B29:BH29,\"*\"&($AC$3)&\"*\")-COUNTIF(Dienstplan!B29:BH29,\"*_\"&($AC$3)&\"*\")","v":0},{"$f":"COUNTIF(Dienstplan!B29:BH29,\"*\"&($AD$3)&\"*\")-COUNTIF(Dienstplan!B29:BH29,\"*_\"&($AD$3)&\"*\")","v":0},{"$f":"COUNTIF(Dienstplan!B29:BH29,\"*\"&($AE$3)&\"*\")-COUNTIF(Dienstplan!B29:BH29,\"*_\"&($AE$3)&\"*\")","v":0},{"$f":"COUNTIF(Dienstplan!B29:BH29,\"*\"&($AF$3)&\"*\")-COUNTIF(Dienstplan!B29:BH29,\"*_\"&($AF$3)&\"*\")","v":0},{"$f":"COUNTIF(Dienstplan!B29:BH29,\"*\"&($AG$3)&\"*\")-COUNTIF(Dienstplan!B29:BH29,\"*_\"&($AG$3)&\"*\")","v":0},{"$f":"COUNTIF(Dienstplan!B29:BH29,\"*\"&($AH$3)&\"*\")-COUNTIF(Dienstplan!B29:BH29,\"*_\"&($AH$3)&\"*\")","v":0},{"$f":"COUNTIF(Dienstplan!B29:BH29,\"*\"&($AI$3)&\"*\")-COUNTIF(Dienstplan!B29:BH29,\"*_\"&($AI$3)&\"*\")","v":0},{"$f":"COUNTIF(Dienstplan!$B29:$BH29,\"*\"&($AJ$3)&\"*\")-COUNTIF(Dienstplan!$B29:$BH29,\"*_\"&($AJ$3)&\"*\")","v":0}]
[{"$f":"COUNTIF(Dienstplan!B30:BH30,\"*\"&($A$3)&\"*\")-COUNTIF(Dienstplan!B30:BH30,\"*_\"&($A$3)&\"*\")","v":0},{"$f":"COUNTIF(Dienstplan!B30:BH30,\"*\"&($B$3)&\"*\")-COUNTIF(Dienstplan!B30:BH30,\"*_\"&($B$3)&\"*\")","v":0},{"$f":"COUNTIF(Dienstplan!B30:BH30,\"*\"&($C$3)&\"*\")-COUNTIF(Dienstplan!B30:BH30,\"*_\"&($C$3)&\"*\")","v":0},{"$f":"COUNTIF(Dienstplan!B30:BH30,\"*\"&($D$3)&\"*\")-COUNTIF(Dienstplan!B30:BH30,\"*_\"&($D$3)&\"*\")","v":0},{"$f":"COUNTIF(Dienstplan!B30:BH30,\"*\"&($E$3)&\"*\")-COUNTIF(Dienstplan!B30:BH30,\"*_\"&($E$3)&\"*\")","v":0},{"$f":"COUNTIF(Dienstplan!B30:BH30,\"*\"&($F$3)&\"*\")-COUNTIF(Dienstplan!B30:BH30,\"*_\"&($F$3)&\"*\")","v":0},{"$f":"COUNTIF(Dienstplan!B30:BH30,\"*\"&($G$3)&\"*\")-COUNTIF(Dienstplan!B30:BH30,\"*_\"&($G$3)&\"*\")","v":0},{"$f":"COUNTIF(Dienstplan!B30:BH30,\"*\"&($H$3)&\"*\")-COUNTIF(Dienstplan!B30:BH30,\"*_\"&($H$3)&\"*\")","v":1},{"$f":"COUNTIF(Dienstplan!B30:BH30,\"*\"&($I$3)&\"*\")-COUNTIF(Dienstplan!B30:BH30,\"*_\"&($I$3)&\"*\")","v":1},{"$f":"COUNTIF(Dienstplan!B30:BH30,\"*\"&($J$3)&\"*\")-COUNTIF(Dienstplan!B30:BH30,\"*_\"&($J$3)&\"*\")","v":0},{"$f":"COUNTIF(Dienstplan!B30:BH30,\"*\"&($K$3)&\"*\")-COUNTIF(Dienstplan!B30:BH30,\"*_\"&($K$3)&\"*\")","v":0},{"$f":"COUNTIF(Dienstplan!B30:BH30,\"*\"&($L$3)&\"*\")-COUNTIF(Dienstplan!B30:BH30,\"*_\"&($L$3)&\"*\")","v":1},{"$f":"COUNTIF(Dienstplan!B30:BH30,\"*\"&($M$3)&\"*\")-COUNTIF(Dienstplan!B30:BH30,\"*_\"&($M$3)&\"*\")","v":1},{"$f":"COUNTIF(Dienstplan!B30:BH30,\"*\"&($N$3)&\"*\")-COUNTIF(Dienstplan!B30:BH30,\"*_\"&($N$3)&\"*\")","v":1},{"$f":"COUNTIF(Dienstplan!B30:BH30,\"*\"&($O$3)&\"*\")-COUNTIF(Dienstplan!B30:BH30,\"*_\"&($O$3)&\"*\")","v":0},{"$f":"COUNTIF(Dienstplan!B30:BH30,\"*\"&($P$3)&\"*\")-COUNTIF(Dienstplan!B30:BH30,\"*_\"&($P$3)&\"*\")","v":0},{"$f":"COUNTIF(Dienstplan!B30:BH30,\"*\"&($Q$3)&\"*\")-COUNTIF(Dienstplan!B30:BH30,\"*_\"&($Q$3)&\"*\")","v":0},{"$f":"COUNTIF(Dienstplan!B30:BH30,\"*\"&($R$3)&\"*\")-COUNTIF(Dienstplan!B30:BH30,\"*_\"&($R$3)&\"*\")","v":0},{"$f":"COUNTIF(Dienstplan!B30:BH30,\"*\"&($S$3)&\"*\")-COUNTIF(Dienstplan!B30:BH30,\"*_\"&($S$3)&\"*\")","v":1},{"$f":"COUNTIF(Dienstplan!B30:BH30,\"*\"&($T$3)&\"*\")-COUNTIF(Dienstplan!B30:BH30,\"*_\"&($T$3)&\"*\")","v":0},{"$f":"COUNTIF(Dienstplan!B30:BH30,\"*\"&($U$3)&\"*\")-COUNTIF(Dienstplan!B30:BH30,\"*_\"&($U$3)&\"*\")","v":1},{"$f":"COUNTIF(Dienstplan!B30:BH30,\"*\"&($V$3)&\"*\")-COUNTIF(Dienstplan!B30:BH30,\"*_\"&($V$3)&\"*\")","v":0},{"$f":"COUNTIF(Dienstplan!B30:BH30,\"*\"&($W$3)&\"*\")-COUNTIF(Dienstplan!B30:BH30,\"*_\"&($W$3)&\"*\")","v":1},{"$f":"COUNTIF(Dienstplan!B30:BH30,\"*\"&($X$3)&\"*\")-COUNTIF(Dienstplan!B30:BH30,\"*_\"&($X$3)&\"*\")","v":0},{"$f":"COUNTIF(Dienstplan!B30:BH30,\"*\"&($Y$3)&\"*\")-COUNTIF(Dienstplan!B30:BH30,\"*_\"&($Y$3)&\"*\")","v":0},{"$f":"COUNTIF(Dienstplan!B30:BH30,\"*\"&($Z$3)&\"*\")-COUNTIF(Dienstplan!B30:BH30,\"*_\"&($Z$3)&\"*\")","v":0},{"$f":"COUNTIF(Dienstplan!B30:BH30,\"*\"&($AA$3)&\"*\")-COUNTIF(Dienstplan!B30:BH30,\"*_\"&($AA$3)&\"*\")","v":0},{"$f":"COUNTIF(Dienstplan!B30:BH30,\"*\"&($AB$3)&\"*\")-COUNTIF(Dienstplan!B30:BH30,\"*_\"&($AB$3)&\"*\")","v":0},{"$f":"COUNTIF(Dienstplan!B30:BH30,\"*\"&($AC$3)&\"*\")-COUNTIF(Dienstplan!B30:BH30,\"*_\"&($AC$3)&\"*\")","v":0},{"$f":"COUNTIF(Dienstplan!B30:BH30,\"*\"&($AD$3)&\"*\")-COUNTIF(Dienstplan!B30:BH30,\"*_\"&($AD$3)&\"*\")","v":0},{"$f":"COUNTIF(Dienstplan!B30:BH30,\"*\"&($AE$3)&\"*\")-COUNTIF(Dienstplan!B30:BH30,\"*_\"&($AE$3)&\"*\")","v":0},{"$f":"COUNTIF(Dienstplan!B30:BH30,\"*\"&($AF$3)&\"*\")-COUNTIF(Dienstplan!B30:BH30,\"*_\"&($AF$3)&\"*\")","v":0},{"$f":"COUNTIF(Dienstplan!B30:BH30,\"*\"&($AG$3)&\"*\")-COUNTIF(Dienstplan!B30:BH30,\"*_\"&($AG$3)&\"*\")","v":0},{"$f":"COUNTIF(Dienstplan!B30:BH30,\"*\"&($AH$3)&\"*\")-COUNTIF(Dienstplan!B30:BH30,\"*_\"&($AH$3)&\"*\")","v":0},{"$f":"COUNTIF(Dienstplan!B30:BH30,\"*\"&($AI$3)&\"*\")-COUNTIF(Dienstplan!B30:BH30,\"*_\"&($AI$3)&\"*\")","v":0},{"$f":"COUNTIF(Dienstplan!$B30:$BH30,\"*\"&($AJ$3)&\"*\")-COUNTIF(Dienstplan!$B30:$BH30,\"*_\"&($AJ$3)&\"*\")","v":0}]
[{"$f":"COUNTIF(Dienstplan!B31:BH31,\"*\"&($A$3)&\"*\")-COUNTIF(Dienstplan!B31:BH31,\"*_\"&($A$3)&\"*\")","v":0},{"$f":"COUNTIF(Dienstplan!B31:BH31,\"*\"&($B$3)&\"*\")-COUNTIF(Dienstplan!B31:BH31,\"*_\"&($B$3)&\"*\")","v":0},{"$f":"COUNTIF(Dienstplan!B31:BH31,\"*\"&($C$3)&\"*\")-COUNTIF(Dienstplan!B31:BH31,\"*_\"&($C$3)&\"*\")","v":0},{"$f":"COUNTIF(Dienstplan!B31:BH31,\"*\"&($D$3)&\"*\")-COUNTIF(Dienstplan!B31:BH31,\"*_\"&($D$3)&\"*\")","v":0},{"$f":"COUNTIF(Dienstplan!B31:BH31,\"*\"&($E$3)&\"*\")-COUNTIF(Dienstplan!B31:BH31,\"*_\"&($E$3)&\"*\")","v":0},{"$f":"COUNTIF(Dienstplan!B31:BH31,\"*\"&($F$3)&\"*\")-COUNTIF(Dienstplan!B31:BH31,\"*_\"&($F$3)&\"*\")","v":0},{"$f":"COUNTIF(Dienstplan!B31:BH31,\"*\"&($G$3)&\"*\")-COUNTIF(Dienstplan!B31:BH31,\"*_\"&($G$3)&\"*\")","v":0},{"$f":"COUNTIF(Dienstplan!B31:BH31,\"*\"&($H$3)&\"*\")-COUNTIF(Dienstplan!B31:BH31,\"*_\"&($H$3)&\"*\")","v":0},{"$f":"COUNTIF(Dienstplan!B31:BH31,\"*\"&($I$3)&\"*\")-COUNTIF(Dienstplan!B31:BH31,\"*_\"&($I$3)&\"*\")","v":0},{"$f":"COUNTIF(Dienstplan!B31:BH31,\"*\"&($J$3)&\"*\")-COUNTIF(Dienstplan!B31:BH31,\"*_\"&($J$3)&\"*\")","v":0},{"$f":"COUNTIF(Dienstplan!B31:BH31,\"*\"&($K$3)&\"*\")-COUNTIF(Dienstplan!B31:BH31,\"*_\"&($K$3)&\"*\")","v":0},{"$f":"COUNTIF(Dienstplan!B31:BH31,\"*\"&($L$3)&\"*\")-COUNTIF(Dienstplan!B31:BH31,\"*_\"&($L$3)&\"*\")","v":0},{"$f":"COUNTIF(Dienstplan!B31:BH31,\"*\"&($M$3)&\"*\")-COUNTIF(Dienstplan!B31:BH31,\"*_\"&($M$3)&\"*\")","v":0},{"$f":"COUNTIF(Dienstplan!B31:BH31,\"*\"&($N$3)&\"*\")-COUNTIF(Dienstplan!B31:BH31,\"*_\"&($N$3)&\"*\")","v":0},{"$f":"COUNTIF(Dienstplan!B31:BH31,\"*\"&($O$3)&\"*\")-COUNTIF(Dienstplan!B31:BH31,\"*_\"&($O$3)&\"*\")","v":0},{"$f":"COUNTIF(Dienstplan!B31:BH31,\"*\"&($P$3)&\"*\")-COUNTIF(Dienstplan!B31:BH31,\"*_\"&($P$3)&\"*\")","v":0},{"$f":"COUNTIF(Dienstplan!B31:BH31,\"*\"&($Q$3)&\"*\")-COUNTIF(Dienstplan!B31:BH31,\"*_\"&($Q$3)&\"*\")","v":0},{"$f":"COUNTIF(Dienstplan!B31:BH31,\"*\"&($R$3)&\"*\")-COUNTIF(Dienstplan!B31:BH31,\"*_\"&($R$3)&\"*\")","v":0},{"$f":"COUNTIF(Dienstplan!B31:BH31,\"*\"&($S$3)&\"*\")-COUNTIF(Dienstplan!B31:BH31,\"*_\"&($S$3)&\"*\")","v":0},{"$f":"COUNTIF(Dienstplan!B31:BH31,\"*\"&($T$3)&\"*\")-COUNTIF(Dienstplan!B31:BH31,\"*_\"&($T$3)&\"*\")","v":0},{"$f":"COUNTIF(Dienstplan!B31:BH31,\"*\"&($U$3)&\"*\")-COUNTIF(Dienstplan!B31:BH31,\"*_\"&($U$3)&\"*\")","v":0},{"$f":"COUNTIF(Dienstplan!B31:BH31,\"*\"&($V$3)&\"*\")-COUNTIF(Dienstplan!B31:BH31,\"*_\"&($V$3)&\"*\")","v":0},{"$f":"COUNTIF(Dienstplan!B31:BH31,\"*\"&($W$3)&\"*\")-COUNTIF(Dienstplan!B31:BH31,\"*_\"&($W$3)&\"*\")","v":1},{"$f":"COUNTIF(Dienstplan!B31:BH31,\"*\"&($X$3)&\"*\")-COUNTIF(Dienstplan!B31:BH31,\"*_\"&($X$3)&\"*\")","v":0},{"$f":"COUNTIF(Dienstplan!B31:BH31,\"*\"&($Y$3)&\"*\")-COUNTIF(Dienstplan!B31:BH31,\"*_\"&($Y$3)&\"*\")","v":0},{"$f":"COUNTIF(Dienstplan!B31:BH31,\"*\"&($Z$3)&\"*\")-COUNTIF(Dienstplan!B31:BH31,\"*_\"&($Z$3)&\"*\")","v":0},{"$f":"COUNTIF(Dienstplan!B31:BH31,\"*\"&($AA$3)&\"*\")-COUNTIF(Dienstplan!B31:BH31,\"*_\"&($AA$3)&\"*\")","v":0},{"$f":"COUNTIF(Dienstplan!B31:BH31,\"*\"&($AB$3)&\"*\")-COUNTIF(Dienstplan!B31:BH31,\"*_\"&($AB$3)&\"*\")","v":0},{"$f":"COUNTIF(Dienstplan!B31:BH31,\"*\"&($AC$3)&\"*\")-COUNTIF(Dienstplan!B31:BH31,\"*_\"&($AC$3)&\"*\")","v":0},{"$f":"COUNTIF(Dienstplan!B31:BH31,\"*\"&($AD$3)&\"*\")-COUNTIF(Dienstplan!B31:BH31,\"*_\"&($AD$3)&\"*\")","v":0},{"$f":"COUNTIF(Dienstplan!B31:BH31,\"*\"&($AE$3)&\"*\")-COUNTIF(Dienstplan!B31:BH31,\"*_\"&($AE$3)&\"*\")","v":0},{"$f":"COUNTIF(Dienstplan!B31:BH31,\"*\"&($AF$3)&\"*\")-COUNTIF(Dienstplan!B31:BH31,\"*_\"&($AF$3)&\"*\")","v":0},{"$f":"COUNTIF(Dienstplan!B31:BH31,\"*\"&($AG$3)&\"*\")-COUNTIF(Dienstplan!B31:BH31,\"*_\"&($AG$3)&\"*\")","v":0},{"$f":"COUNTIF(Dienstplan!B31:BH31,\"*\"&($AH$3)&\"*\")-COUNTIF(Dienstplan!B31:BH31,\"*_\"&($AH$3)&\"*\")","v":0},{"$f":"COUNTIF(Dienstplan!B31:BH31,\"*\"&($AI$3)&\"*\")-COUNTIF(Dienstplan!B31:BH31,\"*_\"&($AI$3)&\"*\")","v":0},{"$f":"COUNTIF(Dienstplan!$B31:$BH31,\"*\"&($AJ$3)&\"*\")-COUNTIF(Dienstplan!$B31:$BH31,\"*_\"&($AJ$3)&\"*\")","v":0}]
[{"$f":"COUNTIF(Dienstplan!B32:BH32,\"*\"&($A$3)&\"*\")-COUNTIF(Dienstplan!B32:BH32,\"*_\"&($A$3)&\"*\")","v":0},{"$f":"COUNTIF(Dienstplan!B32:BH32,\"*\"&($B$3)&\"*\")-COUNTIF(Dienstplan!B32:BH32,\"*_\"&($B$3)&\"*\")","v":0},{"$f":"COUNTIF(Dienstplan!B32:BH32,\"*\"&($C$3)&\"*\")-COUNTIF(Dienstplan!B32:BH32,\"*_\"&($C$3)&\"*\")","v":0},{"$f":"COUNTIF(Dienstplan!B32:BH32,\"*\"&($D$3)&\"*\")-COUNTIF(Dienstplan!B32:BH32,\"*_\"&($D$3)&\"*\")","v":0},{"$f":"COUNTIF(Dienstplan!B32:BH32,\"*\"&($E$3)&\"*\")-COUNTIF(Dienstplan!B32:BH32,\"*_\"&($E$3)&\"*\")","v":0},{"$f":"COUNTIF(Dienstplan!B32:BH32,\"*\"&($F$3)&\"*\")-COUNTIF(Dienstplan!B32:BH32,\"*_\"&($F$3)&\"*\")","v":0},{"$f":"COUNTIF(Dienstplan!B32:BH32,\"*\"&($G$3)&\"*\")-COUNTIF(Dienstplan!B32:BH32,\"*_\"&($G$3)&\"*\")","v":0},{"$f":"COUNTIF(Dienstplan!B32:BH32,\"*\"&($H$3)&\"*\")-COUNTIF(Dienstplan!B32:BH32,\"*_\"&($H$3)&\"*\")","v":0},{"$f":"COUNTIF(Dienstplan!B32:BH32,\"*\"&($I$3)&\"*\")-COUNTIF(Dienstplan!B32:BH32,\"*_\"&($I$3)&\"*\")","v":0},{"$f":"COUNTIF(Dienstplan!B32:BH32,\"*\"&($J$3)&\"*\")-COUNTIF(Dienstplan!B32:BH32,\"*_\"&($J$3)&\"*\")","v":0},{"$f":"COUNTIF(Dienstplan!B32:BH32,\"*\"&($K$3)&\"*\")-COUNTIF(Dienstplan!B32:BH32,\"*_\"&($K$3)&\"*\")","v":0},{"$f":"COUNTIF(Dienstplan!B32:BH32,\"*\"&($L$3)&\"*\")-COUNTIF(Dienstplan!B32:BH32,\"*_\"&($L$3)&\"*\")","v":0},{"$f":"COUNTIF(Dienstplan!B32:BH32,\"*\"&($M$3)&\"*\")-COUNTIF(Dienstplan!B32:BH32,\"*_\"&($M$3)&\"*\")","v":0},{"$f":"COUNTIF(Dienstplan!B32:BH32,\"*\"&($N$3)&\"*\")-COUNTIF(Dienstplan!B32:BH32,\"*_\"&($N$3)&\"*\")","v":0},{"$f":"COUNTIF(Dienstplan!B32:BH32,\"*\"&($O$3)&\"*\")-COUNTIF(Dienstplan!B32:BH32,\"*_\"&($O$3)&\"*\")","v":0},{"$f":"COUNTIF(Dienstplan!B32:BH32,\"*\"&($P$3)&\"*\")-COUNTIF(Dienstplan!B32:BH32,\"*_\"&($P$3)&\"*\")","v":0},{"$f":"COUNTIF(Dienstplan!B32:BH32,\"*\"&($Q$3)&\"*\")-COUNTIF(Dienstplan!B32:BH32,\"*_\"&($Q$3)&\"*\")","v":0},{"$f":"COUNTIF(Dienstplan!B32:BH32,\"*\"&($R$3)&\"*\")-COUNTIF(Dienstplan!B32:BH32,\"*_\"&($R$3)&\"*\")","v":0},{"$f":"COUNTIF(Dienstplan!B32:BH32,\"*\"&($S$3)&\"*\")-COUNTIF(Dienstplan!B32:BH32,\"*_\"&($S$3)&\"*\")","v":0},{"$f":"COUNTIF(Dienstplan!B32:BH32,\"*\"&($T$3)&\"*\")-COUNTIF(Dienstplan!B32:BH32,\"*_\"&($T$3)&\"*\")","v":0},{"$f":"COUNTIF(Dienstplan!B32:BH32,\"*\"&($U$3)&\"*\")-COUNTIF(Dienstplan!B32:BH32,\"*_\"&($U$3)&\"*\")","v":0},{"$f":"COUNTIF(Dienstplan!B32:BH32,\"*\"&($V$3)&\"*\")-COUNTIF(Dienstplan!B32:BH32,\"*_\"&($V$3)&\"*\")","v":0},{"$f":"COUNTIF(Dienstplan!B32:BH32,\"*\"&($W$3)&\"*\")-COUNTIF(Dienstplan!B32:BH32,\"*_\"&($W$3)&\"*\")","v":1},{"$f":"COUNTIF(Dienstplan!B32:BH32,\"*\"&($X$3)&\"*\")-COUNTIF(Dienstplan!B32:BH32,\"*_\"&($X$3)&\"*\")","v":0},{"$f":"COUNTIF(Dienstplan!B32:BH32,\"*\"&($Y$3)&\"*\")-COUNTIF(Dienstplan!B32:BH32,\"*_\"&($Y$3)&\"*\")","v":0},{"$f":"COUNTIF(Dienstplan!B32:BH32,\"*\"&($Z$3)&\"*\")-COUNTIF(Dienstplan!B32:BH32,\"*_\"&($Z$3)&\"*\")","v":0},{"$f":"COUNTIF(Dienstplan!B32:BH32,\"*\"&($AA$3)&\"*\")-COUNTIF(Dienstplan!B32:BH32,\"*_\"&($AA$3)&\"*\")","v":0},{"$f":"COUNTIF(Dienstplan!B32:BH32,\"*\"&($AB$3)&\"*\")-COUNTIF(Dienstplan!B32:BH32,\"*_\"&($AB$3)&\"*\")","v":0},{"$f":"COUNTIF(Dienstplan!B32:BH32,\"*\"&($AC$3)&\"*\")-COUNTIF(Dienstplan!B32:BH32,\"*_\"&($AC$3)&\"*\")","v":0},{"$f":"COUNTIF(Dienstplan!B32:BH32,\"*\"&($AD$3)&\"*\")-COUNTIF(Dienstplan!B32:BH32,\"*_\"&($AD$3)&\"*\")","v":0},{"$f":"COUNTIF(Dienstplan!B32:BH32,\"*\"&($AE$3)&\"*\")-COUNTIF(Dienstplan!B32:BH32,\"*_\"&($AE$3)&\"*\")","v":0},{"$f":"COUNTIF(Dienstplan!B32:BH32,\"*\"&($AF$3)&\"*\")-COUNTIF(Dienstplan!B32:BH32,\"*_\"&($AF$3)&\"*\")","v":0},{"$f":"COUNTIF(Dienstplan!B32:BH32,\"*\"&($AG$3)&\"*\")-COUNTIF(Dienstplan!B32:BH32,\"*_\"&($AG$3)&\"*\")","v":0},{"$f":"COUNTIF(Dienstplan!B32:BH32,\"*\"&($AH$3)&\"*\")-COUNTIF(Dienstplan!B32:BH32,\"*_\"&($AH$3)&\"*\")","v":0},{"$f":"COUNTIF(Dienstplan!B32:BH32,\"*\"&($AI$3)&\"*\")-COUNTIF(Dienstplan!B32:BH32,\"*_\"&($AI$3)&\"*\")","v":0},{"$f":"COUNTIF(Dienstplan!$B32:$BH32,\"*\"&($AJ$3)&\"*\")-COUNTIF(Dienstplan!$B32:$BH32,\"*_\"&($AJ$3)&\"*\")","v":0}]
[{"$f":"COUNTIF(Dienstplan!B33:BH33,\"*\"&($A$3)&\"*\")-COUNTIF(Dienstplan!B33:BH33,\"*_\"&($A$3)&\"*\")","v":0},{"$f":"COUNTIF(Dienstplan!B33:BH33,\"*\"&($B$3)&\"*\")-COUNTIF(Dienstplan!B33:BH33,\"*_\"&($B$3)&\"*\")","v":0},{"$f":"COUNTIF(Dienstplan!B33:BH33,\"*\"&($C$3)&\"*\")-COUNTIF(Dienstplan!B33:BH33,\"*_\"&($C$3)&\"*\")","v":0},{"$f":"COUNTIF(Dienstplan!B33:BH33,\"*\"&($D$3)&\"*\")-COUNTIF(Dienstplan!B33:BH33,\"*_\"&($D$3)&\"*\")","v":0},{"$f":"COUNTIF(Dienstplan!B33:BH33,\"*\"&($E$3)&\"*\")-COUNTIF(Dienstplan!B33:BH33,\"*_\"&($E$3)&\"*\")","v":0},{"$f":"COUNTIF(Dienstplan!B33:BH33,\"*\"&($F$3)&\"*\")-COUNTIF(Dienstplan!B33:BH33,\"*_\"&($F$3)&\"*\")","v":0},{"$f":"COUNTIF(Dienstplan!B33:BH33,\"*\"&($G$3)&\"*\")-COUNTIF(Dienstplan!B33:BH33,\"*_\"&($G$3)&\"*\")","v":0},{"$f":"COUNTIF(Dienstplan!B33:BH33,\"*\"&($H$3)&\"*\")-COUNTIF(Dienstplan!B33:BH33,\"*_\"&($H$3)&\"*\")","v":0},{"$f":"COUNTIF(Dienstplan!B33:BH33,\"*\"&($I$3)&\"*\")-COUNTIF(Dienstplan!B33:BH33,\"*_\"&($I$3)&\"*\")","v":0},{"$f":"COUNTIF(Dienstplan!B33:BH33,\"*\"&($J$3)&\"*\")-COUNTIF(Dienstplan!B33:BH33,\"*_\"&($J$3)&\"*\")","v":0},{"$f":"COUNTIF(Dienstplan!B33:BH33,\"*\"&($K$3)&\"*\")-COUNTIF(Dienstplan!B33:BH33,\"*_\"&($K$3)&\"*\")","v":0},{"$f":"COUNTIF(Dienstplan!B33:BH33,\"*\"&($L$3)&\"*\")-COUNTIF(Dienstplan!B33:BH33,\"*_\"&($L$3)&\"*\")","v":0},{"$f":"COUNTIF(Dienstplan!B33:BH33,\"*\"&($M$3)&\"*\")-COUNTIF(Dienstplan!B33:BH33,\"*_\"&($M$3)&\"*\")","v":0},{"$f":"COUNTIF(Dienstplan!B33:BH33,\"*\"&($N$3)&\"*\")-COUNTIF(Dienstplan!B33:BH33,\"*_\"&($N$3)&\"*\")","v":0},{"$f":"COUNTIF(Dienstplan!B33:BH33,\"*\"&($O$3)&\"*\")-COUNTIF(Dienstplan!B33:BH33,\"*_\"&($O$3)&\"*\")","v":0},{"$f":"COUNTIF(Dienstplan!B33:BH33,\"*\"&($P$3)&\"*\")-COUNTIF(Dienstplan!B33:BH33,\"*_\"&($P$3)&\"*\")","v":0},{"$f":"COUNTIF(Dienstplan!B33:BH33,\"*\"&($Q$3)&\"*\")-COUNTIF(Dienstplan!B33:BH33,\"*_\"&($Q$3)&\"*\")","v":0},{"$f":"COUNTIF(Dienstplan!B33:BH33,\"*\"&($R$3)&\"*\")-COUNTIF(Dienstplan!B33:BH33,\"*_\"&($R$3)&\"*\")","v":0},{"$f":"COUNTIF(Dienstplan!B33:BH33,\"*\"&($S$3)&\"*\")-COUNTIF(Dienstplan!B33:BH33,\"*_\"&($S$3)&\"*\")","v":0},{"$f":"COUNTIF(Dienstplan!B33:BH33,\"*\"&($T$3)&\"*\")-COUNTIF(Dienstplan!B33:BH33,\"*_\"&($T$3)&\"*\")","v":0},{"$f":"COUNTIF(Dienstplan!B33:BH33,\"*\"&($U$3)&\"*\")-COUNTIF(Dienstplan!B33:BH33,\"*_\"&($U$3)&\"*\")","v":0},{"$f":"COUNTIF(Dienstplan!B33:BH33,\"*\"&($V$3)&\"*\")-COUNTIF(Dienstplan!B33:BH33,\"*_\"&($V$3)&\"*\")","v":0},{"$f":"COUNTIF(Dienstplan!B33:BH33,\"*\"&($W$3)&\"*\")-COUNTIF(Dienstplan!B33:BH33,\"*_\"&($W$3)&\"*\")","v":0},{"$f":"COUNTIF(Dienstplan!B33:BH33,\"*\"&($X$3)&\"*\")-COUNTIF(Dienstplan!B33:BH33,\"*_\"&($X$3)&\"*\")","v":0},{"$f":"COUNTIF(Dienstplan!B33:BH33,\"*\"&($Y$3)&\"*\")-COUNTIF(Dienstplan!B33:BH33,\"*_\"&($Y$3)&\"*\")","v":0},{"$f":"COUNTIF(Dienstplan!B33:BH33,\"*\"&($Z$3)&\"*\")-COUNTIF(Dienstplan!B33:BH33,\"*_\"&($Z$3)&\"*\")","v":0},{"$f":"COUNTIF(Dienstplan!B33:BH33,\"*\"&($AA$3)&\"*\")-COUNTIF(Dienstplan!B33:BH33,\"*_\"&($AA$3)&\"*\")","v":0},{"$f":"COUNTIF(Dienstplan!B33:BH33,\"*\"&($AB$3)&\"*\")-COUNTIF(Dienstplan!B33:BH33,\"*_\"&($AB$3)&\"*\")","v":0},{"$f":"COUNTIF(Dienstplan!B33:BH33,\"*\"&($AC$3)&\"*\")-COUNTIF(Dienstplan!B33:BH33,\"*_\"&($AC$3)&\"*\")","v":0},{"$f":"COUNTIF(Dienstplan!B33:BH33,\"*\"&($AD$3)&\"*\")-COUNTIF(Dienstplan!B33:BH33,\"*_\"&($AD$3)&\"*\")","v":0},{"$f":"COUNTIF(Dienstplan!B33:BH33,\"*\"&($AE$3)&\"*\")-COUNTIF(Dienstplan!B33:BH33,\"*_\"&($AE$3)&\"*\")","v":0},{"$f":"COUNTIF(Dienstplan!B33:BH33,\"*\"&($AF$3)&\"*\")-COUNTIF(Dienstplan!B33:BH33,\"*_\"&($AF$3)&\"*\")","v":0},{"$f":"COUNTIF(Dienstplan!B33:BH33,\"*\"&($AG$3)&\"*\")-COUNTIF(Dienstplan!B33:BH33,\"*_\"&($AG$3)&\"*\")","v":0},{"$f":"COUNTIF(Dienstplan!B33:BH33,\"*\"&($AH$3)&\"*\")-COUNTIF(Dienstplan!B33:BH33,\"*_\"&($AH$3)&\"*\")","v":0},{"$f":"COUNTIF(Dienstplan!B33:BH33,\"*\"&($AI$3)&\"*\")-COUNTIF(Dienstplan!B33:BH33,\"*_\"&($AI$3)&\"*\")","v":0},{"$f":"COUNTIF(Dienstplan!$B33:$BH33,\"*\"&($AJ$3)&\"*\")-COUNTIF(Dienstplan!$B33:$BH33,\"*_\"&($AJ$3)&\"*\")","v":0}]
[{"$f":"COUNTIF(Dienstplan!B34:BH34,\"*\"&($A$3)&\"*\")-COUNTIF(Dienstplan!B34:BH34,\"*_\"&($A$3)&\"*\")","v":0},{"$f":"COUNTIF(Dienstplan!B34:BH34,\"*\"&($B$3)&\"*\")-COUNTIF(Dienstplan!B34:BH34,\"*_\"&($B$3)&\"*\")","v":0},{"$f":"COUNTIF(Dienstplan!B34:BH34,\"*\"&($C$3)&\"*\")-COUNTIF(Dienstplan!B34:BH34,\"*_\"&($C$3)&\"*\")","v":0},{"$f":"COUNTIF(Dienstplan!B34:BH34,\"*\"&($D$3)&\"*\")-COUNTIF(Dienstplan!B34:BH34,\"*_\"&($D$3)&\"*\")","v":0},{"$f":"COUNTIF(Dienstplan!B34:BH34,\"*\"&($E$3)&\"*\")-COUNTIF(Dienstplan!B34:BH34,\"*_\"&($E$3)&\"*\")","v":0},{"$f":"COUNTIF(Dienstplan!B34:BH34,\"*\"&($F$3)&\"*\")-COUNTIF(Dienstplan!B34:BH34,\"*_\"&($F$3)&\"*\")","v":0},{"$f":"COUNTIF(Dienstplan!B34:BH34,\"*\"&($G$3)&\"*\")-COUNTIF(Dienstplan!B34:BH34,\"*_\"&($G$3)&\"*\")","v":0},{"$f":"COUNTIF(Dienstplan!B34:BH34,\"*\"&($H$3)&\"*\")-COUNTIF(Dienstplan!B34:BH34,\"*_\"&($H$3)&\"*\")","v":0},{"$f":"COUNTIF(Dienstplan!B34:BH34,\"*\"&($I$3)&\"*\")-COUNTIF(Dienstplan!B34:BH34,\"*_\"&($I$3)&\"*\")","v":0},{"$f":"COUNTIF(Dienstplan!B34:BH34,\"*\"&($J$3)&\"*\")-COUNTIF(Dienstplan!B34:BH34,\"*_\"&($J$3)&\"*\")","v":0},{"$f":"COUNTIF(Dienstplan!B34:BH34,\"*\"&($K$3)&\"*\")-COUNTIF(Dienstplan!B34:BH34,\"*_\"&($K$3)&\"*\")","v":0},{"$f":"COUNTIF(Dienstplan!B34:BH34,\"*\"&($L$3)&\"*\")-COUNTIF(Dienstplan!B34:BH34,\"*_\"&($L$3)&\"*\")","v":0},{"$f":"COUNTIF(Dienstplan!B34:BH34,\"*\"&($M$3)&\"*\")-COUNTIF(Dienstplan!B34:BH34,\"*_\"&($M$3)&\"*\")","v":0},{"$f":"COUNTIF(Dienstplan!B34:BH34,\"*\"&($N$3)&\"*\")-COUNTIF(Dienstplan!B34:BH34,\"*_\"&($N$3)&\"*\")","v":0},{"$f":"COUNTIF(Dienstplan!B34:BH34,\"*\"&($O$3)&\"*\")-COUNTIF(Dienstplan!B34:BH34,\"*_\"&($O$3)&\"*\")","v":0},{"$f":"COUNTIF(Dienstplan!B34:BH34,\"*\"&($P$3)&\"*\")-COUNTIF(Dienstplan!B34:BH34,\"*_\"&($P$3)&\"*\")","v":0},{"$f":"COUNTIF(Dienstplan!B34:BH34,\"*\"&($Q$3)&\"*\")-COUNTIF(Dienstplan!B34:BH34,\"*_\"&($Q$3)&\"*\")","v":0},{"$f":"COUNTIF(Dienstplan!B34:BH34,\"*\"&($R$3)&\"*\")-COUNTIF(Dienstplan!B34:BH34,\"*_\"&($R$3)&\"*\")","v":0},{"$f":"COUNTIF(Dienstplan!B34:BH34,\"*\"&($S$3)&\"*\")-COUNTIF(Dienstplan!B34:BH34,\"*_\"&($S$3)&\"*\")","v":0},{"$f":"COUNTIF(Dienstplan!B34:BH34,\"*\"&($T$3)&\"*\")-COUNTIF(Dienstplan!B34:BH34,\"*_\"&($T$3)&\"*\")","v":0},{"$f":"COUNTIF(Dienstplan!B34:BH34,\"*\"&($U$3)&\"*\")-COUNTIF(Dienstplan!B34:BH34,\"*_\"&($U$3)&\"*\")","v":0},{"$f":"COUNTIF(Dienstplan!B34:BH34,\"*\"&($V$3)&\"*\")-COUNTIF(Dienstplan!B34:BH34,\"*_\"&($V$3)&\"*\")","v":0},{"$f":"COUNTIF(Dienstplan!B34:BH34,\"*\"&($W$3)&\"*\")-COUNTIF(Dienstplan!B34:BH34,\"*_\"&($W$3)&\"*\")","v":0},{"$f":"COUNTIF(Dienstplan!B34:BH34,\"*\"&($X$3)&\"*\")-COUNTIF(Dienstplan!B34:BH34,\"*_\"&($X$3)&\"*\")","v":0},{"$f":"COUNTIF(Dienstplan!B34:BH34,\"*\"&($Y$3)&\"*\")-COUNTIF(Dienstplan!B34:BH34,\"*_\"&($Y$3)&\"*\")","v":0},{"$f":"COUNTIF(Dienstplan!B34:BH34,\"*\"&($Z$3)&\"*\")-COUNTIF(Dienstplan!B34:BH34,\"*_\"&($Z$3)&\"*\")","v":0},{"$f":"COUNTIF(Dienstplan!B34:BH34,\"*\"&($AA$3)&\"*\")-COUNTIF(Dienstplan!B34:BH34,\"*_\"&($AA$3)&\"*\")","v":0},{"$f":"COUNTIF(Dienstplan!B34:BH34,\"*\"&($AB$3)&\"*\")-COUNTIF(Dienstplan!B34:BH34,\"*_\"&($AB$3)&\"*\")","v":0},{"$f":"COUNTIF(Dienstplan!B34:BH34,\"*\"&($AC$3)&\"*\")-COUNTIF(Dienstplan!B34:BH34,\"*_\"&($AC$3)&\"*\")","v":0},{"$f":"COUNTIF(Dienstplan!B34:BH34,\"*\"&($AD$3)&\"*\")-COUNTIF(Dienstplan!B34:BH34,\"*_\"&($AD$3)&\"*\")","v":0},{"$f":"COUNTIF(Dienstplan!B34:BH34,\"*\"&($AE$3)&\"*\")-COUNTIF(Dienstplan!B34:BH34,\"*_\"&($AE$3)&\"*\")","v":0},{"$f":"COUNTIF(Dienstplan!B34:BH34,\"*\"&($AF$3)&\"*\")-COUNTIF(Dienstplan!B34:BH34,\"*_\"&($AF$3)&\"*\")","v":0},{"$f":"COUNTIF(Dienstplan!B34:BH34,\"*\"&($AG$3)&\"*\")-COUNTIF(Dienstplan!B34:BH34,\"*_\"&($AG$3)&\"*\")","v":0},{"$f":"COUNTIF(Dienstplan!B34:BH34,\"*\"&($AH$3)&\"*\")-COUNTIF(Dienstplan!B34:BH34,\"*_\"&($AH$3)&\"*\")","v":0},{"$f":"COUNTIF(Dienstplan!B34:BH34,\"*\"&($AI$3)&\"*\")-COUNTIF(Dienstplan!B34:BH34,\"*_\"&($AI$3)&\"*\")","v":0},{"$f":"COUNTIF(Dienstplan!$B34:$BH34,\"*\"&($AJ$3)&\"*\")-COUNTIF(Dienstplan!$B34:$BH34,\"*_\"&($AJ$3)&\"*\")","v":0}]
[{"$f":"COUNTIF(Dienstplan!B35:BH35,\"*\"&($A$3)&\"*\")-COUNTIF(Dienstplan!B35:BH35,\"*_\"&($A$3)&\"*\")","v":0},{"$f":"COUNTIF(Dienstplan!B35:BH35,\"*\"&($B$3)&\"*\")-COUNTIF(Dienstplan!B35:BH35,\"*_\"&($B$3)&\"*\")","v":0},{"$f":"COUNTIF(Dienstplan!B35:BH35,\"*\"&($C$3)&\"*\")-COUNTIF(Dienstplan!B35:BH35,\"*_\"&($C$3)&\"*\")","v":0},{"$f":"COUNTIF(Dienstplan!B35:BH35,\"*\"&($D$3)&\"*\")-COUNTIF(Dienstplan!B35:BH35,\"*_\"&($D$3)&\"*\")","v":0},{"$f":"COUNTIF(Dienstplan!B35:BH35,\"*\"&($E$3)&\"*\")-COUNTIF(Dienstplan!B35:BH35,\"*_\"&($E$3)&\"*\")","v":0},{"$f":"COUNTIF(Dienstplan!B35:BH35,\"*\"&($F$3)&\"*\")-COUNTIF(Dienstplan!B35:BH35,\"*_\"&($F$3)&\"*\")","v":1},{"$f":"COUNTIF(Dienstplan!B35:BH35,\"*\"&($G$3)&\"*\")-COUNTIF(Dienstplan!B35:BH35,\"*_\"&($G$3)&\"*\")","v":1},{"$f":"COUNTIF(Dienstplan!B35:BH35,\"*\"&($H$3)&\"*\")-COUNTIF(Dienstplan!B35:BH35,\"*_\"&($H$3)&\"*\")","v":1},{"$f":"COUNTIF(Dienstplan!B35:BH35,\"*\"&($I$3)&\"*\")-COUNTIF(Dienstplan!B35:BH35,\"*_\"&($I$3)&\"*\")","v":1},{"$f":"COUNTIF(Dienstplan!B35:BH35,\"*\"&($J$3)&\"*\")-COUNTIF(Dienstplan!B35:BH35,\"*_\"&($J$3)&\"*\")","v":0},{"$f":"COUNTIF(Dienstplan!B35:BH35,\"*\"&($K$3)&\"*\")-COUNTIF(Dienstplan!B35:BH35,\"*_\"&($K$3)&\"*\")","v":1},{"$f":"COUNTIF(Dienstplan!B35:BH35,\"*\"&($L$3)&\"*\")-COUNTIF(Dienstplan!B35:BH35,\"*_\"&($L$3)&\"*\")","v":1},{"$f":"COUNTIF(Dienstplan!B35:BH35,\"*\"&($M$3)&\"*\")-COUNTIF(Dienstplan!B35:BH35,\"*_\"&($M$3)&\"*\")","v":1},{"$f":"COUNTIF(Dienstplan!B35:BH35,\"*\"&($N$3)&\"*\")-COUNTIF(Dienstplan!B35:BH35,\"*_\"&($N$3)&\"*\")","v":1},{"$f":"COUNTIF(Dienstplan!B35:BH35,\"*\"&($O$3)&\"*\")-COUNTIF(Dienstplan!B35:BH35,\"*_\"&($O$3)&\"*\")","v":1},{"$f":"COUNTIF(Dienstplan!B35:BH35,\"*\"&($P$3)&\"*\")-COUNTIF(Dienstplan!B35:BH35,\"*_\"&($P$3)&\"*\")","v":1},{"$f":"COUNTIF(Dienstplan!B35:BH35,\"*\"&($Q$3)&\"*\")-COUNTIF(Dienstplan!B35:BH35,\"*_\"&($Q$3)&\"*\")","v":0},{"$f":"COUNTIF(Dienstplan!B35:BH35,\"*\"&($R$3)&\"*\")-COUNTIF(Dienstplan!B35:BH35,\"*_\"&($R$3)&\"*\")","v":1},{"$f":"COUNTIF(Dienstplan!B35:BH35,\"*\"&($S$3)&\"*\")-COUNTIF(Dienstplan!B35:BH35,\"*_\"&($S$3)&\"*\")","v":0},{"$f":"COUNTIF(Dienstplan!B35:BH35,\"*\"&($T$3)&\"*\")-COUNTIF(Dienstplan!B35:BH35,\"*_\"&($T$3)&\"*\")","v":1},{"$f":"COUNTIF(Dienstplan!B35:BH35,\"*\"&($U$3)&\"*\")-COUNTIF(Dienstplan!B35:BH35,\"*_\"&($U$3)&\"*\")","v":1},{"$f":"COUNTIF(Dienstplan!B35:BH35,\"*\"&($V$3)&\"*\")-COUNTIF(Dienstplan!B35:BH35,\"*_\"&($V$3)&\"*\")","v":1},{"$f":"COUNTIF(Dienstplan!B35:BH35,\"*\"&($W$3)&\"*\")-COUNTIF(Dienstplan!B35:BH35,\"*_\"&($W$3)&\"*\")","v":0},{"$f":"COUNTIF(Dienstplan!B35:BH35,\"*\"&($X$3)&\"*\")-COUNTIF(Dienstplan!B35:BH35,\"*_\"&($X$3)&\"*\")","v":0},{"$f":"COUNTIF(Dienstplan!B35:BH35,\"*\"&($Y$3)&\"*\")-COUNTIF(Dienstplan!B35:BH35,\"*_\"&($Y$3)&\"*\")","v":0},{"$f":"COUNTIF(Dienstplan!B35:BH35,\"*\"&($Z$3)&\"*\")-COUNTIF(Dienstplan!B35:BH35,\"*_\"&($Z$3)&\"*\")","v":0},{"$f":"COUNTIF(Dienstplan!B35:BH35,\"*\"&($AA$3)&\"*\")-COUNTIF(Dienstplan!B35:BH35,\"*_\"&($AA$3)&\"*\")","v":0},{"$f":"COUNTIF(Dienstplan!B35:BH35,\"*\"&($AB$3)&\"*\")-COUNTIF(Dienstplan!B35:BH35,\"*_\"&($AB$3)&\"*\")","v":0},{"$f":"COUNTIF(Dienstplan!B35:BH35,\"*\"&($AC$3)&\"*\")-COUNTIF(Dienstplan!B35:BH35,\"*_\"&($AC$3)&\"*\")","v":0},{"$f":"COUNTIF(Dienstplan!B35:BH35,\"*\"&($AD$3)&\"*\")-COUNTIF(Dienstplan!B35:BH35,\"*_\"&($AD$3)&\"*\")","v":0},{"$f":"COUNTIF(Dienstplan!B35:BH35,\"*\"&($AE$3)&\"*\")-COUNTIF(Dienstplan!B35:BH35,\"*_\"&($AE$3)&\"*\")","v":0},{"$f":"COUNTIF(Dienstplan!B35:BH35,\"*\"&($AF$3)&\"*\")-COUNTIF(Dienstplan!B35:BH35,\"*_\"&($AF$3)&\"*\")","v":0},{"$f":"COUNTIF(Dienstplan!B35:BH35,\"*\"&($AG$3)&\"*\")-COUNTIF(Dienstplan!B35:BH35,\"*_\"&($AG$3)&\"*\")","v":0},{"$f":"COUNTIF(Dienstplan!B35:BH35,\"*\"&($AH$3)&\"*\")-COUNTIF(Dienstplan!B35:BH35,\"*_\"&($AH$3)&\"*\")","v":0},{"$f":"COUNTIF(Dienstplan!B35:BH35,\"*\"&($AI$3)&\"*\")-COUNTIF(Dienstplan!B35:BH35,\"*_\"&($AI$3)&\"*\")","v":0},{"$f":"COUNTIF(Dienstplan!$B35:$BH35,\"*\"&($AJ$3)&\"*\")-COUNTIF(Dienstplan!$B35:$BH35,\"*_\"&($AJ$3)&\"*\")","v":0}]
[{"$f":"COUNTIF(Dienstplan!B36:BH36,\"*\"&($A$3)&\"*\")-COUNTIF(Dienstplan!B36:BH36,\"*_\"&($A$3)&\"*\")","v":0},{"$f":"COUNTIF(Dienstplan!B36:BH36,\"*\"&($B$3)&\"*\")-COUNTIF(Dienstplan!B36:BH36,\"*_\"&($B$3)&\"*\")","v":0},{"$f":"COUNTIF(Dienstplan!B36:BH36,\"*\"&($C$3)&\"*\")-COUNTIF(Dienstplan!B36:BH36,\"*_\"&($C$3)&\"*\")","v":0},{"$f":"COUNTIF(Dienstplan!B36:BH36,\"*\"&($D$3)&\"*\")-COUNTIF(Dienstplan!B36:BH36,\"*_\"&($D$3)&\"*\")","v":0},{"$f":"COUNTIF(Dienstplan!B36:BH36,\"*\"&($E$3)&\"*\")-COUNTIF(Dienstplan!B36:BH36,\"*_\"&($E$3)&\"*\")","v":0},{"$f":"COUNTIF(Dienstplan!B36:BH36,\"*\"&($F$3)&\"*\")-COUNTIF(Dienstplan!B36:BH36,\"*_\"&($F$3)&\"*\")","v":1},{"$f":"COUNTIF(Dienstplan!B36:BH36,\"*\"&($G$3)&\"*\")-COUNTIF(Dienstplan!B36:BH36,\"*_\"&($G$3)&\"*\")","v":1},{"$f":"COUNTIF(Dienstplan!B36:BH36,\"*\"&($H$3)&\"*\")-COUNTIF(Dienstplan!B36:BH36,\"*_\"&($H$3)&\"*\")","v":1},{"$f":"COUNTIF(Dienstplan!B36:BH36,\"*\"&($I$3)&\"*\")-COUNTIF(Dienstplan!B36:BH36,\"*_\"&($I$3)&\"*\")","v":1},{"$f":"COUNTIF(Dienstplan!B36:BH36,\"*\"&($J$3)&\"*\")-COUNTIF(Dienstplan!B36:BH36,\"*_\"&($J$3)&\"*\")","v":0},{"$f":"COUNTIF(Dienstplan!B36:BH36,\"*\"&($K$3)&\"*\")-COUNTIF(Dienstplan!B36:BH36,\"*_\"&($K$3)&\"*\")","v":1},{"$f":"COUNTIF(Dienstplan!B36:BH36,\"*\"&($L$3)&\"*\")-COUNTIF(Dienstplan!B36:BH36,\"*_\"&($L$3)&\"*\")","v":1},{"$f":"COUNTIF(Dienstplan!B36:BH36,\"*\"&($M$3)&\"*\")-COUNTIF(Dienstplan!B36:BH36,\"*_\"&($M$3)&\"*\")","v":1},{"$f":"COUNTIF(Dienstplan!B36:BH36,\"*\"&($N$3)&\"*\")-COUNTIF(Dienstplan!B36:BH36,\"*_\"&($N$3)&\"*\")","v":1},{"$f":"COUNTIF(Dienstplan!B36:BH36,\"*\"&($O$3)&\"*\")-COUNTIF(Dienstplan!B36:BH36,\"*_\"&($O$3)&\"*\")","v":1},{"$f":"COUNTIF(Dienstplan!B36:BH36,\"*\"&($P$3)&\"*\")-COUNTIF(Dienstplan!B36:BH36,\"*_\"&($P$3)&\"*\")","v":1},{"$f":"COUNTIF(Dienstplan!B36:BH36,\"*\"&($Q$3)&\"*\")-COUNTIF(Dienstplan!B36:BH36,\"*_\"&($Q$3)&\"*\")","v":0},{"$f":"COUNTIF(Dienstplan!B36:BH36,\"*\"&($R$3)&\"*\")-COUNTIF(Dienstplan!B36:BH36,\"*_\"&($R$3)&\"*\")","v":1},{"$f":"COUNTIF(Dienstplan!B36:BH36,\"*\"&($S$3)&\"*\")-COUNTIF(Dienstplan!B36:BH36,\"*_\"&($S$3)&\"*\")","v":0},{"$f":"COUNTIF(Dienstplan!B36:BH36,\"*\"&($T$3)&\"*\")-COUNTIF(Dienstplan!B36:BH36,\"*_\"&($T$3)&\"*\")","v":1},{"$f":"COUNTIF(Dienstplan!B36:BH36,\"*\"&($U$3)&\"*\")-COUNTIF(Dienstplan!B36:BH36,\"*_\"&($U$3)&\"*\")","v":1},{"$f":"COUNTIF(Dienstplan!B36:BH36,\"*\"&($V$3)&\"*\")-COUNTIF(Dienstplan!B36:BH36,\"*_\"&($V$3)&\"*\")","v":1},{"$f":"COUNTIF(Dienstplan!B36:BH36,\"*\"&($W$3)&\"*\")-COUNTIF(Dienstplan!B36:BH36,\"*_\"&($W$3)&\"*\")","v":0},{"$f":"COUNTIF(Dienstplan!B36:BH36,\"*\"&($X$3)&\"*\")-COUNTIF(Dienstplan!B36:BH36,\"*_\"&($X$3)&\"*\")","v":0},{"$f":"COUNTIF(Dienstplan!B36:BH36,\"*\"&($Y$3)&\"*\")-COUNTIF(Dienstplan!B36:BH36,\"*_\"&($Y$3)&\"*\")","v":0},{"$f":"COUNTIF(Dienstplan!B36:BH36,\"*\"&($Z$3)&\"*\")-COUNTIF(Dienstplan!B36:BH36,\"*_\"&($Z$3)&\"*\")","v":0},{"$f":"COUNTIF(Dienstplan!B36:BH36,\"*\"&($AA$3)&\"*\")-COUNTIF(Dienstplan!B36:BH36,\"*_\"&($AA$3)&\"*\")","v":0},{"$f":"COUNTIF(Dienstplan!B36:BH36,\"*\"&($AB$3)&\"*\")-COUNTIF(Dienstplan!B36:BH36,\"*_\"&($AB$3)&\"*\")","v":0},{"$f":"COUNTIF(Dienstplan!B36:BH36,\"*\"&($AC$3)&\"*\")-COUNTIF(Dienstplan!B36:BH36,\"*_\"&($AC$3)&\"*\")","v":0},{"$f":"COUNTIF(Dienstplan!B36:BH36,\"*\"&($AD$3)&\"*\")-COUNTIF(Dienstplan!B36:BH36,\"*_\"&($AD$3)&\"*\")","v":0},{"$f":"COUNTIF(Dienstplan!B36:BH36,\"*\"&($AE$3)&\"*\")-COUNTIF(Dienstplan!B36:BH36,\"*_\"&($AE$3)&\"*\")","v":0},{"$f":"COUNTIF(Dienstplan!B36:BH36,\"*\"&($AF$3)&\"*\")-COUNTIF(Dienstplan!B36:BH36,\"*_\"&($AF$3)&\"*\")","v":0},{"$f":"COUNTIF(Dienstplan!B36:BH36,\"*\"&($AG$3)&\"*\")-COUNTIF(Dienstplan!B36:BH36,\"*_\"&($AG$3)&\"*\")","v":0},{"$f":"COUNTIF(Dienstplan!B36:BH36,\"*\"&($AH$3)&\"*\")-COUNTIF(Dienstplan!B36:BH36,\"*_\"&($AH$3)&\"*\")","v":0},{"$f":"COUNTIF(Dienstplan!B36:BH36,\"*\"&($AI$3)&\"*\")-COUNTIF(Dienstplan!B36:BH36,\"*_\"&($AI$3)&\"*\")","v":0},{"$f":"COUNTIF(Dienstplan!$B36:$BH36,\"*\"&($AJ$3)&\"*\")-COUNTIF(Dienstplan!$B36:$BH36,\"*_\"&($AJ$3)&\"*\")","v":0}]
[{"$f":"COUNTIF(Dienstplan!B37:BH37,\"*\"&($A$3)&\"*\")-COUNTIF(Dienstplan!B37:BH37,\"*_\"&($A$3)&\"*\")","v":0},{"$f":"COUNTIF(Dienstplan!B37:BH37,\"*\"&($B$3)&\"*\")-COUNTIF(Dienstplan!B37:BH37,\"*_\"&($B$3)&\"*\")","v":0},{"$f":"COUNTIF(Dienstplan!B37:BH37,\"*\"&($C$3)&\"*\")-COUNTIF(Dienstplan!B37:BH37,\"*_\"&($C$3)&\"*\")","v":0},{"$f":"COUNTIF(Dienstplan!B37:BH37,\"*\"&($D$3)&\"*\")-COUNTIF(Dienstplan!B37:BH37,\"*_\"&($D$3)&\"*\")","v":0},{"$f":"COUNTIF(Dienstplan!B37:BH37,\"*\"&($E$3)&\"*\")-COUNTIF(Dienstplan!B37:BH37,\"*_\"&($E$3)&\"*\")","v":0},{"$f":"COUNTIF(Dienstplan!B37:BH37,\"*\"&($F$3)&\"*\")-COUNTIF(Dienstplan!B37:BH37,\"*_\"&($F$3)&\"*\")","v":1},{"$f":"COUNTIF(Dienstplan!B37:BH37,\"*\"&($G$3)&\"*\")-COUNTIF(Dienstplan!B37:BH37,\"*_\"&($G$3)&\"*\")","v":1},{"$f":"COUNTIF(Dienstplan!B37:BH37,\"*\"&($H$3)&\"*\")-COUNTIF(Dienstplan!B37:BH37,\"*_\"&($H$3)&\"*\")","v":1},{"$f":"COUNTIF(Dienstplan!B37:BH37,\"*\"&($I$3)&\"*\")-COUNTIF(Dienstplan!B37:BH37,\"*_\"&($I$3)&\"*\")","v":1},{"$f":"COUNTIF(Dienstplan!B37:BH37,\"*\"&($J$3)&\"*\")-COUNTIF(Dienstplan!B37:BH37,\"*_\"&($J$3)&\"*\")","v":1},{"$f":"COUNTIF(Dienstplan!B37:BH37,\"*\"&($K$3)&\"*\")-COUNTIF(Dienstplan!B37:BH37,\"*_\"&($K$3)&\"*\")","v":1},{"$f":"COUNTIF(Dienstplan!B37:BH37,\"*\"&($L$3)&\"*\")-COUNTIF(Dienstplan!B37:BH37,\"*_\"&($L$3)&\"*\")","v":1},{"$f":"COUNTIF(Dienstplan!B37:BH37,\"*\"&($M$3)&\"*\")-COUNTIF(Dienstplan!B37:BH37,\"*_\"&($M$3)&\"*\")","v":1},{"$f":"COUNTIF(Dienstplan!B37:BH37,\"*\"&($N$3)&\"*\")-COUNTIF(Dienstplan!B37:BH37,\"*_\"&($N$3)&\"*\")","v":0},{"$f":"COUNTIF(Dienstplan!B37:BH37,\"*\"&($O$3)&\"*\")-COUNTIF(Dienstplan!B37:BH37,\"*_\"&($O$3)&\"*\")","v":1},{"$f":"COUNTIF(Dienstplan!B37:BH37,\"*\"&($P$3)&\"*\")-COUNTIF(Dienstplan!B37:BH37,\"*_\"&($P$3)&\"*\")","v":1},{"$f":"COUNTIF(Dienstplan!B37:BH37,\"*\"&($Q$3)&\"*\")-COUNTIF(Dienstplan!B37:BH37,\"*_\"&($Q$3)&\"*\")","v":0},{"$f":"COUNTIF(Dienstplan!B37:BH37,\"*\"&($R$3)&\"*\")-COUNTIF(Dienstplan!B37:BH37,\"*_\"&($R$3)&\"*\")","v":1},{"$f":"COUNTIF(Dienstplan!B37:BH37,\"*\"&($S$3)&\"*\")-COUNTIF(Dienstplan!B37:BH37,\"*_\"&($S$3)&\"*\")","v":1},{"$f":"COUNTIF(Dienstplan!B37:BH37,\"*\"&($T$3)&\"*\")-COUNTIF(Dienstplan!B37:BH37,\"*_\"&($T$3)&\"*\")","v":1},{"$f":"COUNTIF(Dienstplan!B37:BH37,\"*\"&($U$3)&\"*\")-COUNTIF(Dienstplan!B37:BH37,\"*_\"&($U$3)&\"*\")","v":1},{"$f":"COUNTIF(Dienstplan!B37:BH37,\"*\"&($V$3)&\"*\")-COUNTIF(Dienstplan!B37:BH37,\"*_\"&($V$3)&\"*\")","v":1},{"$f":"COUNTIF(Dienstplan!B37:BH37,\"*\"&($W$3)&\"*\")-COUNTIF(Dienstplan!B37:BH37,\"*_\"&($W$3)&\"*\")","v":0},{"$f":"COUNTIF(Dienstplan!B37:BH37,\"*\"&($X$3)&\"*\")-COUNTIF(Dienstplan!B37:BH37,\"*_\"&($X$3)&\"*\")","v":0},{"$f":"COUNTIF(Dienstplan!B37:BH37,\"*\"&($Y$3)&\"*\")-COUNTIF(Dienstplan!B37:BH37,\"*_\"&($Y$3)&\"*\")","v":0},{"$f":"COUNTIF(Dienstplan!B37:BH37,\"*\"&($Z$3)&\"*\")-COUNTIF(Dienstplan!B37:BH37,\"*_\"&($Z$3)&\"*\")","v":0},{"$f":"COUNTIF(Dienstplan!B37:BH37,\"*\"&($AA$3)&\"*\")-COUNTIF(Dienstplan!B37:BH37,\"*_\"&($AA$3)&\"*\")","v":0},{"$f":"COUNTIF(Dienstplan!B37:BH37,\"*\"&($AB$3)&\"*\")-COUNTIF(Dienstplan!B37:BH37,\"*_\"&($AB$3)&\"*\")","v":0},{"$f":"COUNTIF(Dienstplan!B37:BH37,\"*\"&($AC$3)&\"*\")-COUNTIF(Dienstplan!B37:BH37,\"*_\"&($AC$3)&\"*\")","v":0},{"$f":"COUNTIF(Dienstplan!B37:BH37,\"*\"&($AD$3)&\"*\")-COUNTIF(Dienstplan!B37:BH37,\"*_\"&($AD$3)&\"*\")","v":0},{"$f":"COUNTIF(Dienstplan!B37:BH37,\"*\"&($AE$3)&\"*\")-COUNTIF(Dienstplan!B37:BH37,\"*_\"&($AE$3)&\"*\")","v":0},{"$f":"COUNTIF(Dienstplan!B37:BH37,\"*\"&($AF$3)&\"*\")-COUNTIF(Dienstplan!B37:BH37,\"*_\"&($AF$3)&\"*\")","v":0},{"$f":"COUNTIF(Dienstplan!B37:BH37,\"*\"&($AG$3)&\"*\")-COUNTIF(Dienstplan!B37:BH37,\"*_\"&($AG$3)&\"*\")","v":0},{"$f":"COUNTIF(Dienstplan!B37:BH37,\"*\"&($AH$3)&\"*\")-COUNTIF(Dienstplan!B37:BH37,\"*_\"&($AH$3)&\"*\")","v":0},{"$f":"COUNTIF(Dienstplan!B37:BH37,\"*\"&($AI$3)&\"*\")-COUNTIF(Dienstplan!B37:BH37,\"*_\"&($AI$3)&\"*\")","v":0},{"$f":"COUNTIF(Dienstplan!$B37:$BH37,\"*\"&($AJ$3)&\"*\")-COUNTIF(Dienstplan!$B37:$BH37,\"*_\"&($AJ$3)&\"*\")","v":0}]
[{"$f":"COUNTIF(Dienstplan!B38:BH38,\"*\"&($A$3)&\"*\")-COUNTIF(Dienstplan!B38:BH38,\"*_\"&($A$3)&\"*\")","v":0},{"$f":"COUNTIF(Dienstplan!B38:BH38,\"*\"&($B$3)&\"*\")-COUNTIF(Dienstplan!B38:BH38,\"*_\"&($B$3)&\"*\")","v":0},{"$f":"COUNTIF(Dienstplan!B38:BH38,\"*\"&($C$3)&\"*\")-COUNTIF(Dienstplan!B38:BH38,\"*_\"&($C$3)&\"*\")","v":0},{"$f":"COUNTIF(Dienstplan!B38:BH38,\"*\"&($D$3)&\"*\")-COUNTIF(Dienstplan!B38:BH38,\"*_\"&($D$3)&\"*\")","v":0},{"$f":"COUNTIF(Dienstplan!B38:BH38,\"*\"&($E$3)&\"*\")-COUNTIF(Dienstplan!B38:BH38,\"*_\"&($E$3)&\"*\")","v":0},{"$f":"COUNTIF(Dienstplan!B38:BH38,\"*\"&($F$3)&\"*\")-COUNTIF(Dienstplan!B38:BH38,\"*_\"&($F$3)&\"*\")","v":0},{"$f":"COUNTIF(Dienstplan!B38:BH38,\"*\"&($G$3)&\"*\")-COUNTIF(Dienstplan!B38:BH38,\"*_\"&($G$3)&\"*\")","v":1},{"$f":"COUNTIF(Dienstplan!B38:BH38,\"*\"&($H$3)&\"*\")-COUNTIF(Dienstplan!B38:BH38,\"*_\"&($H$3)&\"*\")","v":1},{"$f":"COUNTIF(Dienstplan!B38:BH38,\"*\"&($I$3)&\"*\")-COUNTIF(Dienstplan!B38:BH38,\"*_\"&($I$3)&\"*\")","v":1},{"$f":"COUNTIF(Dienstplan!B38:BH38,\"*\"&($J$3)&\"*\")-COUNTIF(Dienstplan!B38:BH38,\"*_\"&($J$3)&\"*\")","v":1},{"$f":"COUNTIF(Dienstplan!B38:BH38,\"*\"&($K$3)&\"*\")-COUNTIF(Dienstplan!B38:BH38,\"*_\"&($K$3)&\"*\")","v":1},{"$f":"COUNTIF(Dienstplan!B38:BH38,\"*\"&($L$3)&\"*\")-COUNTIF(Dienstplan!B38:BH38,\"*_\"&($L$3)&\"*\")","v":1},{"$f":"COUNTIF(Dienstplan!B38:BH38,\"*\"&($M$3)&\"*\")-COUNTIF(Dienstplan!B38:BH38,\"*_\"&($M$3)&\"*\")","v":1},{"$f":"COUNTIF(Dienstplan!B38:BH38,\"*\"&($N$3)&\"*\")-COUNTIF(Dienstplan!B38:BH38,\"*_\"&($N$3)&\"*\")","v":0},{"$f":"COUNTIF(Dienstplan!B38:BH38,\"*\"&($O$3)&\"*\")-COUNTIF(Dienstplan!B38:BH38,\"*_\"&($O$3)&\"*\")","v":1},{"$f":"COUNTIF(Dienstplan!B38:BH38,\"*\"&($P$3)&\"*\")-COUNTIF(Dienstplan!B38:BH38,\"*_\"&($P$3)&\"*\")","v":1},{"$f":"COUNTIF(Dienstplan!B38:BH38,\"*\"&($Q$3)&\"*\")-COUNTIF(Dienstplan!B38:BH38,\"*_\"&($Q$3)&\"*\")","v":0},{"$f":"COUNTIF(Dienstplan!B38:BH38,\"*\"&($R$3)&\"*\")-COUNTIF(Dienstplan!B38:BH38,\"*_\"&($R$3)&\"*\")","v":1},{"$f":"COUNTIF(Dienstplan!B38:BH38,\"*\"&($S$3)&\"*\")-COUNTIF(Dienstplan!B38:BH38,\"*_\"&($S$3)&\"*\")","v":1},{"$f":"COUNTIF(Dienstplan!B38:BH38,\"*\"&($T$3)&\"*\")-COUNTIF(Dienstplan!B38:BH38,\"*_\"&($T$3)&\"*\")","v":1},{"$f":"COUNTIF(Dienstplan!B38:BH38,\"*\"&($U$3)&\"*\")-COUNTIF(Dienstplan!B38:BH38,\"*_\"&($U$3)&\"*\")","v":1},{"$f":"COUNTIF(Dienstplan!B38:BH38,\"*\"&($V$3)&\"*\")-COUNTIF(Dienstplan!B38:BH38,\"*_\"&($V$3)&\"*\")","v":1},{"$f":"COUNTIF(Dienstplan!B38:BH38,\"*\"&($W$3)&\"*\")-COUNTIF(Dienstplan!B38:BH38,\"*_\"&($W$3)&\"*\")","v":0},{"$f":"COUNTIF(Dienstplan!B38:BH38,\"*\"&($X$3)&\"*\")-COUNTIF(Dienstplan!B38:BH38,\"*_\"&($X$3)&\"*\")","v":0},{"$f":"COUNTIF(Dienstplan!B38:BH38,\"*\"&($Y$3)&\"*\")-COUNTIF(Dienstplan!B38:BH38,\"*_\"&($Y$3)&\"*\")","v":0},{"$f":"COUNTIF(Dienstplan!B38:BH38,\"*\"&($Z$3)&\"*\")-COUNTIF(Dienstplan!B38:BH38,\"*_\"&($Z$3)&\"*\")","v":0},{"$f":"COUNTIF(Dienstplan!B38:BH38,\"*\"&($AA$3)&\"*\")-COUNTIF(Dienstplan!B38:BH38,\"*_\"&($AA$3)&\"*\")","v":0},{"$f":"COUNTIF(Dienstplan!B38:BH38,\"*\"&($AB$3)&\"*\")-COUNTIF(Dienstplan!B38:BH38,\"*_\"&($AB$3)&\"*\")","v":0},{"$f":"COUNTIF(Dienstplan!B38:BH38,\"*\"&($AC$3)&\"*\")-COUNTIF(Dienstplan!B38:BH38,\"*_\"&($AC$3)&\"*\")","v":0},{"$f":"COUNTIF(Dienstplan!B38:BH38,\"*\"&($AD$3)&\"*\")-COUNTIF(Dienstplan!B38:BH38,\"*_\"&($AD$3)&\"*\")","v":0},{"$f":"COUNTIF(Dienstplan!B38:BH38,\"*\"&($AE$3)&\"*\")-COUNTIF(Dienstplan!B38:BH38,\"*_\"&($AE$3)&\"*\")","v":0},{"$f":"COUNTIF(Dienstplan!B38:BH38,\"*\"&($AF$3)&\"*\")-COUNTIF(Dienstplan!B38:BH38,\"*_\"&($AF$3)&\"*\")","v":0},{"$f":"COUNTIF(Dienstplan!B38:BH38,\"*\"&($AG$3)&\"*\")-COUNTIF(Dienstplan!B38:BH38,\"*_\"&($AG$3)&\"*\")","v":0},{"$f":"COUNTIF(Dienstplan!B38:BH38,\"*\"&($AH$3)&\"*\")-COUNTIF(Dienstplan!B38:BH38,\"*_\"&($AH$3)&\"*\")","v":0},{"$f":"COUNTIF(Dienstplan!B38:BH38,\"*\"&($AI$3)&\"*\")-COUNTIF(Dienstplan!B38:BH38,\"*_\"&($AI$3)&\"*\")","v":0},{"$f":"COUNTIF(Dienstplan!$B38:$BH38,\"*\"&($AJ$3)&\"*\")-COUNTIF(Dienstplan!$B38:$BH38,\"*_\"&($AJ$3)&\"*\")","v":0}]
[{"$f":"COUNTIF(Dienstplan!B39:BH39,\"*\"&($A$3)&\"*\")-COUNTIF(Dienstplan!B39:BH39,\"*_\"&($A$3)&\"*\")","v":0},{"$f":"COUNTIF(Dienstplan!B39:BH39,\"*\"&($B$3)&\"*\")-COUNTIF(Dienstplan!B39:BH39,\"*_\"&($B$3)&\"*\")","v":0},{"$f":"COUNTIF(Dienstplan!B39:BH39,\"*\"&($C$3)&\"*\")-COUNTIF(Dienstplan!B39:BH39,\"*_\"&($C$3)&\"*\")","v":0},{"$f":"COUNTIF(Dienstplan!B39:BH39,\"*\"&($D$3)&\"*\")-COUNTIF(Dienstplan!B39:BH39,\"*_\"&($D$3)&\"*\")","v":0},{"$f":"COUNTIF(Dienstplan!B39:BH39,\"*\"&($E$3)&\"*\")-COUNTIF(Dienstplan!B39:BH39,\"*_\"&($E$3)&\"*\")","v":0},{"$f":"COUNTIF(Dienstplan!B39:BH39,\"*\"&($F$3)&\"*\")-COUNTIF(Dienstplan!B39:BH39,\"*_\"&($F$3)&\"*\")","v":0},{"$f":"COUNTIF(Dienstplan!B39:BH39,\"*\"&($G$3)&\"*\")-COUNTIF(Dienstplan!B39:BH39,\"*_\"&($G$3)&\"*\")","v":0},{"$f":"COUNTIF(Dienstplan!B39:BH39,\"*\"&($H$3)&\"*\")-COUNTIF(Dienstplan!B39:BH39,\"*_\"&($H$3)&\"*\")","v":1},{"$f":"COUNTIF(Dienstplan!B39:BH39,\"*\"&($I$3)&\"*\")-COUNTIF(Dienstplan!B39:BH39,\"*_\"&($I$3)&\"*\")","v":1},{"$f":"COUNTIF(Dienstplan!B39:BH39,\"*\"&($J$3)&\"*\")-COUNTIF(Dienstplan!B39:BH39,\"*_\"&($J$3)&\"*\")","v":1},{"$f":"COUNTIF(Dienstplan!B39:BH39,\"*\"&($K$3)&\"*\")-COUNTIF(Dienstplan!B39:BH39,\"*_\"&($K$3)&\"*\")","v":0},{"$f":"COUNTIF(Dienstplan!B39:BH39,\"*\"&($L$3)&\"*\")-COUNTIF(Dienstplan!B39:BH39,\"*_\"&($L$3)&\"*\")","v":0},{"$f":"COUNTIF(Dienstplan!B39:BH39,\"*\"&($M$3)&\"*\")-COUNTIF(Dienstplan!B39:BH39,\"*_\"&($M$3)&\"*\")","v":1},{"$f":"COUNTIF(Dienstplan!B39:BH39,\"*\"&($N$3)&\"*\")-COUNTIF(Dienstplan!B39:BH39,\"*_\"&($N$3)&\"*\")","v":0},{"$f":"COUNTIF(Dienstplan!B39:BH39,\"*\"&($O$3)&\"*\")-COUNTIF(Dienstplan!B39:BH39,\"*_\"&($O$3)&\"*\")","v":0},{"$f":"COUNTIF(Dienstplan!B39:BH39,\"*\"&($P$3)&\"*\")-COUNTIF(Dienstplan!B39:BH39,\"*_\"&($P$3)&\"*\")","v":0},{"$f":"COUNTIF(Dienstplan!B39:BH39,\"*\"&($Q$3)&\"*\")-COUNTIF(Dienstplan!B39:BH39,\"*_\"&($Q$3)&\"*\")","v":0},{"$f":"COUNTIF(Dienstplan!B39:BH39,\"*\"&($R$3)&\"*\")-COUNTIF(Dienstplan!B39:BH39,\"*_\"&($R$3)&\"*\")","v":2},{"$f":"COUNTIF(Dienstplan!B39:BH39,\"*\"&($S$3)&\"*\")-COUNTIF(Dienstplan!B39:BH39,\"*_\"&($S$3)&\"*\")","v":0},{"$f":"COUNTIF(Dienstplan!B39:BH39,\"*\"&($T$3)&\"*\")-COUNTIF(Dienstplan!B39:BH39,\"*_\"&($T$3)&\"*\")","v":1},{"$f":"COUNTIF(Dienstplan!B39:BH39,\"*\"&($U$3)&\"*\")-COUNTIF(Dienstplan!B39:BH39,\"*_\"&($U$3)&\"*\")","v":1},{"$f":"COUNTIF(Dienstplan!B39:BH39,\"*\"&($V$3)&\"*\")-COUNTIF(Dienstplan!B39:BH39,\"*_\"&($V$3)&\"*\")","v":0},{"$f":"COUNTIF(Dienstplan!B39:BH39,\"*\"&($W$3)&\"*\")-COUNTIF(Dienstplan!B39:BH39,\"*_\"&($W$3)&\"*\")","v":0},{"$f":"COUNTIF(Dienstplan!B39:BH39,\"*\"&($X$3)&\"*\")-COUNTIF(Dienstplan!B39:BH39,\"*_\"&($X$3)&\"*\")","v":0},{"$f":"COUNTIF(Dienstplan!B39:BH39,\"*\"&($Y$3)&\"*\")-COUNTIF(Dienstplan!B39:BH39,\"*_\"&($Y$3)&\"*\")","v":0},{"$f":"COUNTIF(Dienstplan!B39:BH39,\"*\"&($Z$3)&\"*\")-COUNTIF(Dienstplan!B39:BH39,\"*_\"&($Z$3)&\"*\")","v":0},{"$f":"COUNTIF(Dienstplan!B39:BH39,\"*\"&($AA$3)&\"*\")-COUNTIF(Dienstplan!B39:BH39,\"*_\"&($AA$3)&\"*\")","v":0},{"$f":"COUNTIF(Dienstplan!B39:BH39,\"*\"&($AB$3)&\"*\")-COUNTIF(Dienstplan!B39:BH39,\"*_\"&($AB$3)&\"*\")","v":0},{"$f":"COUNTIF(Dienstplan!B39:BH39,\"*\"&($AC$3)&\"*\")-COUNTIF(Dienstplan!B39:BH39,\"*_\"&($AC$3)&\"*\")","v":0},{"$f":"COUNTIF(Dienstplan!B39:BH39,\"*\"&($AD$3)&\"*\")-COUNTIF(Dienstplan!B39:BH39,\"*_\"&($AD$3)&\"*\")","v":0},{"$f":"COUNTIF(Dienstplan!B39:BH39,\"*\"&($AE$3)&\"*\")-COUNTIF(Dienstplan!B39:BH39,\"*_\"&($AE$3)&\"*\")","v":0},{"$f":"COUNTIF(Dienstplan!B39:BH39,\"*\"&($AF$3)&\"*\")-COUNTIF(Dienstplan!B39:BH39,\"*_\"&($AF$3)&\"*\")","v":0},{"$f":"COUNTIF(Dienstplan!B39:BH39,\"*\"&($AG$3)&\"*\")-COUNTIF(Dienstplan!B39:BH39,\"*_\"&($AG$3)&\"*\")","v":0},{"$f":"COUNTIF(Dienstplan!B39:BH39,\"*\"&($AH$3)&\"*\")-COUNTIF(Dienstplan!B39:BH39,\"*_\"&($AH$3)&\"*\")","v":0},{"$f":"COUNTIF(Dienstplan!B39:BH39,\"*\"&($AI$3)&\"*\")-COUNTIF(Dienstplan!B39:BH39,\"*_\"&($AI$3)&\"*\")","v":0},{"$f":"COUNTIF(Dienstplan!$B39:$BH39,\"*\"&($AJ$3)&\"*\")-COUNTIF(Dienstplan!$B39:$BH39,\"*_\"&($AJ$3)&\"*\")","v":0}]
[{"$f":"COUNTIF(Dienstplan!B40:BH40,\"*\"&($A$3)&\"*\")-COUNTIF(Dienstplan!B40:BH40,\"*_\"&($A$3)&\"*\")","v":0},{"$f":"COUNTIF(Dienstplan!B40:BH40,\"*\"&($B$3)&\"*\")-COUNTIF(Dienstplan!B40:BH40,\"*_\"&($B$3)&\"*\")","v":0},{"$f":"COUNTIF(Dienstplan!B40:BH40,\"*\"&($C$3)&\"*\")-COUNTIF(Dienstplan!B40:BH40,\"*_\"&($C$3)&\"*\")","v":0},{"$f":"COUNTIF(Dienstplan!B40:BH40,\"*\"&($D$3)&\"*\")-COUNTIF(Dienstplan!B40:BH40,\"*_\"&($D$3)&\"*\")","v":0},{"$f":"COUNTIF(Dienstplan!B40:BH40,\"*\"&($E$3)&\"*\")-COUNTIF(Dienstplan!B40:BH40,\"*_\"&($E$3)&\"*\")","v":0},{"$f":"COUNTIF(Dienstplan!B40:BH40,\"*\"&($F$3)&\"*\")-COUNTIF(Dienstplan!B40:BH40,\"*_\"&($F$3)&\"*\")","v":0},{"$f":"COUNTIF(Dienstplan!B40:BH40,\"*\"&($G$3)&\"*\")-COUNTIF(Dienstplan!B40:BH40,\"*_\"&($G$3)&\"*\")","v":0},{"$f":"COUNTIF(Dienstplan!B40:BH40,\"*\"&($H$3)&\"*\")-COUNTIF(Dienstplan!B40:BH40,\"*_\"&($H$3)&\"*\")","v":0},{"$f":"COUNTIF(Dienstplan!B40:BH40,\"*\"&($I$3)&\"*\")-COUNTIF(Dienstplan!B40:BH40,\"*_\"&($I$3)&\"*\")","v":0},{"$f":"COUNTIF(Dienstplan!B40:BH40,\"*\"&($J$3)&\"*\")-COUNTIF(Dienstplan!B40:BH40,\"*_\"&($J$3)&\"*\")","v":0},{"$f":"COUNTIF(Dienstplan!B40:BH40,\"*\"&($K$3)&\"*\")-COUNTIF(Dienstplan!B40:BH40,\"*_\"&($K$3)&\"*\")","v":0},{"$f":"COUNTIF(Dienstplan!B40:BH40,\"*\"&($L$3)&\"*\")-COUNTIF(Dienstplan!B40:BH40,\"*_\"&($L$3)&\"*\")","v":0},{"$f":"COUNTIF(Dienstplan!B40:BH40,\"*\"&($M$3)&\"*\")-COUNTIF(Dienstplan!B40:BH40,\"*_\"&($M$3)&\"*\")","v":0},{"$f":"COUNTIF(Dienstplan!B40:BH40,\"*\"&($N$3)&\"*\")-COUNTIF(Dienstplan!B40:BH40,\"*_\"&($N$3)&\"*\")","v":0},{"$f":"COUNTIF(Dienstplan!B40:BH40,\"*\"&($O$3)&\"*\")-COUNTIF(Dienstplan!B40:BH40,\"*_\"&($O$3)&\"*\")","v":0},{"$f":"COUNTIF(Dienstplan!B40:BH40,\"*\"&($P$3)&\"*\")-COUNTIF(Dienstplan!B40:BH40,\"*_\"&($P$3)&\"*\")","v":0},{"$f":"COUNTIF(Dienstplan!B40:BH40,\"*\"&($Q$3)&\"*\")-COUNTIF(Dienstplan!B40:BH40,\"*_\"&($Q$3)&\"*\")","v":0},{"$f":"COUNTIF(Dienstplan!B40:BH40,\"*\"&($R$3)&\"*\")-COUNTIF(Dienstplan!B40:BH40,\"*_\"&($R$3)&\"*\")","v":0},{"$f":"COUNTIF(Dienstplan!B40:BH40,\"*\"&($S$3)&\"*\")-COUNTIF(Dienstplan!B40:BH40,\"*_\"&($S$3)&\"*\")","v":0},{"$f":"COUNTIF(Dienstplan!B40:BH40,\"*\"&($T$3)&\"*\")-COUNTIF(Dienstplan!B40:BH40,\"*_\"&($T$3)&\"*\")","v":0},{"$f":"COUNTIF(Dienstplan!B40:BH40,\"*\"&($U$3)&\"*\")-COUNTIF(Dienstplan!B40:BH40,\"*_\"&($U$3)&\"*\")","v":0},{"$f":"COUNTIF(Dienstplan!B40:BH40,\"*\"&($V$3)&\"*\")-COUNTIF(Dienstplan!B40:BH40,\"*_\"&($V$3)&\"*\")","v":0},{"$f":"COUNTIF(Dienstplan!B40:BH40,\"*\"&($W$3)&\"*\")-COUNTIF(Dienstplan!B40:BH40,\"*_\"&($W$3)&\"*\")","v":0},{"$f":"COUNTIF(Dienstplan!B40:BH40,\"*\"&($X$3)&\"*\")-COUNTIF(Dienstplan!B40:BH40,\"*_\"&($X$3)&\"*\")","v":0},{"$f":"COUNTIF(Dienstplan!B40:BH40,\"*\"&($Y$3)&\"*\")-COUNTIF(Dienstplan!B40:BH40,\"*_\"&($Y$3)&\"*\")","v":0},{"$f":"COUNTIF(Dienstplan!B40:BH40,\"*\"&($Z$3)&\"*\")-COUNTIF(Dienstplan!B40:BH40,\"*_\"&($Z$3)&\"*\")","v":0},{"$f":"COUNTIF(Dienstplan!B40:BH40,\"*\"&($AA$3)&\"*\")-COUNTIF(Dienstplan!B40:BH40,\"*_\"&($AA$3)&\"*\")","v":0},{"$f":"COUNTIF(Dienstplan!B40:BH40,\"*\"&($AB$3)&\"*\")-COUNTIF(Dienstplan!B40:BH40,\"*_\"&($AB$3)&\"*\")","v":0},{"$f":"COUNTIF(Dienstplan!B40:BH40,\"*\"&($AC$3)&\"*\")-COUNTIF(Dienstplan!B40:BH40,\"*_\"&($AC$3)&\"*\")","v":0},{"$f":"COUNTIF(Dienstplan!B40:BH40,\"*\"&($AD$3)&\"*\")-COUNTIF(Dienstplan!B40:BH40,\"*_\"&($AD$3)&\"*\")","v":0},{"$f":"COUNTIF(Dienstplan!B40:BH40,\"*\"&($AE$3)&\"*\")-COUNTIF(Dienstplan!B40:BH40,\"*_\"&($AE$3)&\"*\")","v":0},{"$f":"COUNTIF(Dienstplan!B40:BH40,\"*\"&($AF$3)&\"*\")-COUNTIF(Dienstplan!B40:BH40,\"*_\"&($AF$3)&\"*\")","v":0},{"$f":"COUNTIF(Dienstplan!B40:BH40,\"*\"&($AG$3)&\"*\")-COUNTIF(Dienstplan!B40:BH40,\"*_\"&($AG$3)&\"*\")","v":0},{"$f":"COUNTIF(Dienstplan!B40:BH40,\"*\"&($AH$3)&\"*\")-COUNTIF(Dienstplan!B40:BH40,\"*_\"&($AH$3)&\"*\")","v":0},{"$f":"COUNTIF(Dienstplan!B40:BH40,\"*\"&($AI$3)&\"*\")-COUNTIF(Dienstplan!B40:BH40,\"*_\"&($AI$3)&\"*\")","v":0},{"$f":"COUNTIF(Dienstplan!$B40:$BH40,\"*\"&($AJ$3)&\"*\")-COUNTIF(Dienstplan!$B40:$BH40,\"*_\"&($AJ$3)&\"*\")","v":0}]
[{"$f":"COUNTIF(Dienstplan!B41:BH41,\"*\"&($A$3)&\"*\")-COUNTIF(Dienstplan!B41:BH41,\"*_\"&($A$3)&\"*\")","v":0},{"$f":"COUNTIF(Dienstplan!B41:BH41,\"*\"&($B$3)&\"*\")-COUNTIF(Dienstplan!B41:BH41,\"*_\"&($B$3)&\"*\")","v":0},{"$f":"COUNTIF(Dienstplan!B41:BH41,\"*\"&($C$3)&\"*\")-COUNTIF(Dienstplan!B41:BH41,\"*_\"&($C$3)&\"*\")","v":0},{"$f":"COUNTIF(Dienstplan!B41:BH41,\"*\"&($D$3)&\"*\")-COUNTIF(Dienstplan!B41:BH41,\"*_\"&($D$3)&\"*\")","v":0},{"$f":"COUNTIF(Dienstplan!B41:BH41,\"*\"&($E$3)&\"*\")-COUNTIF(Dienstplan!B41:BH41,\"*_\"&($E$3)&\"*\")","v":0},{"$f":"COUNTIF(Dienstplan!B41:BH41,\"*\"&($F$3)&\"*\")-COUNTIF(Dienstplan!B41:BH41,\"*_\"&($F$3)&\"*\")","v":0},{"$f":"COUNTIF(Dienstplan!B41:BH41,\"*\"&($G$3)&\"*\")-COUNTIF(Dienstplan!B41:BH41,\"*_\"&($G$3)&\"*\")","v":0},{"$f":"COUNTIF(Dienstplan!B41:BH41,\"*\"&($H$3)&\"*\")-COUNTIF(Dienstplan!B41:BH41,\"*_\"&($H$3)&\"*\")","v":0},{"$f":"COUNTIF(Dienstplan!B41:BH41,\"*\"&($I$3)&\"*\")-COUNTIF(Dienstplan!B41:BH41,\"*_\"&($I$3)&\"*\")","v":0},{"$f":"COUNTIF(Dienstplan!B41:BH41,\"*\"&($J$3)&\"*\")-COUNTIF(Dienstplan!B41:BH41,\"*_\"&($J$3)&\"*\")","v":0},{"$f":"COUNTIF(Dienstplan!B41:BH41,\"*\"&($K$3)&\"*\")-COUNTIF(Dienstplan!B41:BH41,\"*_\"&($K$3)&\"*\")","v":0},{"$f":"COUNTIF(Dienstplan!B41:BH41,\"*\"&($L$3)&\"*\")-COUNTIF(Dienstplan!B41:BH41,\"*_\"&($L$3)&\"*\")","v":0},{"$f":"COUNTIF(Dienstplan!B41:BH41,\"*\"&($M$3)&\"*\")-COUNTIF(Dienstplan!B41:BH41,\"*_\"&($M$3)&\"*\")","v":0},{"$f":"COUNTIF(Dienstplan!B41:BH41,\"*\"&($N$3)&\"*\")-COUNTIF(Dienstplan!B41:BH41,\"*_\"&($N$3)&\"*\")","v":0},{"$f":"COUNTIF(Dienstplan!B41:BH41,\"*\"&($O$3)&\"*\")-COUNTIF(Dienstplan!B41:BH41,\"*_\"&($O$3)&\"*\")","v":0},{"$f":"COUNTIF(Dienstplan!B41:BH41,\"*\"&($P$3)&\"*\")-COUNTIF(Dienstplan!B41:BH41,\"*_\"&($P$3)&\"*\")","v":0},{"$f":"COUNTIF(Dienstplan!B41:BH41,\"*\"&($Q$3)&\"*\")-COUNTIF(Dienstplan!B41:BH41,\"*_\"&($Q$3)&\"*\")","v":0},{"$f":"COUNTIF(Dienstplan!B41:BH41,\"*\"&($R$3)&\"*\")-COUNTIF(Dienstplan!B41:BH41,\"*_\"&($R$3)&\"*\")","v":0},{"$f":"COUNTIF(Dienstplan!B41:BH41,\"*\"&($S$3)&\"*\")-COUNTIF(Dienstplan!B41:BH41,\"*_\"&($S$3)&\"*\")","v":0},{"$f":"COUNTIF(Dienstplan!B41:BH41,\"*\"&($T$3)&\"*\")-COUNTIF(Dienstplan!B41:BH41,\"*_\"&($T$3)&\"*\")","v":0},{"$f":"COUNTIF(Dienstplan!B41:BH41,\"*\"&($U$3)&\"*\")-COUNTIF(Dienstplan!B41:BH41,\"*_\"&($U$3)&\"*\")","v":0},{"$f":"COUNTIF(Dienstplan!B41:BH41,\"*\"&($V$3)&\"*\")-COUNTIF(Dienstplan!B41:BH41,\"*_\"&($V$3)&\"*\")","v":0},{"$f":"COUNTIF(Dienstplan!B41:BH41,\"*\"&($W$3)&\"*\")-COUNTIF(Dienstplan!B41:BH41,\"*_\"&($W$3)&\"*\")","v":0},{"$f":"COUNTIF(Dienstplan!B41:BH41,\"*\"&($X$3)&\"*\")-COUNTIF(Dienstplan!B41:BH41,\"*_\"&($X$3)&\"*\")","v":0},{"$f":"COUNTIF(Dienstplan!B41:BH41,\"*\"&($Y$3)&\"*\")-COUNTIF(Dienstplan!B41:BH41,\"*_\"&($Y$3)&\"*\")","v":0},{"$f":"COUNTIF(Dienstplan!B41:BH41,\"*\"&($Z$3)&\"*\")-COUNTIF(Dienstplan!B41:BH41,\"*_\"&($Z$3)&\"*\")","v":0},{"$f":"COUNTIF(Dienstplan!B41:BH41,\"*\"&($AA$3)&\"*\")-COUNTIF(Dienstplan!B41:BH41,\"*_\"&($AA$3)&\"*\")","v":0},{"$f":"COUNTIF(Dienstplan!B41:BH41,\"*\"&($AB$3)&\"*\")-COUNTIF(Dienstplan!B41:BH41,\"*_\"&($AB$3)&\"*\")","v":0},{"$f":"COUNTIF(Dienstplan!B41:BH41,\"*\"&($AC$3)&\"*\")-COUNTIF(Dienstplan!B41:BH41,\"*_\"&($AC$3)&\"*\")","v":0},{"$f":"COUNTIF(Dienstplan!B41:BH41,\"*\"&($AD$3)&\"*\")-COUNTIF(Dienstplan!B41:BH41,\"*_\"&($AD$3)&\"*\")","v":0},{"$f":"COUNTIF(Dienstplan!B41:BH41,\"*\"&($AE$3)&\"*\")-COUNTIF(Dienstplan!B41:BH41,\"*_\"&($AE$3)&\"*\")","v":0},{"$f":"COUNTIF(Dienstplan!B41:BH41,\"*\"&($AF$3)&\"*\")-COUNTIF(Dienstplan!B41:BH41,\"*_\"&($AF$3)&\"*\")","v":0},{"$f":"COUNTIF(Dienstplan!B41:BH41,\"*\"&($AG$3)&\"*\")-COUNTIF(Dienstplan!B41:BH41,\"*_\"&($AG$3)&\"*\")","v":0},{"$f":"COUNTIF(Dienstplan!B41:BH41,\"*\"&($AH$3)&\"*\")-COUNTIF(Dienstplan!B41:BH41,\"*_\"&($AH$3)&\"*\")","v":0},{"$f":"COUNTIF(Dienstplan!B41:BH41,\"*\"&($AI$3)&\"*\")-COUNTIF(Dienstplan!B41:BH41,\"*_\"&($AI$3)&\"*\")","v":0},{"$f":"COUNTIF(Dienstplan!$B41:$BH41,\"*\"&($AJ$3)&\"*\")-COUNTIF(Dienstplan!$B41:$BH41,\"*_\"&($AJ$3)&\"*\")","v":0}]
[{"$f":"COUNTIF(Dienstplan!B42:BH42,\"*\"&($A$3)&\"*\")-COUNTIF(Dienstplan!B42:BH42,\"*_\"&($A$3)&\"*\")","v":0},{"$f":"COUNTIF(Dienstplan!B42:BH42,\"*\"&($B$3)&\"*\")-COUNTIF(Dienstplan!B42:BH42,\"*_\"&($B$3)&\"*\")","v":0},{"$f":"COUNTIF(Dienstplan!B42:BH42,\"*\"&($C$3)&\"*\")-COUNTIF(Dienstplan!B42:BH42,\"*_\"&($C$3)&\"*\")","v":0},{"$f":"COUNTIF(Dienstplan!B42:BH42,\"*\"&($D$3)&\"*\")-COUNTIF(Dienstplan!B42:BH42,\"*_\"&($D$3)&\"*\")","v":0},{"$f":"COUNTIF(Dienstplan!B42:BH42,\"*\"&($E$3)&\"*\")-COUNTIF(Dienstplan!B42:BH42,\"*_\"&($E$3)&\"*\")","v":0},{"$f":"COUNTIF(Dienstplan!B42:BH42,\"*\"&($F$3)&\"*\")-COUNTIF(Dienstplan!B42:BH42,\"*_\"&($F$3)&\"*\")","v":0},{"$f":"COUNTIF(Dienstplan!B42:BH42,\"*\"&($G$3)&\"*\")-COUNTIF(Dienstplan!B42:BH42,\"*_\"&($G$3)&\"*\")","v":0},{"$f":"COUNTIF(Dienstplan!B42:BH42,\"*\"&($H$3)&\"*\")-COUNTIF(Dienstplan!B42:BH42,\"*_\"&($H$3)&\"*\")","v":0},{"$f":"COUNTIF(Dienstplan!B42:BH42,\"*\"&($I$3)&\"*\")-COUNTIF(Dienstplan!B42:BH42,\"*_\"&($I$3)&\"*\")","v":0},{"$f":"COUNTIF(Dienstplan!B42:BH42,\"*\"&($J$3)&\"*\")-COUNTIF(Dienstplan!B42:BH42,\"*_\"&($J$3)&\"*\")","v":0},{"$f":"COUNTIF(Dienstplan!B42:BH42,\"*\"&($K$3)&\"*\")-COUNTIF(Dienstplan!B42:BH42,\"*_\"&($K$3)&\"*\")","v":0},{"$f":"COUNTIF(Dienstplan!B42:BH42,\"*\"&($L$3)&\"*\")-COUNTIF(Dienstplan!B42:BH42,\"*_\"&($L$3)&\"*\")","v":0},{"$f":"COUNTIF(Dienstplan!B42:BH42,\"*\"&($M$3)&\"*\")-COUNTIF(Dienstplan!B42:BH42,\"*_\"&($M$3)&\"*\")","v":0},{"$f":"COUNTIF(Dienstplan!B42:BH42,\"*\"&($N$3)&\"*\")-COUNTIF(Dienstplan!B42:BH42,\"*_\"&($N$3)&\"*\")","v":0},{"$f":"COUNTIF(Dienstplan!B42:BH42,\"*\"&($O$3)&\"*\")-COUNTIF(Dienstplan!B42:BH42,\"*_\"&($O$3)&\"*\")","v":0},{"$f":"COUNTIF(Dienstplan!B42:BH42,\"*\"&($P$3)&\"*\")-COUNTIF(Dienstplan!B42:BH42,\"*_\"&($P$3)&\"*\")","v":0},{"$f":"COUNTIF(Dienstplan!B42:BH42,\"*\"&($Q$3)&\"*\")-COUNTIF(Dienstplan!B42:BH42,\"*_\"&($Q$3)&\"*\")","v":0},{"$f":"COUNTIF(Dienstplan!B42:BH42,\"*\"&($R$3)&\"*\")-COUNTIF(Dienstplan!B42:BH42,\"*_\"&($R$3)&\"*\")","v":0},{"$f":"COUNTIF(Dienstplan!B42:BH42,\"*\"&($S$3)&\"*\")-COUNTIF(Dienstplan!B42:BH42,\"*_\"&($S$3)&\"*\")","v":0},{"$f":"COUNTIF(Dienstplan!B42:BH42,\"*\"&($T$3)&\"*\")-COUNTIF(Dienstplan!B42:BH42,\"*_\"&($T$3)&\"*\")","v":0},{"$f":"COUNTIF(Dienstplan!B42:BH42,\"*\"&($U$3)&\"*\")-COUNTIF(Dienstplan!B42:BH42,\"*_\"&($U$3)&\"*\")","v":0},{"$f":"COUNTIF(Dienstplan!B42:BH42,\"*\"&($V$3)&\"*\")-COUNTIF(Dienstplan!B42:BH42,\"*_\"&($V$3)&\"*\")","v":0},{"$f":"COUNTIF(Dienstplan!B42:BH42,\"*\"&($W$3)&\"*\")-COUNTIF(Dienstplan!B42:BH42,\"*_\"&($W$3)&\"*\")","v":0},{"$f":"COUNTIF(Dienstplan!B42:BH42,\"*\"&($X$3)&\"*\")-COUNTIF(Dienstplan!B42:BH42,\"*_\"&($X$3)&\"*\")","v":0},{"$f":"COUNTIF(Dienstplan!B42:BH42,\"*\"&($Y$3)&\"*\")-COUNTIF(Dienstplan!B42:BH42,\"*_\"&($Y$3)&\"*\")","v":0},{"$f":"COUNTIF(Dienstplan!B42:BH42,\"*\"&($Z$3)&\"*\")-COUNTIF(Dienstplan!B42:BH42,\"*_\"&($Z$3)&\"*\")","v":0},{"$f":"COUNTIF(Dienstplan!B42:BH42,\"*\"&($AA$3)&\"*\")-COUNTIF(Dienstplan!B42:BH42,\"*_\"&($AA$3)&\"*\")","v":0},{"$f":"COUNTIF(Dienstplan!B42:BH42,\"*\"&($AB$3)&\"*\")-COUNTIF(Dienstplan!B42:BH42,\"*_\"&($AB$3)&\"*\")","v":0},{"$f":"COUNTIF(Dienstplan!B42:BH42,\"*\"&($AC$3)&\"*\")-COUNTIF(Dienstplan!B42:BH42,\"*_\"&($AC$3)&\"*\")","v":0},{"$f":"COUNTIF(Dienstplan!B42:BH42,\"*\"&($AD$3)&\"*\")-COUNTIF(Dienstplan!B42:BH42,\"*_\"&($AD$3)&\"*\")","v":0},{"$f":"COUNTIF(Dienstplan!B42:BH42,\"*\"&($AE$3)&\"*\")-COUNTIF(Dienstplan!B42:BH42,\"*_\"&($AE$3)&\"*\")","v":0},{"$f":"COUNTIF(Dienstplan!B42:BH42,\"*\"&($AF$3)&\"*\")-COUNTIF(Dienstplan!B42:BH42,\"*_\"&($AF$3)&\"*\")","v":0},{"$f":"COUNTIF(Dienstplan!B42:BH42,\"*\"&($AG$3)&\"*\")-COUNTIF(Dienstplan!B42:BH42,\"*_\"&($AG$3)&\"*\")","v":0},{"$f":"COUNTIF(Dienstplan!B42:BH42,\"*\"&($AH$3)&\"*\")-COUNTIF(Dienstplan!B42:BH42,\"*_\"&($AH$3)&\"*\")","v":0},{"$f":"COUNTIF(Dienstplan!B42:BH42,\"*\"&($AI$3)&\"*\")-COUNTIF(Dienstplan!B42:BH42,\"*_\"&($AI$3)&\"*\")","v":0},{"$f":"COUNTIF(Dienstplan!$B42:$BH42,\"*\"&($AJ$3)&\"*\")-COUNTIF(Dienstplan!$B42:$BH42,\"*_\"&($AJ$3)&\"*\")","v":0}]
[{"$f":"COUNTIF(Dienstplan!B43:BH43,\"*\"&($A$3)&\"*\")-COUNTIF(Dienstplan!B43:BH43,\"*_\"&($A$3)&\"*\")","v":0},{"$f":"COUNTIF(Dienstplan!B43:BH43,\"*\"&($B$3)&\"*\")-COUNTIF(Dienstplan!B43:BH43,\"*_\"&($B$3)&\"*\")","v":0},{"$f":"COUNTIF(Dienstplan!B43:BH43,\"*\"&($C$3)&\"*\")-COUNTIF(Dienstplan!B43:BH43,\"*_\"&($C$3)&\"*\")","v":0},{"$f":"COUNTIF(Dienstplan!B43:BH43,\"*\"&($D$3)&\"*\")-COUNTIF(Dienstplan!B43:BH43,\"*_\"&($D$3)&\"*\")","v":0},{"$f":"COUNTIF(Dienstplan!B43:BH43,\"*\"&($E$3)&\"*\")-COUNTIF(Dienstplan!B43:BH43,\"*_\"&($E$3)&\"*\")","v":0},{"$f":"COUNTIF(Dienstplan!B43:BH43,\"*\"&($F$3)&\"*\")-COUNTIF(Dienstplan!B43:BH43,\"*_\"&($F$3)&\"*\")","v":0},{"$f":"COUNTIF(Dienstplan!B43:BH43,\"*\"&($G$3)&\"*\")-COUNTIF(Dienstplan!B43:BH43,\"*_\"&($G$3)&\"*\")","v":0},{"$f":"COUNTIF(Dienstplan!B43:BH43,\"*\"&($H$3)&\"*\")-COUNTIF(Dienstplan!B43:BH43,\"*_\"&($H$3)&\"*\")","v":0},{"$f":"COUNTIF(Dienstplan!B43:BH43,\"*\"&($I$3)&\"*\")-COUNTIF(Dienstplan!B43:BH43,\"*_\"&($I$3)&\"*\")","v":0},{"$f":"COUNTIF(Dienstplan!B43:BH43,\"*\"&($J$3)&\"*\")-COUNTIF(Dienstplan!B43:BH43,\"*_\"&($J$3)&\"*\")","v":0},{"$f":"COUNTIF(Dienstplan!B43:BH43,\"*\"&($K$3)&\"*\")-COUNTIF(Dienstplan!B43:BH43,\"*_\"&($K$3)&\"*\")","v":0},{"$f":"COUNTIF(Dienstplan!B43:BH43,\"*\"&($L$3)&\"*\")-COUNTIF(Dienstplan!B43:BH43,\"*_\"&($L$3)&\"*\")","v":0},{"$f":"COUNTIF(Dienstplan!B43:BH43,\"*\"&($M$3)&\"*\")-COUNTIF(Dienstplan!B43:BH43,\"*_\"&($M$3)&\"*\")","v":0},{"$f":"COUNTIF(Dienstplan!B43:BH43,\"*\"&($N$3)&\"*\")-COUNTIF(Dienstplan!B43:BH43,\"*_\"&($N$3)&\"*\")","v":0},{"$f":"COUNTIF(Dienstplan!B43:BH43,\"*\"&($O$3)&\"*\")-COUNTIF(Dienstplan!B43:BH43,\"*_\"&($O$3)&\"*\")","v":0},{"$f":"COUNTIF(Dienstplan!B43:BH43,\"*\"&($P$3)&\"*\")-COUNTIF(Dienstplan!B43:BH43,\"*_\"&($P$3)&\"*\")","v":0},{"$f":"COUNTIF(Dienstplan!B43:BH43,\"*\"&($Q$3)&\"*\")-COUNTIF(Dienstplan!B43:BH43,\"*_\"&($Q$3)&\"*\")","v":0},{"$f":"COUNTIF(Dienstplan!B43:BH43,\"*\"&($R$3)&\"*\")-COUNTIF(Dienstplan!B43:BH43,\"*_\"&($R$3)&\"*\")","v":0},{"$f":"COUNTIF(Dienstplan!B43:BH43,\"*\"&($S$3)&\"*\")-COUNTIF(Dienstplan!B43:BH43,\"*_\"&($S$3)&\"*\")","v":0},{"$f":"COUNTIF(Dienstplan!B43:BH43,\"*\"&($T$3)&\"*\")-COUNTIF(Dienstplan!B43:BH43,\"*_\"&($T$3)&\"*\")","v":0},{"$f":"COUNTIF(Dienstplan!B43:BH43,\"*\"&($U$3)&\"*\")-COUNTIF(Dienstplan!B43:BH43,\"*_\"&($U$3)&\"*\")","v":0},{"$f":"COUNTIF(Dienstplan!B43:BH43,\"*\"&($V$3)&\"*\")-COUNTIF(Dienstplan!B43:BH43,\"*_\"&($V$3)&\"*\")","v":0},{"$f":"COUNTIF(Dienstplan!B43:BH43,\"*\"&($W$3)&\"*\")-COUNTIF(Dienstplan!B43:BH43,\"*_\"&($W$3)&\"*\")","v":0},{"$f":"COUNTIF(Dienstplan!B43:BH43,\"*\"&($X$3)&\"*\")-COUNTIF(Dienstplan!B43:BH43,\"*_\"&($X$3)&\"*\")","v":0},{"$f":"COUNTIF(Dienstplan!B43:BH43,\"*\"&($Y$3)&\"*\")-COUNTIF(Dienstplan!B43:BH43,\"*_\"&($Y$3)&\"*\")","v":0},{"$f":"COUNTIF(Dienstplan!B43:BH43,\"*\"&($Z$3)&\"*\")-COUNTIF(Dienstplan!B43:BH43,\"*_\"&($Z$3)&\"*\")","v":0},{"$f":"COUNTIF(Dienstplan!B43:BH43,\"*\"&($AA$3)&\"*\")-COUNTIF(Dienstplan!B43:BH43,\"*_\"&($AA$3)&\"*\")","v":0},{"$f":"COUNTIF(Dienstplan!B43:BH43,\"*\"&($AB$3)&\"*\")-COUNTIF(Dienstplan!B43:BH43,\"*_\"&($AB$3)&\"*\")","v":0},{"$f":"COUNTIF(Dienstplan!B43:BH43,\"*\"&($AC$3)&\"*\")-COUNTIF(Dienstplan!B43:BH43,\"*_\"&($AC$3)&\"*\")","v":0},{"$f":"COUNTIF(Dienstplan!B43:BH43,\"*\"&($AD$3)&\"*\")-COUNTIF(Dienstplan!B43:BH43,\"*_\"&($AD$3)&\"*\")","v":0},{"$f":"COUNTIF(Dienstplan!B43:BH43,\"*\"&($AE$3)&\"*\")-COUNTIF(Dienstplan!B43:BH43,\"*_\"&($AE$3)&\"*\")","v":0},{"$f":"COUNTIF(Dienstplan!B43:BH43,\"*\"&($AF$3)&\"*\")-COUNTIF(Dienstplan!B43:BH43,\"*_\"&($AF$3)&\"*\")","v":0},{"$f":"COUNTIF(Dienstplan!B43:BH43,\"*\"&($AG$3)&\"*\")-COUNTIF(Dienstplan!B43:BH43,\"*_\"&($AG$3)&\"*\")","v":0},{"$f":"COUNTIF(Dienstplan!B43:BH43,\"*\"&($AH$3)&\"*\")-COUNTIF(Dienstplan!B43:BH43,\"*_\"&($AH$3)&\"*\")","v":0},{"$f":"COUNTIF(Dienstplan!B43:BH43,\"*\"&($AI$3)&\"*\")-COUNTIF(Dienstplan!B43:BH43,\"*_\"&($AI$3)&\"*\")","v":0},{"$f":"COUNTIF(Dienstplan!$B43:$BH43,\"*\"&($AJ$3)&\"*\")-COUNTIF(Dienstplan!$B43:$BH43,\"*_\"&($AJ$3)&\"*\")","v":0}]
[{"$f":"COUNTIF(Dienstplan!B44:BH44,\"*\"&($A$3)&\"*\")-COUNTIF(Dienstplan!B44:BH44,\"*_\"&($A$3)&\"*\")","v":0},{"$f":"COUNTIF(Dienstplan!B44:BH44,\"*\"&($B$3)&\"*\")-COUNTIF(Dienstplan!B44:BH44,\"*_\"&($B$3)&\"*\")","v":0},{"$f":"COUNTIF(Dienstplan!B44:BH44,\"*\"&($C$3)&\"*\")-COUNTIF(Dienstplan!B44:BH44,\"*_\"&($C$3)&\"*\")","v":0},{"$f":"COUNTIF(Dienstplan!B44:BH44,\"*\"&($D$3)&\"*\")-COUNTIF(Dienstplan!B44:BH44,\"*_\"&($D$3)&\"*\")","v":0},{"$f":"COUNTIF(Dienstplan!B44:BH44,\"*\"&($E$3)&\"*\")-COUNTIF(Dienstplan!B44:BH44,\"*_\"&($E$3)&\"*\")","v":0},{"$f":"COUNTIF(Dienstplan!B44:BH44,\"*\"&($F$3)&\"*\")-COUNTIF(Dienstplan!B44:BH44,\"*_\"&($F$3)&\"*\")","v":0},{"$f":"COUNTIF(Dienstplan!B44:BH44,\"*\"&($G$3)&\"*\")-COUNTIF(Dienstplan!B44:BH44,\"*_\"&($G$3)&\"*\")","v":0},{"$f":"COUNTIF(Dienstplan!B44:BH44,\"*\"&($H$3)&\"*\")-COUNTIF(Dienstplan!B44:BH44,\"*_\"&($H$3)&\"*\")","v":0},{"$f":"COUNTIF(Dienstplan!B44:BH44,\"*\"&($I$3)&\"*\")-COUNTIF(Dienstplan!B44:BH44,\"*_\"&($I$3)&\"*\")","v":0},{"$f":"COUNTIF(Dienstplan!B44:BH44,\"*\"&($J$3)&\"*\")-COUNTIF(Dienstplan!B44:BH44,\"*_\"&($J$3)&\"*\")","v":0},{"$f":"COUNTIF(Dienstplan!B44:BH44,\"*\"&($K$3)&\"*\")-COUNTIF(Dienstplan!B44:BH44,\"*_\"&($K$3)&\"*\")","v":0},{"$f":"COUNTIF(Dienstplan!B44:BH44,\"*\"&($L$3)&\"*\")-COUNTIF(Dienstplan!B44:BH44,\"*_\"&($L$3)&\"*\")","v":0},{"$f":"COUNTIF(Dienstplan!B44:BH44,\"*\"&($M$3)&\"*\")-COUNTIF(Dienstplan!B44:BH44,\"*_\"&($M$3)&\"*\")","v":0},{"$f":"COUNTIF(Dienstplan!B44:BH44,\"*\"&($N$3)&\"*\")-COUNTIF(Dienstplan!B44:BH44,\"*_\"&($N$3)&\"*\")","v":0},{"$f":"COUNTIF(Dienstplan!B44:BH44,\"*\"&($O$3)&\"*\")-COUNTIF(Dienstplan!B44:BH44,\"*_\"&($O$3)&\"*\")","v":0},{"$f":"COUNTIF(Dienstplan!B44:BH44,\"*\"&($P$3)&\"*\")-COUNTIF(Dienstplan!B44:BH44,\"*_\"&($P$3)&\"*\")","v":0},{"$f":"COUNTIF(Dienstplan!B44:BH44,\"*\"&($Q$3)&\"*\")-COUNTIF(Dienstplan!B44:BH44,\"*_\"&($Q$3)&\"*\")","v":0},{"$f":"COUNTIF(Dienstplan!B44:BH44,\"*\"&($R$3)&\"*\")-COUNTIF(Dienstplan!B44:BH44,\"*_\"&($R$3)&\"*\")","v":0},{"$f":"COUNTIF(Dienstplan!B44:BH44,\"*\"&($S$3)&\"*\")-COUNTIF(Dienstplan!B44:BH44,\"*_\"&($S$3)&\"*\")","v":0},{"$f":"COUNTIF(Dienstplan!B44:BH44,\"*\"&($T$3)&\"*\")-COUNTIF(Dienstplan!B44:BH44,\"*_\"&($T$3)&\"*\")","v":0},{"$f":"COUNTIF(Dienstplan!B44:BH44,\"*\"&($U$3)&\"*\")-COUNTIF(Dienstplan!B44:BH44,\"*_\"&($U$3)&\"*\")","v":0},{"$f":"COUNTIF(Dienstplan!B44:BH44,\"*\"&($V$3)&\"*\")-COUNTIF(Dienstplan!B44:BH44,\"*_\"&($V$3)&\"*\")","v":0},{"$f":"COUNTIF(Dienstplan!B44:BH44,\"*\"&($W$3)&\"*\")-COUNTIF(Dienstplan!B44:BH44,\"*_\"&($W$3)&\"*\")","v":0},{"$f":"COUNTIF(Dienstplan!B44:BH44,\"*\"&($X$3)&\"*\")-COUNTIF(Dienstplan!B44:BH44,\"*_\"&($X$3)&\"*\")","v":0},{"$f":"COUNTIF(Dienstplan!B44:BH44,\"*\"&($Y$3)&\"*\")-COUNTIF(Dienstplan!B44:BH44,\"*_\"&($Y$3)&\"*\")","v":0},{"$f":"COUNTIF(Dienstplan!B44:BH44,\"*\"&($Z$3)&\"*\")-COUNTIF(Dienstplan!B44:BH44,\"*_\"&($Z$3)&\"*\")","v":0},{"$f":"COUNTIF(Dienstplan!B44:BH44,\"*\"&($AA$3)&\"*\")-COUNTIF(Dienstplan!B44:BH44,\"*_\"&($AA$3)&\"*\")","v":0},{"$f":"COUNTIF(Dienstplan!B44:BH44,\"*\"&($AB$3)&\"*\")-COUNTIF(Dienstplan!B44:BH44,\"*_\"&($AB$3)&\"*\")","v":0},{"$f":"COUNTIF(Dienstplan!B44:BH44,\"*\"&($AC$3)&\"*\")-COUNTIF(Dienstplan!B44:BH44,\"*_\"&($AC$3)&\"*\")","v":0},{"$f":"COUNTIF(Dienstplan!B44:BH44,\"*\"&($AD$3)&\"*\")-COUNTIF(Dienstplan!B44:BH44,\"*_\"&($AD$3)&\"*\")","v":0},{"$f":"COUNTIF(Dienstplan!B44:BH44,\"*\"&($AE$3)&\"*\")-COUNTIF(Dienstplan!B44:BH44,\"*_\"&($AE$3)&\"*\")","v":0},{"$f":"COUNTIF(Dienstplan!B44:BH44,\"*\"&($AF$3)&\"*\")-COUNTIF(Dienstplan!B44:BH44,\"*_\"&($AF$3)&\"*\")","v":0},{"$f":"COUNTIF(Dienstplan!B44:BH44,\"*\"&($AG$3)&\"*\")-COUNTIF(Dienstplan!B44:BH44,\"*_\"&($AG$3)&\"*\")","v":0},{"$f":"COUNTIF(Dienstplan!B44:BH44,\"*\"&($AH$3)&\"*\")-COUNTIF(Dienstplan!B44:BH44,\"*_\"&($AH$3)&\"*\")","v":0},{"$f":"COUNTIF(Dienstplan!B44:BH44,\"*\"&($AI$3)&\"*\")-COUNTIF(Dienstplan!B44:BH44,\"*_\"&($AI$3)&\"*\")","v":0},{"$f":"COUNTIF(Dienstplan!$B44:$BH44,\"*\"&($AJ$3)&\"*\")-COUNTIF(Dienstplan!$B44:$BH44,\"*_\"&($AJ$3)&\"*\")","v":0}]
[{"$f":"COUNTIF(Dienstplan!B45:BH45,\"*\"&($A$3)&\"*\")-COUNTIF(Dienstplan!B45:BH45,\"*_\"&($A$3)&\"*\")","v":0},{"$f":"COUNTIF(Dienstplan!B45:BH45,\"*\"&($B$3)&\"*\")-COUNTIF(Dienstplan!B45:BH45,\"*_\"&($B$3)&\"*\")","v":0},{"$f":"COUNTIF(Dienstplan!B45:BH45,\"*\"&($C$3)&\"*\")-COUNTIF(Dienstplan!B45:BH45,\"*_\"&($C$3)&\"*\")","v":0},{"$f":"COUNTIF(Dienstplan!B45:BH45,\"*\"&($D$3)&\"*\")-COUNTIF(Dienstplan!B45:BH45,\"*_\"&($D$3)&\"*\")","v":0},{"$f":"COUNTIF(Dienstplan!B45:BH45,\"*\"&($E$3)&\"*\")-COUNTIF(Dienstplan!B45:BH45,\"*_\"&($E$3)&\"*\")","v":1},{"$f":"COUNTIF(Dienstplan!B45:BH45,\"*\"&($F$3)&\"*\")-COUNTIF(Dienstplan!B45:BH45,\"*_\"&($F$3)&\"*\")","v":0},{"$f":"COUNTIF(Dienstplan!B45:BH45,\"*\"&($G$3)&\"*\")-COUNTIF(Dienstplan!B45:BH45,\"*_\"&($G$3)&\"*\")","v":1},{"$f":"COUNTIF(Dienstplan!B45:BH45,\"*\"&($H$3)&\"*\")-COUNTIF(Dienstplan!B45:BH45,\"*_\"&($H$3)&\"*\")","v":1},{"$f":"COUNTIF(Dienstplan!B45:BH45,\"*\"&($I$3)&\"*\")-COUNTIF(Dienstplan!B45:BH45,\"*_\"&($I$3)&\"*\")","v":1},{"$f":"COUNTIF(Dienstplan!B45:BH45,\"*\"&($J$3)&\"*\")-COUNTIF(Dienstplan!B45:BH45,\"*_\"&($J$3)&\"*\")","v":1},{"$f":"COUNTIF(Dienstplan!B45:BH45,\"*\"&($K$3)&\"*\")-COUNTIF(Dienstplan!B45:BH45,\"*_\"&($K$3)&\"*\")","v":1},{"$f":"COUNTIF(Dienstplan!B45:BH45,\"*\"&($L$3)&\"*\")-COUNTIF(Dienstplan!B45:BH45,\"*_\"&($L$3)&\"*\")","v":1},{"$f":"COUNTIF(Dienstplan!B45:BH45,\"*\"&($M$3)&\"*\")-COUNTIF(Dienstplan!B45:BH45,\"*_\"&($M$3)&\"*\")","v":1},{"$f":"COUNTIF(Dienstplan!B45:BH45,\"*\"&($N$3)&\"*\")-COUNTIF(Dienstplan!B45:BH45,\"*_\"&($N$3)&\"*\")","v":0},{"$f":"COUNTIF(Dienstplan!B45:BH45,\"*\"&($O$3)&\"*\")-COUNTIF(Dienstplan!B45:BH45,\"*_\"&($O$3)&\"*\")","v":1},{"$f":"COUNTIF(Dienstplan!B45:BH45,\"*\"&($P$3)&\"*\")-COUNTIF(Dienstplan!B45:BH45,\"*_\"&($P$3)&\"*\")","v":1},{"$f":"COUNTIF(Dienstplan!B45:BH45,\"*\"&($Q$3)&\"*\")-COUNTIF(Dienstplan!B45:BH45,\"*_\"&($Q$3)&\"*\")","v":0},{"$f":"COUNTIF(Dienstplan!B45:BH45,\"*\"&($R$3)&\"*\")-COUNTIF(Dienstplan!B45:BH45,\"*_\"&($R$3)&\"*\")","v":0},{"$f":"COUNTIF(Dienstplan!B45:BH45,\"*\"&($S$3)&\"*\")-COUNTIF(Dienstplan!B45:BH45,\"*_\"&($S$3)&\"*\")","v":1},{"$f":"COUNTIF(Dienstplan!B45:BH45,\"*\"&($T$3)&\"*\")-COUNTIF(Dienstplan!B45:BH45,\"*_\"&($T$3)&\"*\")","v":0},{"$f":"COUNTIF(Dienstplan!B45:BH45,\"*\"&($U$3)&\"*\")-COUNTIF(Dienstplan!B45:BH45,\"*_\"&($U$3)&\"*\")","v":1},{"$f":"COUNTIF(Dienstplan!B45:BH45,\"*\"&($V$3)&\"*\")-COUNTIF(Dienstplan!B45:BH45,\"*_\"&($V$3)&\"*\")","v":1},{"$f":"COUNTIF(Dienstplan!B45:BH45,\"*\"&($W$3)&\"*\")-COUNTIF(Dienstplan!B45:BH45,\"*_\"&($W$3)&\"*\")","v":0},{"$f":"COUNTIF(Dienstplan!B45:BH45,\"*\"&($X$3)&\"*\")-COUNTIF(Dienstplan!B45:BH45,\"*_\"&($X$3)&\"*\")","v":0},{"$f":"COUNTIF(Dienstplan!B45:BH45,\"*\"&($Y$3)&\"*\")-COUNTIF(Dienstplan!B45:BH45,\"*_\"&($Y$3)&\"*\")","v":0},{"$f":"COUNTIF(Dienstplan!B45:BH45,\"*\"&($Z$3)&\"*\")-COUNTIF(Dienstplan!B45:BH45,\"*_\"&($Z$3)&\"*\")","v":0},{"$f":"COUNTIF(Dienstplan!B45:BH45,\"*\"&($AA$3)&\"*\")-COUNTIF(Dienstplan!B45:BH45,\"*_\"&($AA$3)&\"*\")","v":0},{"$f":"COUNTIF(Dienstplan!B45:BH45,\"*\"&($AB$3)&\"*\")-COUNTIF(Dienstplan!B45:BH45,\"*_\"&($AB$3)&\"*\")","v":0},{"$f":"COUNTIF(Dienstplan!B45:BH45,\"*\"&($AC$3)&\"*\")-COUNTIF(Dienstplan!B45:BH45,\"*_\"&($AC$3)&\"*\")","v":0},{"$f":"COUNTIF(Dienstplan!B45:BH45,\"*\"&($AD$3)&\"*\")-COUNTIF(Dienstplan!B45:BH45,\"*_\"&($AD$3)&\"*\")","v":0},{"$f":"COUNTIF(Dienstplan!B45:BH45,\"*\"&($AE$3)&\"*\")-COUNTIF(Dienstplan!B45:BH45,\"*_\"&($AE$3)&\"*\")","v":0},{"$f":"COUNTIF(Dienstplan!B45:BH45,\"*\"&($AF$3)&\"*\")-COUNTIF(Dienstplan!B45:BH45,\"*_\"&($AF$3)&\"*\")","v":0},{"$f":"COUNTIF(Dienstplan!B45:BH45,\"*\"&($AG$3)&\"*\")-COUNTIF(Dienstplan!B45:BH45,\"*_\"&($AG$3)&\"*\")","v":0},{"$f":"COUNTIF(Dienstplan!B45:BH45,\"*\"&($AH$3)&\"*\")-COUNTIF(Dienstplan!B45:BH45,\"*_\"&($AH$3)&\"*\")","v":0},{"$f":"COUNTIF(Dienstplan!B45:BH45,\"*\"&($AI$3)&\"*\")-COUNTIF(Dienstplan!B45:BH45,\"*_\"&($AI$3)&\"*\")","v":0},{"$f":"COUNTIF(Dienstplan!$B45:$BH45,\"*\"&($AJ$3)&\"*\")-COUNTIF(Dienstplan!$B45:$BH45,\"*_\"&($AJ$3)&\"*\")","v":0}]
[{"$f":"COUNTIF(Dienstplan!B46:BH46,\"*\"&($A$3)&\"*\")-COUNTIF(Dienstplan!B46:BH46,\"*_\"&($A$3)&\"*\")","v":0},{"$f":"COUNTIF(Dienstplan!B46:BH46,\"*\"&($B$3)&\"*\")-COUNTIF(Dienstplan!B46:BH46,\"*_\"&($B$3)&\"*\")","v":0},{"$f":"COUNTIF(Dienstplan!B46:BH46,\"*\"&($C$3)&\"*\")-COUNTIF(Dienstplan!B46:BH46,\"*_\"&($C$3)&\"*\")","v":0},{"$f":"COUNTIF(Dienstplan!B46:BH46,\"*\"&($D$3)&\"*\")-COUNTIF(Dienstplan!B46:BH46,\"*_\"&($D$3)&\"*\")","v":0},{"$f":"COUNTIF(Dienstplan!B46:BH46,\"*\"&($E$3)&\"*\")-COUNTIF(Dienstplan!B46:BH46,\"*_\"&($E$3)&\"*\")","v":1},{"$f":"COUNTIF(Dienstplan!B46:BH46,\"*\"&($F$3)&\"*\")-COUNTIF(Dienstplan!B46:BH46,\"*_\"&($F$3)&\"*\")","v":0},{"$f":"COUNTIF(Dienstplan!B46:BH46,\"*\"&($G$3)&\"*\")-COUNTIF(Dienstplan!B46:BH46,\"*_\"&($G$3)&\"*\")","v":1},{"$f":"COUNTIF(Dienstplan!B46:BH46,\"*\"&($H$3)&\"*\")-COUNTIF(Dienstplan!B46:BH46,\"*_\"&($H$3)&\"*\")","v":1},{"$f":"COUNTIF(Dienstplan!B46:BH46,\"*\"&($I$3)&\"*\")-COUNTIF(Dienstplan!B46:BH46,\"*_\"&($I$3)&\"*\")","v":1},{"$f":"COUNTIF(Dienstplan!B46:BH46,\"*\"&($J$3)&\"*\")-COUNTIF(Dienstplan!B46:BH46,\"*_\"&($J$3)&\"*\")","v":1},{"$f":"COUNTIF(Dienstplan!B46:BH46,\"*\"&($K$3)&\"*\")-COUNTIF(Dienstplan!B46:BH46,\"*_\"&($K$3)&\"*\")","v":1},{"$f":"COUNTIF(Dienstplan!B46:BH46,\"*\"&($L$3)&\"*\")-COUNTIF(Dienstplan!B46:BH46,\"*_\"&($L$3)&\"*\")","v":1},{"$f":"COUNTIF(Dienstplan!B46:BH46,\"*\"&($M$3)&\"*\")-COUNTIF(Dienstplan!B46:BH46,\"*_\"&($M$3)&\"*\")","v":1},{"$f":"COUNTIF(Dienstplan!B46:BH46,\"*\"&($N$3)&\"*\")-COUNTIF(Dienstplan!B46:BH46,\"*_\"&($N$3)&\"*\")","v":1},{"$f":"COUNTIF(Dienstplan!B46:BH46,\"*\"&($O$3)&\"*\")-COUNTIF(Dienstplan!B46:BH46,\"*_\"&($O$3)&\"*\")","v":1},{"$f":"COUNTIF(Dienstplan!B46:BH46,\"*\"&($P$3)&\"*\")-COUNTIF(Dienstplan!B46:BH46,\"*_\"&($P$3)&\"*\")","v":1},{"$f":"COUNTIF(Dienstplan!B46:BH46,\"*\"&($Q$3)&\"*\")-COUNTIF(Dienstplan!B46:BH46,\"*_\"&($Q$3)&\"*\")","v":0},{"$f":"COUNTIF(Dienstplan!B46:BH46,\"*\"&($R$3)&\"*\")-COUNTIF(Dienstplan!B46:BH46,\"*_\"&($R$3)&\"*\")","v":0},{"$f":"COUNTIF(Dienstplan!B46:BH46,\"*\"&($S$3)&\"*\")-COUNTIF(Dienstplan!B46:BH46,\"*_\"&($S$3)&\"*\")","v":1},{"$f":"COUNTIF(Dienstplan!B46:BH46,\"*\"&($T$3)&\"*\")-COUNTIF(Dienstplan!B46:BH46,\"*_\"&($T$3)&\"*\")","v":0},{"$f":"COUNTIF(Dienstplan!B46:BH46,\"*\"&($U$3)&\"*\")-COUNTIF(Dienstplan!B46:BH46,\"*_\"&($U$3)&\"*\")","v":1},{"$f":"COUNTIF(Dienstplan!B46:BH46,\"*\"&($V$3)&\"*\")-COUNTIF(Dienstplan!B46:BH46,\"*_\"&($V$3)&\"*\")","v":1},{"$f":"COUNTIF(Dienstplan!B46:BH46,\"*\"&($W$3)&\"*\")-COUNTIF(Dienstplan!B46:BH46,\"*_\"&($W$3)&\"*\")","v":0},{"$f":"COUNTIF(Dienstplan!B46:BH46,\"*\"&($X$3)&\"*\")-COUNTIF(Dienstplan!B46:BH46,\"*_\"&($X$3)&\"*\")","v":0},{"$f":"COUNTIF(Dienstplan!B46:BH46,\"*\"&($Y$3)&\"*\")-COUNTIF(Dienstplan!B46:BH46,\"*_\"&($Y$3)&\"*\")","v":0},{"$f":"COUNTIF(Dienstplan!B46:BH46,\"*\"&($Z$3)&\"*\")-COUNTIF(Dienstplan!B46:BH46,\"*_\"&($Z$3)&\"*\")","v":0},{"$f":"COUNTIF(Dienstplan!B46:BH46,\"*\"&($AA$3)&\"*\")-COUNTIF(Dienstplan!B46:BH46,\"*_\"&($AA$3)&\"*\")","v":0},{"$f":"COUNTIF(Dienstplan!B46:BH46,\"*\"&($AB$3)&\"*\")-COUNTIF(Dienstplan!B46:BH46,\"*_\"&($AB$3)&\"*\")","v":0},{"$f":"COUNTIF(Dienstplan!B46:BH46,\"*\"&($AC$3)&\"*\")-COUNTIF(Dienstplan!B46:BH46,\"*_\"&($AC$3)&\"*\")","v":0},{"$f":"COUNTIF(Dienstplan!B46:BH46,\"*\"&($AD$3)&\"*\")-COUNTIF(Dienstplan!B46:BH46,\"*_\"&($AD$3)&\"*\")","v":0},{"$f":"COUNTIF(Dienstplan!B46:BH46,\"*\"&($AE$3)&\"*\")-COUNTIF(Dienstplan!B46:BH46,\"*_\"&($AE$3)&\"*\")","v":0},{"$f":"COUNTIF(Dienstplan!B46:BH46,\"*\"&($AF$3)&\"*\")-COUNTIF(Dienstplan!B46:BH46,\"*_\"&($AF$3)&\"*\")","v":0},{"$f":"COUNTIF(Dienstplan!B46:BH46,\"*\"&($AG$3)&\"*\")-COUNTIF(Dienstplan!B46:BH46,\"*_\"&($AG$3)&\"*\")","v":0},{"$f":"COUNTIF(Dienstplan!B46:BH46,\"*\"&($AH$3)&\"*\")-COUNTIF(Dienstplan!B46:BH46,\"*_\"&($AH$3)&\"*\")","v":0},{"$f":"COUNTIF(Dienstplan!B46:BH46,\"*\"&($AI$3)&\"*\")-COUNTIF(Dienstplan!B46:BH46,\"*_\"&($AI$3)&\"*\")","v":0},{"$f":"COUNTIF(Dienstplan!$B46:$BH46,\"*\"&($AJ$3)&\"*\")-COUNTIF(Dienstplan!$B46:$BH46,\"*_\"&($AJ$3)&\"*\")","v":0}]
[{"$f":"COUNTIF(Dienstplan!B47:BH47,\"*\"&($A$3)&\"*\")-COUNTIF(Dienstplan!B47:BH47,\"*_\"&($A$3)&\"*\")","v":0},{"$f":"COUNTIF(Dienstplan!B47:BH47,\"*\"&($B$3)&\"*\")-COUNTIF(Dienstplan!B47:BH47,\"*_\"&($B$3)&\"*\")","v":0},{"$f":"COUNTIF(Dienstplan!B47:BH47,\"*\"&($C$3)&\"*\")-COUNTIF(Dienstplan!B47:BH47,\"*_\"&($C$3)&\"*\")","v":0},{"$f":"COUNTIF(Dienstplan!B47:BH47,\"*\"&($D$3)&\"*\")-COUNTIF(Dienstplan!B47:BH47,\"*_\"&($D$3)&\"*\")","v":0},{"$f":"COUNTIF(Dienstplan!B47:BH47,\"*\"&($E$3)&\"*\")-COUNTIF(Dienstplan!B47:BH47,\"*_\"&($E$3)&\"*\")","v":1},{"$f":"COUNTIF(Dienstplan!B47:BH47,\"*\"&($F$3)&\"*\")-COUNTIF(Dienstplan!B47:BH47,\"*_\"&($F$3)&\"*\")","v":0},{"$f":"COUNTIF(Dienstplan!B47:BH47,\"*\"&($G$3)&\"*\")-COUNTIF(Dienstplan!B47:BH47,\"*_\"&($G$3)&\"*\")","v":1},{"$f":"COUNTIF(Dienstplan!B47:BH47,\"*\"&($H$3)&\"*\")-COUNTIF(Dienstplan!B47:BH47,\"*_\"&($H$3)&\"*\")","v":1},{"$f":"COUNTIF(Dienstplan!B47:BH47,\"*\"&($I$3)&\"*\")-COUNTIF(Dienstplan!B47:BH47,\"*_\"&($I$3)&\"*\")","v":1},{"$f":"COUNTIF(Dienstplan!B47:BH47,\"*\"&($J$3)&\"*\")-COUNTIF(Dienstplan!B47:BH47,\"*_\"&($J$3)&\"*\")","v":1},{"$f":"COUNTIF(Dienstplan!B47:BH47,\"*\"&($K$3)&\"*\")-COUNTIF(Dienstplan!B47:BH47,\"*_\"&($K$3)&\"*\")","v":1},{"$f":"COUNTIF(Dienstplan!B47:BH47,\"*\"&($L$3)&\"*\")-COUNTIF(Dienstplan!B47:BH47,\"*_\"&($L$3)&\"*\")","v":1},{"$f":"COUNTIF(Dienstplan!B47:BH47,\"*\"&($M$3)&\"*\")-COUNTIF(Dienstplan!B47:BH47,\"*_\"&($M$3)&\"*\")","v":1},{"$f":"COUNTIF(Dienstplan!B47:BH47,\"*\"&($N$3)&\"*\")-COUNTIF(Dienstplan!B47:BH47,\"*_\"&($N$3)&\"*\")","v":0},{"$f":"COUNTIF(Dienstplan!B47:BH47,\"*\"&($O$3)&\"*\")-COUNTIF(Dienstplan!B47:BH47,\"*_\"&($O$3)&\"*\")","v":1},{"$f":"COUNTIF(Dienstplan!B47:BH47,\"*\"&($P$3)&\"*\")-COUNTIF(Dienstplan!B47:BH47,\"*_\"&($P$3)&\"*\")","v":1},{"$f":"COUNTIF(Dienstplan!B47:BH47,\"*\"&($Q$3)&\"*\")-COUNTIF(Dienstplan!B47:BH47,\"*_\"&($Q$3)&\"*\")","v":0},{"$f":"COUNTIF(Dienstplan!B47:BH47,\"*\"&($R$3)&\"*\")-COUNTIF(Dienstplan!B47:BH47,\"*_\"&($R$3)&\"*\")","v":1},{"$f":"COUNTIF(Dienstplan!B47:BH47,\"*\"&($S$3)&\"*\")-COUNTIF(Dienstplan!B47:BH47,\"*_\"&($S$3)&\"*\")","v":1},{"$f":"COUNTIF(Dienstplan!B47:BH47,\"*\"&($T$3)&\"*\")-COUNTIF(Dienstplan!B47:BH47,\"*_\"&($T$3)&\"*\")","v":0},{"$f":"COUNTIF(Dienstplan!B47:BH47,\"*\"&($U$3)&\"*\")-COUNTIF(Dienstplan!B47:BH47,\"*_\"&($U$3)&\"*\")","v":1},{"$f":"COUNTIF(Dienstplan!B47:BH47,\"*\"&($V$3)&\"*\")-COUNTIF(Dienstplan!B47:BH47,\"*_\"&($V$3)&\"*\")","v":1},{"$f":"COUNTIF(Dienstplan!B47:BH47,\"*\"&($W$3)&\"*\")-COUNTIF(Dienstplan!B47:BH47,\"*_\"&($W$3)&\"*\")","v":0},{"$f":"COUNTIF(Dienstplan!B47:BH47,\"*\"&($X$3)&\"*\")-COUNTIF(Dienstplan!B47:BH47,\"*_\"&($X$3)&\"*\")","v":0},{"$f":"COUNTIF(Dienstplan!B47:BH47,\"*\"&($Y$3)&\"*\")-COUNTIF(Dienstplan!B47:BH47,\"*_\"&($Y$3)&\"*\")","v":0},{"$f":"COUNTIF(Dienstplan!B47:BH47,\"*\"&($Z$3)&\"*\")-COUNTIF(Dienstplan!B47:BH47,\"*_\"&($Z$3)&\"*\")","v":0},{"$f":"COUNTIF(Dienstplan!B47:BH47,\"*\"&($AA$3)&\"*\")-COUNTIF(Dienstplan!B47:BH47,\"*_\"&($AA$3)&\"*\")","v":0},{"$f":"COUNTIF(Dienstplan!B47:BH47,\"*\"&($AB$3)&\"*\")-COUNTIF(Dienstplan!B47:BH47,\"*_\"&($AB$3)&\"*\")","v":0},{"$f":"COUNTIF(Dienstplan!B47:BH47,\"*\"&($AC$3)&\"*\")-COUNTIF(Dienstplan!B47:BH47,\"*_\"&($AC$3)&\"*\")","v":0},{"$f":"COUNTIF(Dienstplan!B47:BH47,\"*\"&($AD$3)&\"*\")-COUNTIF(Dienstplan!B47:BH47,\"*_\"&($AD$3)&\"*\")","v":0},{"$f":"COUNTIF(Dienstplan!B47:BH47,\"*\"&($AE$3)&\"*\")-COUNTIF(Dienstplan!B47:BH47,\"*_\"&($AE$3)&\"*\")","v":0},{"$f":"COUNTIF(Dienstplan!B47:BH47,\"*\"&($AF$3)&\"*\")-COUNTIF(Dienstplan!B47:BH47,\"*_\"&($AF$3)&\"*\")","v":0},{"$f":"COUNTIF(Dienstplan!B47:BH47,\"*\"&($AG$3)&\"*\")-COUNTIF(Dienstplan!B47:BH47,\"*_\"&($AG$3)&\"*\")","v":0},{"$f":"COUNTIF(Dienstplan!B47:BH47,\"*\"&($AH$3)&\"*\")-COUNTIF(Dienstplan!B47:BH47,\"*_\"&($AH$3)&\"*\")","v":0},{"$f":"COUNTIF(Dienstplan!B47:BH47,\"*\"&($AI$3)&\"*\")-COUNTIF(Dienstplan!B47:BH47,\"*_\"&($AI$3)&\"*\")","v":0},{"$f":"COUNTIF(Dienstplan!$B47:$BH47,\"*\"&($AJ$3)&\"*\")-COUNTIF(Dienstplan!$B47:$BH47,\"*_\"&($AJ$3)&\"*\")","v":0}]
[{"$f":"COUNTIF(Dienstplan!B48:BH48,\"*\"&($A$3)&\"*\")-COUNTIF(Dienstplan!B48:BH48,\"*_\"&($A$3)&\"*\")","v":0},{"$f":"COUNTIF(Dienstplan!B48:BH48,\"*\"&($B$3)&\"*\")-COUNTIF(Dienstplan!B48:BH48,\"*_\"&($B$3)&\"*\")","v":0},{"$f":"COUNTIF(Dienstplan!B48:BH48,\"*\"&($C$3)&\"*\")-COUNTIF(Dienstplan!B48:BH48,\"*_\"&($C$3)&\"*\")","v":0},{"$f":"COUNTIF(Dienstplan!B48:BH48,\"*\"&($D$3)&\"*\")-COUNTIF(Dienstplan!B48:BH48,\"*_\"&($D$3)&\"*\")","v":0},{"$f":"COUNTIF(Dienstplan!B48:BH48,\"*\"&($E$3)&\"*\")-COUNTIF(Dienstplan!B48:BH48,\"*_\"&($E$3)&\"*\")","v":1},{"$f":"COUNTIF(Dienstplan!B48:BH48,\"*\"&($F$3)&\"*\")-COUNTIF(Dienstplan!B48:BH48,\"*_\"&($F$3)&\"*\")","v":0},{"$f":"COUNTIF(Dienstplan!B48:BH48,\"*\"&($G$3)&\"*\")-COUNTIF(Dienstplan!B48:BH48,\"*_\"&($G$3)&\"*\")","v":0},{"$f":"COUNTIF(Dienstplan!B48:BH48,\"*\"&($H$3)&\"*\")-COUNTIF(Dienstplan!B48:BH48,\"*_\"&($H$3)&\"*\")","v":1},{"$f":"COUNTIF(Dienstplan!B48:BH48,\"*\"&($I$3)&\"*\")-COUNTIF(Dienstplan!B48:BH48,\"*_\"&($I$3)&\"*\")","v":1},{"$f":"COUNTIF(Dienstplan!B48:BH48,\"*\"&($J$3)&\"*\")-COUNTIF(Dienstplan!B48:BH48,\"*_\"&($J$3)&\"*\")","v":1},{"$f":"COUNTIF(Dienstplan!B48:BH48,\"*\"&($K$3)&\"*\")-COUNTIF(Dienstplan!B48:BH48,\"*_\"&($K$3)&\"*\")","v":1},{"$f":"COUNTIF(Dienstplan!B48:BH48,\"*\"&($L$3)&\"*\")-COUNTIF(Dienstplan!B48:BH48,\"*_\"&($L$3)&\"*\")","v":1},{"$f":"COUNTIF(Dienstplan!B48:BH48,\"*\"&($M$3)&\"*\")-COUNTIF(Dienstplan!B48:BH48,\"*_\"&($M$3)&\"*\")","v":1},{"$f":"COUNTIF(Dienstplan!B48:BH48,\"*\"&($N$3)&\"*\")-COUNTIF(Dienstplan!B48:BH48,\"*_\"&($N$3)&\"*\")","v":0},{"$f":"COUNTIF(Dienstplan!B48:BH48,\"*\"&($O$3)&\"*\")-COUNTIF(Dienstplan!B48:BH48,\"*_\"&($O$3)&\"*\")","v":1},{"$f":"COUNTIF(Dienstplan!B48:BH48,\"*\"&($P$3)&\"*\")-COUNTIF(Dienstplan!B48:BH48,\"*_\"&($P$3)&\"*\")","v":1},{"$f":"COUNTIF(Dienstplan!B48:BH48,\"*\"&($Q$3)&\"*\")-COUNTIF(Dienstplan!B48:BH48,\"*_\"&($Q$3)&\"*\")","v":0},{"$f":"COUNTIF(Dienstplan!B48:BH48,\"*\"&($R$3)&\"*\")-COUNTIF(Dienstplan!B48:BH48,\"*_\"&($R$3)&\"*\")","v":1},{"$f":"COUNTIF(Dienstplan!B48:BH48,\"*\"&($S$3)&\"*\")-COUNTIF(Dienstplan!B48:BH48,\"*_\"&($S$3)&\"*\")","v":1},{"$f":"COUNTIF(Dienstplan!B48:BH48,\"*\"&($T$3)&\"*\")-COUNTIF(Dienstplan!B48:BH48,\"*_\"&($T$3)&\"*\")","v":0},{"$f":"COUNTIF(Dienstplan!B48:BH48,\"*\"&($U$3)&\"*\")-COUNTIF(Dienstplan!B48:BH48,\"*_\"&($U$3)&\"*\")","v":1},{"$f":"COUNTIF(Dienstplan!B48:BH48,\"*\"&($V$3)&\"*\")-COUNTIF(Dienstplan!B48:BH48,\"*_\"&($V$3)&\"*\")","v":1},{"$f":"COUNTIF(Dienstplan!B48:BH48,\"*\"&($W$3)&\"*\")-COUNTIF(Dienstplan!B48:BH48,\"*_\"&($W$3)&\"*\")","v":0},{"$f":"COUNTIF(Dienstplan!B48:BH48,\"*\"&($X$3)&\"*\")-COUNTIF(Dienstplan!B48:BH48,\"*_\"&($X$3)&\"*\")","v":0},{"$f":"COUNTIF(Dienstplan!B48:BH48,\"*\"&($Y$3)&\"*\")-COUNTIF(Dienstplan!B48:BH48,\"*_\"&($Y$3)&\"*\")","v":0},{"$f":"COUNTIF(Dienstplan!B48:BH48,\"*\"&($Z$3)&\"*\")-COUNTIF(Dienstplan!B48:BH48,\"*_\"&($Z$3)&\"*\")","v":0},{"$f":"COUNTIF(Dienstplan!B48:BH48,\"*\"&($AA$3)&\"*\")-COUNTIF(Dienstplan!B48:BH48,\"*_\"&($AA$3)&\"*\")","v":0},{"$f":"COUNTIF(Dienstplan!B48:BH48,\"*\"&($AB$3)&\"*\")-COUNTIF(Dienstplan!B48:BH48,\"*_\"&($AB$3)&\"*\")","v":0},{"$f":"COUNTIF(Dienstplan!B48:BH48,\"*\"&($AC$3)&\"*\")-COUNTIF(Dienstplan!B48:BH48,\"*_\"&($AC$3)&\"*\")","v":0},{"$f":"COUNTIF(Dienstplan!B48:BH48,\"*\"&($AD$3)&\"*\")-COUNTIF(Dienstplan!B48:BH48,\"*_\"&($AD$3)&\"*\")","v":0},{"$f":"COUNTIF(Dienstplan!B48:BH48,\"*\"&($AE$3)&\"*\")-COUNTIF(Dienstplan!B48:BH48,\"*_\"&($AE$3)&\"*\")","v":0},{"$f":"COUNTIF(Dienstplan!B48:BH48,\"*\"&($AF$3)&\"*\")-COUNTIF(Dienstplan!B48:BH48,\"*_\"&($AF$3)&\"*\")","v":0},{"$f":"COUNTIF(Dienstplan!B48:BH48,\"*\"&($AG$3)&\"*\")-COUNTIF(Dienstplan!B48:BH48,\"*_\"&($AG$3)&\"*\")","v":0},{"$f":"COUNTIF(Dienstplan!B48:BH48,\"*\"&($AH$3)&\"*\")-COUNTIF(Dienstplan!B48:BH48,\"*_\"&($AH$3)&\"*\")","v":0},{"$f":"COUNTIF(Dienstplan!B48:BH48,\"*\"&($AI$3)&\"*\")-COUNTIF(Dienstplan!B48:BH48,\"*_\"&($AI$3)&\"*\")","v":0},{"$f":"COUNTIF(Dienstplan!$B48:$BH48,\"*\"&($AJ$3)&\"*\")-COUNTIF(Dienstplan!$B48:$BH48,\"*_\"&($AJ$3)&\"*\")","v":0}]
[{"$f":"COUNTIF(Dienstplan!B49:BH49,\"*\"&($A$3)&\"*\")-COUNTIF(Dienstplan!B49:BH49,\"*_\"&($A$3)&\"*\")","v":0},{"$f":"COUNTIF(Dienstplan!B49:BH49,\"*\"&($B$3)&\"*\")-COUNTIF(Dienstplan!B49:BH49,\"*_\"&($B$3)&\"*\")","v":0},{"$f":"COUNTIF(Dienstplan!B49:BH49,\"*\"&($C$3)&\"*\")-COUNTIF(Dienstplan!B49:BH49,\"*_\"&($C$3)&\"*\")","v":0},{"$f":"COUNTIF(Dienstplan!B49:BH49,\"*\"&($D$3)&\"*\")-COUNTIF(Dienstplan!B49:BH49,\"*_\"&($D$3)&\"*\")","v":0},{"$f":"COUNTIF(Dienstplan!B49:BH49,\"*\"&($E$3)&\"*\")-COUNTIF(Dienstplan!B49:BH49,\"*_\"&($E$3)&\"*\")","v":0},{"$f":"COUNTIF(Dienstplan!B49:BH49,\"*\"&($F$3)&\"*\")-COUNTIF(Dienstplan!B49:BH49,\"*_\"&($F$3)&\"*\")","v":0},{"$f":"COUNTIF(Dienstplan!B49:BH49,\"*\"&($G$3)&\"*\")-COUNTIF(Dienstplan!B49:BH49,\"*_\"&($G$3)&\"*\")","v":0},{"$f":"COUNTIF(Dienstplan!B49:BH49,\"*\"&($H$3)&\"*\")-COUNTIF(Dienstplan!B49:BH49,\"*_\"&($H$3)&\"*\")","v":1},{"$f":"COUNTIF(Dienstplan!B49:BH49,\"*\"&($I$3)&\"*\")-COUNTIF(Dienstplan!B49:BH49,\"*_\"&($I$3)&\"*\")","v":1},{"$f":"COUNTIF(Dienstplan!B49:BH49,\"*\"&($J$3)&\"*\")-COUNTIF(Dienstplan!B49:BH49,\"*_\"&($J$3)&\"*\")","v":0},{"$f":"COUNTIF(Dienstplan!B49:BH49,\"*\"&($K$3)&\"*\")-COUNTIF(Dienstplan!B49:BH49,\"*_\"&($K$3)&\"*\")","v":0},{"$f":"COUNTIF(Dienstplan!B49:BH49,\"*\"&($L$3)&\"*\")-COUNTIF(Dienstplan!B49:BH49,\"*_\"&($L$3)&\"*\")","v":1},{"$f":"COUNTIF(Dienstplan!B49:BH49,\"*\"&($M$3)&\"*\")-COUNTIF(Dienstplan!B49:BH49,\"*_\"&($M$3)&\"*\")","v":1},{"$f":"COUNTIF(Dienstplan!B49:BH49,\"*\"&($N$3)&\"*\")-COUNTIF(Dienstplan!B49:BH49,\"*_\"&($N$3)&\"*\")","v":0},{"$f":"COUNTIF(Dienstplan!B49:BH49,\"*\"&($O$3)&\"*\")-COUNTIF(Dienstplan!B49:BH49,\"*_\"&($O$3)&\"*\")","v":0},{"$f":"COUNTIF(Dienstplan!B49:BH49,\"*\"&($P$3)&\"*\")-COUNTIF(Dienstplan!B49:BH49,\"*_\"&($P$3)&\"*\")","v":0},{"$f":"COUNTIF(Dienstplan!B49:BH49,\"*\"&($Q$3)&\"*\")-COUNTIF(Dienstplan!B49:BH49,\"*_\"&($Q$3)&\"*\")","v":0},{"$f":"COUNTIF(Dienstplan!B49:BH49,\"*\"&($R$3)&\"*\")-COUNTIF(Dienstplan!B49:BH49,\"*_\"&($R$3)&\"*\")","v":1},{"$f":"COUNTIF(Dienstplan!B49:BH49,\"*\"&($S$3)&\"*\")-COUNTIF(Dienstplan!B49:BH49,\"*_\"&($S$3)&\"*\")","v":1},{"$f":"COUNTIF(Dienstplan!B49:BH49,\"*\"&($T$3)&\"*\")-COUNTIF(Dienstplan!B49:BH49,\"*_\"&($T$3)&\"*\")","v":0},{"$f":"COUNTIF(Dienstplan!B49:BH49,\"*\"&($U$3)&\"*\")-COUNTIF(Dienstplan!B49:BH49,\"*_\"&($U$3)&\"*\")","v":0},{"$f":"COUNTIF(Dienstplan!B49:BH49,\"*\"&($V$3)&\"*\")-COUNTIF(Dienstplan!B49:BH49,\"*_\"&($V$3)&\"*\")","v":0},{"$f":"COUNTIF(Dienstplan!B49:BH49,\"*\"&($W$3)&\"*\")-COUNTIF(Dienstplan!B49:BH49,\"*_\"&($W$3)&\"*\")","v":0},{"$f":"COUNTIF(Dienstplan!B49:BH49,\"*\"&($X$3)&\"*\")-COUNTIF(Dienstplan!B49:BH49,\"*_\"&($X$3)&\"*\")","v":0},{"$f":"COUNTIF(Dienstplan!B49:BH49,\"*\"&($Y$3)&\"*\")-COUNTIF(Dienstplan!B49:BH49,\"*_\"&($Y$3)&\"*\")","v":0},{"$f":"COUNTIF(Dienstplan!B49:BH49,\"*\"&($Z$3)&\"*\")-COUNTIF(Dienstplan!B49:BH49,\"*_\"&($Z$3)&\"*\")","v":0},{"$f":"COUNTIF(Dienstplan!B49:BH49,\"*\"&($AA$3)&\"*\")-COUNTIF(Dienstplan!B49:BH49,\"*_\"&($AA$3)&\"*\")","v":0},{"$f":"COUNTIF(Dienstplan!B49:BH49,\"*\"&($AB$3)&\"*\")-COUNTIF(Dienstplan!B49:BH49,\"*_\"&($AB$3)&\"*\")","v":0},{"$f":"COUNTIF(Dienstplan!B49:BH49,\"*\"&($AC$3)&\"*\")-COUNTIF(Dienstplan!B49:BH49,\"*_\"&($AC$3)&\"*\")","v":0},{"$f":"COUNTIF(Dienstplan!B49:BH49,\"*\"&($AD$3)&\"*\")-COUNTIF(Dienstplan!B49:BH49,\"*_\"&($AD$3)&\"*\")","v":0},{"$f":"COUNTIF(Dienstplan!B49:BH49,\"*\"&($AE$3)&\"*\")-COUNTIF(Dienstplan!B49:BH49,\"*_\"&($AE$3)&\"*\")","v":0},{"$f":"COUNTIF(Dienstplan!B49:BH49,\"*\"&($AF$3)&\"*\")-COUNTIF(Dienstplan!B49:BH49,\"*_\"&($AF$3)&\"*\")","v":0},{"$f":"COUNTIF(Dienstplan!B49:BH49,\"*\"&($AG$3)&\"*\")-COUNTIF(Dienstplan!B49:BH49,\"*_\"&($AG$3)&\"*\")","v":0},{"$f":"COUNTIF(Dienstplan!B49:BH49,\"*\"&($AH$3)&\"*\")-COUNTIF(Dienstplan!B49:BH49,\"*_\"&($AH$3)&\"*\")","v":0},{"$f":"COUNTIF(Dienstplan!B49:BH49,\"*\"&($AI$3)&\"*\")-COUNTIF(Dienstplan!B49:BH49,\"*_\"&($AI$3)&\"*\")","v":0},{"$f":"COUNTIF(Dienstplan!$B49:$BH49,\"*\"&($AJ$3)&\"*\")-COUNTIF(Dienstplan!$B49:$BH49,\"*_\"&($AJ$3)&\"*\")","v":0}]
[{"$f":"COUNTIF(Dienstplan!B50:BH50,\"*\"&($A$3)&\"*\")-COUNTIF(Dienstplan!B50:BH50,\"*_\"&($A$3)&\"*\")","v":0},{"$f":"COUNTIF(Dienstplan!B50:BH50,\"*\"&($B$3)&\"*\")-COUNTIF(Dienstplan!B50:BH50,\"*_\"&($B$3)&\"*\")","v":0},{"$f":"COUNTIF(Dienstplan!B50:BH50,\"*\"&($C$3)&\"*\")-COUNTIF(Dienstplan!B50:BH50,\"*_\"&($C$3)&\"*\")","v":0},{"$f":"COUNTIF(Dienstplan!B50:BH50,\"*\"&($D$3)&\"*\")-COUNTIF(Dienstplan!B50:BH50,\"*_\"&($D$3)&\"*\")","v":0},{"$f":"COUNTIF(Dienstplan!B50:BH50,\"*\"&($E$3)&\"*\")-COUNTIF(Dienstplan!B50:BH50,\"*_\"&($E$3)&\"*\")","v":0},{"$f":"COUNTIF(Dienstplan!B50:BH50,\"*\"&($F$3)&\"*\")-COUNTIF(Dienstplan!B50:BH50,\"*_\"&($F$3)&\"*\")","v":0},{"$f":"COUNTIF(Dienstplan!B50:BH50,\"*\"&($G$3)&\"*\")-COUNTIF(Dienstplan!B50:BH50,\"*_\"&($G$3)&\"*\")","v":0},{"$f":"COUNTIF(Dienstplan!B50:BH50,\"*\"&($H$3)&\"*\")-COUNTIF(Dienstplan!B50:BH50,\"*_\"&($H$3)&\"*\")","v":0},{"$f":"COUNTIF(Dienstplan!B50:BH50,\"*\"&($I$3)&\"*\")-COUNTIF(Dienstplan!B50:BH50,\"*_\"&($I$3)&\"*\")","v":0},{"$f":"COUNTIF(Dienstplan!B50:BH50,\"*\"&($J$3)&\"*\")-COUNTIF(Dienstplan!B50:BH50,\"*_\"&($J$3)&\"*\")","v":0},{"$f":"COUNTIF(Dienstplan!B50:BH50,\"*\"&($K$3)&\"*\")-COUNTIF(Dienstplan!B50:BH50,\"*_\"&($K$3)&\"*\")","v":0},{"$f":"COUNTIF(Dienstplan!B50:BH50,\"*\"&($L$3)&\"*\")-COUNTIF(Dienstplan!B50:BH50,\"*_\"&($L$3)&\"*\")","v":0},{"$f":"COUNTIF(Dienstplan!B50:BH50,\"*\"&($M$3)&\"*\")-COUNTIF(Dienstplan!B50:BH50,\"*_\"&($M$3)&\"*\")","v":0},{"$f":"COUNTIF(Dienstplan!B50:BH50,\"*\"&($N$3)&\"*\")-COUNTIF(Dienstplan!B50:BH50,\"*_\"&($N$3)&\"*\")","v":0},{"$f":"COUNTIF(Dienstplan!B50:BH50,\"*\"&($O$3)&\"*\")-COUNTIF(Dienstplan!B50:BH50,\"*_\"&($O$3)&\"*\")","v":0},{"$f":"COUNTIF(Dienstplan!B50:BH50,\"*\"&($P$3)&\"*\")-COUNTIF(Dienstplan!B50:BH50,\"*_\"&($P$3)&\"*\")","v":0},{"$f":"COUNTIF(Dienstplan!B50:BH50,\"*\"&($Q$3)&\"*\")-COUNTIF(Dienstplan!B50:BH50,\"*_\"&($Q$3)&\"*\")","v":0},{"$f":"COUNTIF(Dienstplan!B50:BH50,\"*\"&($R$3)&\"*\")-COUNTIF(Dienstplan!B50:BH50,\"*_\"&($R$3)&\"*\")","v":0},{"$f":"COUNTIF(Dienstplan!B50:BH50,\"*\"&($S$3)&\"*\")-COUNTIF(Dienstplan!B50:BH50,\"*_\"&($S$3)&\"*\")","v":0},{"$f":"COUNTIF(Dienstplan!B50:BH50,\"*\"&($T$3)&\"*\")-COUNTIF(Dienstplan!B50:BH50,\"*_\"&($T$3)&\"*\")","v":0},{"$f":"COUNTIF(Dienstplan!B50:BH50,\"*\"&($U$3)&\"*\")-COUNTIF(Dienstplan!B50:BH50,\"*_\"&($U$3)&\"*\")","v":0},{"$f":"COUNTIF(Dienstplan!B50:BH50,\"*\"&($V$3)&\"*\")-COUNTIF(Dienstplan!B50:BH50,\"*_\"&($V$3)&\"*\")","v":0},{"$f":"COUNTIF(Dienstplan!B50:BH50,\"*\"&($W$3)&\"*\")-COUNTIF(Dienstplan!B50:BH50,\"*_\"&($W$3)&\"*\")","v":0},{"$f":"COUNTIF(Dienstplan!B50:BH50,\"*\"&($X$3)&\"*\")-COUNTIF(Dienstplan!B50:BH50,\"*_\"&($X$3)&\"*\")","v":0},{"$f":"COUNTIF(Dienstplan!B50:BH50,\"*\"&($Y$3)&\"*\")-COUNTIF(Dienstplan!B50:BH50,\"*_\"&($Y$3)&\"*\")","v":0},{"$f":"COUNTIF(Dienstplan!B50:BH50,\"*\"&($Z$3)&\"*\")-COUNTIF(Dienstplan!B50:BH50,\"*_\"&($Z$3)&\"*\")","v":0},{"$f":"COUNTIF(Dienstplan!B50:BH50,\"*\"&($AA$3)&\"*\")-COUNTIF(Dienstplan!B50:BH50,\"*_\"&($AA$3)&\"*\")","v":0},{"$f":"COUNTIF(Dienstplan!B50:BH50,\"*\"&($AB$3)&\"*\")-COUNTIF(Dienstplan!B50:BH50,\"*_\"&($AB$3)&\"*\")","v":0},{"$f":"COUNTIF(Dienstplan!B50:BH50,\"*\"&($AC$3)&\"*\")-COUNTIF(Dienstplan!B50:BH50,\"*_\"&($AC$3)&\"*\")","v":0},{"$f":"COUNTIF(Dienstplan!B50:BH50,\"*\"&($AD$3)&\"*\")-COUNTIF(Dienstplan!B50:BH50,\"*_\"&($AD$3)&\"*\")","v":0},{"$f":"COUNTIF(Dienstplan!B50:BH50,\"*\"&($AE$3)&\"*\")-COUNTIF(Dienstplan!B50:BH50,\"*_\"&($AE$3)&\"*\")","v":0},{"$f":"COUNTIF(Dienstplan!B50:BH50,\"*\"&($AF$3)&\"*\")-COUNTIF(Dienstplan!B50:BH50,\"*_\"&($AF$3)&\"*\")","v":0},{"$f":"COUNTIF(Dienstplan!B50:BH50,\"*\"&($AG$3)&\"*\")-COUNTIF(Dienstplan!B50:BH50,\"*_\"&($AG$3)&\"*\")","v":0},{"$f":"COUNTIF(Dienstplan!B50:BH50,\"*\"&($AH$3)&\"*\")-COUNTIF(Dienstplan!B50:BH50,\"*_\"&($AH$3)&\"*\")","v":0},{"$f":"COUNTIF(Dienstplan!B50:BH50,\"*\"&($AI$3)&\"*\")-COUNTIF(Dienstplan!B50:BH50,\"*_\"&($AI$3)&\"*\")","v":0},{"$f":"COUNTIF(Dienstplan!$B50:$BH50,\"*\"&($AJ$3)&\"*\")-COUNTIF(Dienstplan!$B50:$BH50,\"*_\"&($AJ$3)&\"*\")","v":0}]
[{"$f":"COUNTIF(Dienstplan!B51:BH51,\"*\"&($A$3)&\"*\")-COUNTIF(Dienstplan!B51:BH51,\"*_\"&($A$3)&\"*\")","v":0},{"$f":"COUNTIF(Dienstplan!B51:BH51,\"*\"&($B$3)&\"*\")-COUNTIF(Dienstplan!B51:BH51,\"*_\"&($B$3)&\"*\")","v":0},{"$f":"COUNTIF(Dienstplan!B51:BH51,\"*\"&($C$3)&\"*\")-COUNTIF(Dienstplan!B51:BH51,\"*_\"&($C$3)&\"*\")","v":0},{"$f":"COUNTIF(Dienstplan!B51:BH51,\"*\"&($D$3)&\"*\")-COUNTIF(Dienstplan!B51:BH51,\"*_\"&($D$3)&\"*\")","v":0},{"$f":"COUNTIF(Dienstplan!B51:BH51,\"*\"&($E$3)&\"*\")-COUNTIF(Dienstplan!B51:BH51,\"*_\"&($E$3)&\"*\")","v":0},{"$f":"COUNTIF(Dienstplan!B51:BH51,\"*\"&($F$3)&\"*\")-COUNTIF(Dienstplan!B51:BH51,\"*_\"&($F$3)&\"*\")","v":0},{"$f":"COUNTIF(Dienstplan!B51:BH51,\"*\"&($G$3)&\"*\")-COUNTIF(Dienstplan!B51:BH51,\"*_\"&($G$3)&\"*\")","v":0},{"$f":"COUNTIF(Dienstplan!B51:BH51,\"*\"&($H$3)&\"*\")-COUNTIF(Dienstplan!B51:BH51,\"*_\"&($H$3)&\"*\")","v":0},{"$f":"COUNTIF(Dienstplan!B51:BH51,\"*\"&($I$3)&\"*\")-COUNTIF(Dienstplan!B51:BH51,\"*_\"&($I$3)&\"*\")","v":0},{"$f":"COUNTIF(Dienstplan!B51:BH51,\"*\"&($J$3)&\"*\")-COUNTIF(Dienstplan!B51:BH51,\"*_\"&($J$3)&\"*\")","v":0},{"$f":"COUNTIF(Dienstplan!B51:BH51,\"*\"&($K$3)&\"*\")-COUNTIF(Dienstplan!B51:BH51,\"*_\"&($K$3)&\"*\")","v":0},{"$f":"COUNTIF(Dienstplan!B51:BH51,\"*\"&($L$3)&\"*\")-COUNTIF(Dienstplan!B51:BH51,\"*_\"&($L$3)&\"*\")","v":0},{"$f":"COUNTIF(Dienstplan!B51:BH51,\"*\"&($M$3)&\"*\")-COUNTIF(Dienstplan!B51:BH51,\"*_\"&($M$3)&\"*\")","v":0},{"$f":"COUNTIF(Dienstplan!B51:BH51,\"*\"&($N$3)&\"*\")-COUNTIF(Dienstplan!B51:BH51,\"*_\"&($N$3)&\"*\")","v":0},{"$f":"COUNTIF(Dienstplan!B51:BH51,\"*\"&($O$3)&\"*\")-COUNTIF(Dienstplan!B51:BH51,\"*_\"&($O$3)&\"*\")","v":0},{"$f":"COUNTIF(Dienstplan!B51:BH51,\"*\"&($P$3)&\"*\")-COUNTIF(Dienstplan!B51:BH51,\"*_\"&($P$3)&\"*\")","v":0},{"$f":"COUNTIF(Dienstplan!B51:BH51,\"*\"&($Q$3)&\"*\")-COUNTIF(Dienstplan!B51:BH51,\"*_\"&($Q$3)&\"*\")","v":0},{"$f":"COUNTIF(Dienstplan!B51:BH51,\"*\"&($R$3)&\"*\")-COUNTIF(Dienstplan!B51:BH51,\"*_\"&($R$3)&\"*\")","v":0},{"$f":"COUNTIF(Dienstplan!B51:BH51,\"*\"&($S$3)&\"*\")-COUNTIF(Dienstplan!B51:BH51,\"*_\"&($S$3)&\"*\")","v":0},{"$f":"COUNTIF(Dienstplan!B51:BH51,\"*\"&($T$3)&\"*\")-COUNTIF(Dienstplan!B51:BH51,\"*_\"&($T$3)&\"*\")","v":0},{"$f":"COUNTIF(Dienstplan!B51:BH51,\"*\"&($U$3)&\"*\")-COUNTIF(Dienstplan!B51:BH51,\"*_\"&($U$3)&\"*\")","v":0},{"$f":"COUNTIF(Dienstplan!B51:BH51,\"*\"&($V$3)&\"*\")-COUNTIF(Dienstplan!B51:BH51,\"*_\"&($V$3)&\"*\")","v":0},{"$f":"COUNTIF(Dienstplan!B51:BH51,\"*\"&($W$3)&\"*\")-COUNTIF(Dienstplan!B51:BH51,\"*_\"&($W$3)&\"*\")","v":0},{"$f":"COUNTIF(Dienstplan!B51:BH51,\"*\"&($X$3)&\"*\")-COUNTIF(Dienstplan!B51:BH51,\"*_\"&($X$3)&\"*\")","v":0},{"$f":"COUNTIF(Dienstplan!B51:BH51,\"*\"&($Y$3)&\"*\")-COUNTIF(Dienstplan!B51:BH51,\"*_\"&($Y$3)&\"*\")","v":0},{"$f":"COUNTIF(Dienstplan!B51:BH51,\"*\"&($Z$3)&\"*\")-COUNTIF(Dienstplan!B51:BH51,\"*_\"&($Z$3)&\"*\")","v":0},{"$f":"COUNTIF(Dienstplan!B51:BH51,\"*\"&($AA$3)&\"*\")-COUNTIF(Dienstplan!B51:BH51,\"*_\"&($AA$3)&\"*\")","v":0},{"$f":"COUNTIF(Dienstplan!B51:BH51,\"*\"&($AB$3)&\"*\")-COUNTIF(Dienstplan!B51:BH51,\"*_\"&($AB$3)&\"*\")","v":0},{"$f":"COUNTIF(Dienstplan!B51:BH51,\"*\"&($AC$3)&\"*\")-COUNTIF(Dienstplan!B51:BH51,\"*_\"&($AC$3)&\"*\")","v":0},{"$f":"COUNTIF(Dienstplan!B51:BH51,\"*\"&($AD$3)&\"*\")-COUNTIF(Dienstplan!B51:BH51,\"*_\"&($AD$3)&\"*\")","v":0},{"$f":"COUNTIF(Dienstplan!B51:BH51,\"*\"&($AE$3)&\"*\")-COUNTIF(Dienstplan!B51:BH51,\"*_\"&($AE$3)&\"*\")","v":0},{"$f":"COUNTIF(Dienstplan!B51:BH51,\"*\"&($AF$3)&\"*\")-COUNTIF(Dienstplan!B51:BH51,\"*_\"&($AF$3)&\"*\")","v":0},{"$f":"COUNTIF(Dienstplan!B51:BH51,\"*\"&($AG$3)&\"*\")-COUNTIF(Dienstplan!B51:BH51,\"*_\"&($AG$3)&\"*\")","v":0},{"$f":"COUNTIF(Dienstplan!B51:BH51,\"*\"&($AH$3)&\"*\")-COUNTIF(Dienstplan!B51:BH51,\"*_\"&($AH$3)&\"*\")","v":0},{"$f":"COUNTIF(Dienstplan!B51:BH51,\"*\"&($AI$3)&\"*\")-COUNTIF(Dienstplan!B51:BH51,\"*_\"&($AI$3)&\"*\")","v":0},{"$f":"COUNTIF(Dienstplan!$B51:$BH51,\"*\"&($AJ$3)&\"*\")-COUNTIF(Dienstplan!$B51:$BH51,\"*_\"&($AJ$3)&\"*\")","v":0}]
[{"$f":"COUNTIF(Dienstplan!B52:BH52,\"*\"&($A$3)&\"*\")-COUNTIF(Dienstplan!B52:BH52,\"*_\"&($A$3)&\"*\")","v":0},{"$f":"COUNTIF(Dienstplan!B52:BH52,\"*\"&($B$3)&\"*\")-COUNTIF(Dienstplan!B52:BH52,\"*_\"&($B$3)&\"*\")","v":0},{"$f":"COUNTIF(Dienstplan!B52:BH52,\"*\"&($C$3)&\"*\")-COUNTIF(Dienstplan!B52:BH52,\"*_\"&($C$3)&\"*\")","v":0},{"$f":"COUNTIF(Dienstplan!B52:BH52,\"*\"&($D$3)&\"*\")-COUNTIF(Dienstplan!B52:BH52,\"*_\"&($D$3)&\"*\")","v":0},{"$f":"COUNTIF(Dienstplan!B52:BH52,\"*\"&($E$3)&\"*\")-COUNTIF(Dienstplan!B52:BH52,\"*_\"&($E$3)&\"*\")","v":0},{"$f":"COUNTIF(Dienstplan!B52:BH52,\"*\"&($F$3)&\"*\")-COUNTIF(Dienstplan!B52:BH52,\"*_\"&($F$3)&\"*\")","v":0},{"$f":"COUNTIF(Dienstplan!B52:BH52,\"*\"&($G$3)&\"*\")-COUNTIF(Dienstplan!B52:BH52,\"*_\"&($G$3)&\"*\")","v":0},{"$f":"COUNTIF(Dienstplan!B52:BH52,\"*\"&($H$3)&\"*\")-COUNTIF(Dienstplan!B52:BH52,\"*_\"&($H$3)&\"*\")","v":0},{"$f":"COUNTIF(Dienstplan!B52:BH52,\"*\"&($I$3)&\"*\")-COUNTIF(Dienstplan!B52:BH52,\"*_\"&($I$3)&\"*\")","v":0},{"$f":"COUNTIF(Dienstplan!B52:BH52,\"*\"&($J$3)&\"*\")-COUNTIF(Dienstplan!B52:BH52,\"*_\"&($J$3)&\"*\")","v":0},{"$f":"COUNTIF(Dienstplan!B52:BH52,\"*\"&($K$3)&\"*\")-COUNTIF(Dienstplan!B52:BH52,\"*_\"&($K$3)&\"*\")","v":0},{"$f":"COUNTIF(Dienstplan!B52:BH52,\"*\"&($L$3)&\"*\")-COUNTIF(Dienstplan!B52:BH52,\"*_\"&($L$3)&\"*\")","v":0},{"$f":"COUNTIF(Dienstplan!B52:BH52,\"*\"&($M$3)&\"*\")-COUNTIF(Dienstplan!B52:BH52,\"*_\"&($M$3)&\"*\")","v":0},{"$f":"COUNTIF(Dienstplan!B52:BH52,\"*\"&($N$3)&\"*\")-COUNTIF(Dienstplan!B52:BH52,\"*_\"&($N$3)&\"*\")","v":0},{"$f":"COUNTIF(Dienstplan!B52:BH52,\"*\"&($O$3)&\"*\")-COUNTIF(Dienstplan!B52:BH52,\"*_\"&($O$3)&\"*\")","v":0},{"$f":"COUNTIF(Dienstplan!B52:BH52,\"*\"&($P$3)&\"*\")-COUNTIF(Dienstplan!B52:BH52,\"*_\"&($P$3)&\"*\")","v":0},{"$f":"COUNTIF(Dienstplan!B52:BH52,\"*\"&($Q$3)&\"*\")-COUNTIF(Dienstplan!B52:BH52,\"*_\"&($Q$3)&\"*\")","v":0},{"$f":"COUNTIF(Dienstplan!B52:BH52,\"*\"&($R$3)&\"*\")-COUNTIF(Dienstplan!B52:BH52,\"*_\"&($R$3)&\"*\")","v":0},{"$f":"COUNTIF(Dienstplan!B52:BH52,\"*\"&($S$3)&\"*\")-COUNTIF(Dienstplan!B52:BH52,\"*_\"&($S$3)&\"*\")","v":0},{"$f":"COUNTIF(Dienstplan!B52:BH52,\"*\"&($T$3)&\"*\")-COUNTIF(Dienstplan!B52:BH52,\"*_\"&($T$3)&\"*\")","v":0},{"$f":"COUNTIF(Dienstplan!B52:BH52,\"*\"&($U$3)&\"*\")-COUNTIF(Dienstplan!B52:BH52,\"*_\"&($U$3)&\"*\")","v":0},{"$f":"COUNTIF(Dienstplan!B52:BH52,\"*\"&($V$3)&\"*\")-COUNTIF(Dienstplan!B52:BH52,\"*_\"&($V$3)&\"*\")","v":0},{"$f":"COUNTIF(Dienstplan!B52:BH52,\"*\"&($W$3)&\"*\")-COUNTIF(Dienstplan!B52:BH52,\"*_\"&($W$3)&\"*\")","v":0},{"$f":"COUNTIF(Dienstplan!B52:BH52,\"*\"&($X$3)&\"*\")-COUNTIF(Dienstplan!B52:BH52,\"*_\"&($X$3)&\"*\")","v":0},{"$f":"COUNTIF(Dienstplan!B52:BH52,\"*\"&($Y$3)&\"*\")-COUNTIF(Dienstplan!B52:BH52,\"*_\"&($Y$3)&\"*\")","v":0},{"$f":"COUNTIF(Dienstplan!B52:BH52,\"*\"&($Z$3)&\"*\")-COUNTIF(Dienstplan!B52:BH52,\"*_\"&($Z$3)&\"*\")","v":0},{"$f":"COUNTIF(Dienstplan!B52:BH52,\"*\"&($AA$3)&\"*\")-COUNTIF(Dienstplan!B52:BH52,\"*_\"&($AA$3)&\"*\")","v":0},{"$f":"COUNTIF(Dienstplan!B52:BH52,\"*\"&($AB$3)&\"*\")-COUNTIF(Dienstplan!B52:BH52,\"*_\"&($AB$3)&\"*\")","v":0},{"$f":"COUNTIF(Dienstplan!B52:BH52,\"*\"&($AC$3)&\"*\")-COUNTIF(Dienstplan!B52:BH52,\"*_\"&($AC$3)&\"*\")","v":0},{"$f":"COUNTIF(Dienstplan!B52:BH52,\"*\"&($AD$3)&\"*\")-COUNTIF(Dienstplan!B52:BH52,\"*_\"&($AD$3)&\"*\")","v":0},{"$f":"COUNTIF(Dienstplan!B52:BH52,\"*\"&($AE$3)&\"*\")-COUNTIF(Dienstplan!B52:BH52,\"*_\"&($AE$3)&\"*\")","v":0},{"$f":"COUNTIF(Dienstplan!B52:BH52,\"*\"&($AF$3)&\"*\")-COUNTIF(Dienstplan!B52:BH52,\"*_\"&($AF$3)&\"*\")","v":0},{"$f":"COUNTIF(Dienstplan!B52:BH52,\"*\"&($AG$3)&\"*\")-COUNTIF(Dienstplan!B52:BH52,\"*_\"&($AG$3)&\"*\")","v":0},{"$f":"COUNTIF(Dienstplan!B52:BH52,\"*\"&($AH$3)&\"*\")-COUNTIF(Dienstplan!B52:BH52,\"*_\"&($AH$3)&\"*\")","v":0},{"$f":"COUNTIF(Dienstplan!B52:BH52,\"*\"&($AI$3)&\"*\")-COUNTIF(Dienstplan!B52:BH52,\"*_\"&($AI$3)&\"*\")","v":0},{"$f":"COUNTIF(Dienstplan!$B52:$BH52,\"*\"&($AJ$3)&\"*\")-COUNTIF(Dienstplan!$B52:$BH52,\"*_\"&($AJ$3)&\"*\")","v":0}]
[{"$f":"COUNTIF(Dienstplan!B53:BH53,\"*\"&($A$3)&\"*\")-COUNTIF(Dienstplan!B53:BH53,\"*_\"&($A$3)&\"*\")","v":0},{"$f":"COUNTIF(Dienstplan!B53:BH53,\"*\"&($B$3)&\"*\")-COUNTIF(Dienstplan!B53:BH53,\"*_\"&($B$3)&\"*\")","v":0},{"$f":"COUNTIF(Dienstplan!B53:BH53,\"*\"&($C$3)&\"*\")-COUNTIF(Dienstplan!B53:BH53,\"*_\"&($C$3)&\"*\")","v":0},{"$f":"COUNTIF(Dienstplan!B53:BH53,\"*\"&($D$3)&\"*\")-COUNTIF(Dienstplan!B53:BH53,\"*_\"&($D$3)&\"*\")","v":0},{"$f":"COUNTIF(Dienstplan!B53:BH53,\"*\"&($E$3)&\"*\")-COUNTIF(Dienstplan!B53:BH53,\"*_\"&($E$3)&\"*\")","v":0},{"$f":"COUNTIF(Dienstplan!B53:BH53,\"*\"&($F$3)&\"*\")-COUNTIF(Dienstplan!B53:BH53,\"*_\"&($F$3)&\"*\")","v":0},{"$f":"COUNTIF(Dienstplan!B53:BH53,\"*\"&($G$3)&\"*\")-COUNTIF(Dienstplan!B53:BH53,\"*_\"&($G$3)&\"*\")","v":0},{"$f":"COUNTIF(Dienstplan!B53:BH53,\"*\"&($H$3)&\"*\")-COUNTIF(Dienstplan!B53:BH53,\"*_\"&($H$3)&\"*\")","v":0},{"$f":"COUNTIF(Dienstplan!B53:BH53,\"*\"&($I$3)&\"*\")-COUNTIF(Dienstplan!B53:BH53,\"*_\"&($I$3)&\"*\")","v":0},{"$f":"COUNTIF(Dienstplan!B53:BH53,\"*\"&($J$3)&\"*\")-COUNTIF(Dienstplan!B53:BH53,\"*_\"&($J$3)&\"*\")","v":0},{"$f":"COUNTIF(Dienstplan!B53:BH53,\"*\"&($K$3)&\"*\")-COUNTIF(Dienstplan!B53:BH53,\"*_\"&($K$3)&\"*\")","v":0},{"$f":"COUNTIF(Dienstplan!B53:BH53,\"*\"&($L$3)&\"*\")-COUNTIF(Dienstplan!B53:BH53,\"*_\"&($L$3)&\"*\")","v":0},{"$f":"COUNTIF(Dienstplan!B53:BH53,\"*\"&($M$3)&\"*\")-COUNTIF(Dienstplan!B53:BH53,\"*_\"&($M$3)&\"*\")","v":0},{"$f":"COUNTIF(Dienstplan!B53:BH53,\"*\"&($N$3)&\"*\")-COUNTIF(Dienstplan!B53:BH53,\"*_\"&($N$3)&\"*\")","v":0},{"$f":"COUNTIF(Dienstplan!B53:BH53,\"*\"&($O$3)&\"*\")-COUNTIF(Dienstplan!B53:BH53,\"*_\"&($O$3)&\"*\")","v":0},{"$f":"COUNTIF(Dienstplan!B53:BH53,\"*\"&($P$3)&\"*\")-COUNTIF(Dienstplan!B53:BH53,\"*_\"&($P$3)&\"*\")","v":0},{"$f":"COUNTIF(Dienstplan!B53:BH53,\"*\"&($Q$3)&\"*\")-COUNTIF(Dienstplan!B53:BH53,\"*_\"&($Q$3)&\"*\")","v":0},{"$f":"COUNTIF(Dienstplan!B53:BH53,\"*\"&($R$3)&\"*\")-COUNTIF(Dienstplan!B53:BH53,\"*_\"&($R$3)&\"*\")","v":0},{"$f":"COUNTIF(Dienstplan!B53:BH53,\"*\"&($S$3)&\"*\")-COUNTIF(Dienstplan!B53:BH53,\"*_\"&($S$3)&\"*\")","v":0},{"$f":"COUNTIF(Dienstplan!B53:BH53,\"*\"&($T$3)&\"*\")-COUNTIF(Dienstplan!B53:BH53,\"*_\"&($T$3)&\"*\")","v":0},{"$f":"COUNTIF(Dienstplan!B53:BH53,\"*\"&($U$3)&\"*\")-COUNTIF(Dienstplan!B53:BH53,\"*_\"&($U$3)&\"*\")","v":0},{"$f":"COUNTIF(Dienstplan!B53:BH53,\"*\"&($V$3)&\"*\")-COUNTIF(Dienstplan!B53:BH53,\"*_\"&($V$3)&\"*\")","v":0},{"$f":"COUNTIF(Dienstplan!B53:BH53,\"*\"&($W$3)&\"*\")-COUNTIF(Dienstplan!B53:BH53,\"*_\"&($W$3)&\"*\")","v":0},{"$f":"COUNTIF(Dienstplan!B53:BH53,\"*\"&($X$3)&\"*\")-COUNTIF(Dienstplan!B53:BH53,\"*_\"&($X$3)&\"*\")","v":0},{"$f":"COUNTIF(Dienstplan!B53:BH53,\"*\"&($Y$3)&\"*\")-COUNTIF(Dienstplan!B53:BH53,\"*_\"&($Y$3)&\"*\")","v":0},{"$f":"COUNTIF(Dienstplan!B53:BH53,\"*\"&($Z$3)&\"*\")-COUNTIF(Dienstplan!B53:BH53,\"*_\"&($Z$3)&\"*\")","v":0},{"$f":"COUNTIF(Dienstplan!B53:BH53,\"*\"&($AA$3)&\"*\")-COUNTIF(Dienstplan!B53:BH53,\"*_\"&($AA$3)&\"*\")","v":0},{"$f":"COUNTIF(Dienstplan!B53:BH53,\"*\"&($AB$3)&\"*\")-COUNTIF(Dienstplan!B53:BH53,\"*_\"&($AB$3)&\"*\")","v":0},{"$f":"COUNTIF(Dienstplan!B53:BH53,\"*\"&($AC$3)&\"*\")-COUNTIF(Dienstplan!B53:BH53,\"*_\"&($AC$3)&\"*\")","v":0},{"$f":"COUNTIF(Dienstplan!B53:BH53,\"*\"&($AD$3)&\"*\")-COUNTIF(Dienstplan!B53:BH53,\"*_\"&($AD$3)&\"*\")","v":0},{"$f":"COUNTIF(Dienstplan!B53:BH53,\"*\"&($AE$3)&\"*\")-COUNTIF(Dienstplan!B53:BH53,\"*_\"&($AE$3)&\"*\")","v":0},{"$f":"COUNTIF(Dienstplan!B53:BH53,\"*\"&($AF$3)&\"*\")-COUNTIF(Dienstplan!B53:BH53,\"*_\"&($AF$3)&\"*\")","v":0},{"$f":"COUNTIF(Dienstplan!B53:BH53,\"*\"&($AG$3)&\"*\")-COUNTIF(Dienstplan!B53:BH53,\"*_\"&($AG$3)&\"*\")","v":0},{"$f":"COUNTIF(Dienstplan!B53:BH53,\"*\"&($AH$3)&\"*\")-COUNTIF(Dienstplan!B53:BH53,\"*_\"&($AH$3)&\"*\")","v":0},{"$f":"COUNTIF(Dienstplan!B53:BH53,\"*\"&($AI$3)&\"*\")-COUNTIF(Dienstplan!B53:BH53,\"*_\"&($AI$3)&\"*\")","v":0},{"$f":"COUNTIF(Dienstplan!$B53:$BH53,\"*\"&($AJ$3)&\"*\")-COUNTIF(Dienstplan!$B53:$BH53,\"*_\"&($AJ$3)&\"*\")","v":0}]
[{"$f":"COUNTIF(Dienstplan!B54:BH54,\"*\"&($A$3)&\"*\")-COUNTIF(Dienstplan!B54:BH54,\"*_\"&($A$3)&\"*\")","v":0},{"$f":"COUNTIF(Dienstplan!B54:BH54,\"*\"&($B$3)&\"*\")-COUNTIF(Dienstplan!B54:BH54,\"*_\"&($B$3)&\"*\")","v":0},{"$f":"COUNTIF(Dienstplan!B54:BH54,\"*\"&($C$3)&\"*\")-COUNTIF(Dienstplan!B54:BH54,\"*_\"&($C$3)&\"*\")","v":0},{"$f":"COUNTIF(Dienstplan!B54:BH54,\"*\"&($D$3)&\"*\")-COUNTIF(Dienstplan!B54:BH54,\"*_\"&($D$3)&\"*\")","v":0},{"$f":"COUNTIF(Dienstplan!B54:BH54,\"*\"&($E$3)&\"*\")-COUNTIF(Dienstplan!B54:BH54,\"*_\"&($E$3)&\"*\")","v":0},{"$f":"COUNTIF(Dienstplan!B54:BH54,\"*\"&($F$3)&\"*\")-COUNTIF(Dienstplan!B54:BH54,\"*_\"&($F$3)&\"*\")","v":0},{"$f":"COUNTIF(Dienstplan!B54:BH54,\"*\"&($G$3)&\"*\")-COUNTIF(Dienstplan!B54:BH54,\"*_\"&($G$3)&\"*\")","v":0},{"$f":"COUNTIF(Dienstplan!B54:BH54,\"*\"&($H$3)&\"*\")-COUNTIF(Dienstplan!B54:BH54,\"*_\"&($H$3)&\"*\")","v":0},{"$f":"COUNTIF(Dienstplan!B54:BH54,\"*\"&($I$3)&\"*\")-COUNTIF(Dienstplan!B54:BH54,\"*_\"&($I$3)&\"*\")","v":0},{"$f":"COUNTIF(Dienstplan!B54:BH54,\"*\"&($J$3)&\"*\")-COUNTIF(Dienstplan!B54:BH54,\"*_\"&($J$3)&\"*\")","v":0},{"$f":"COUNTIF(Dienstplan!B54:BH54,\"*\"&($K$3)&\"*\")-COUNTIF(Dienstplan!B54:BH54,\"*_\"&($K$3)&\"*\")","v":0},{"$f":"COUNTIF(Dienstplan!B54:BH54,\"*\"&($L$3)&\"*\")-COUNTIF(Dienstplan!B54:BH54,\"*_\"&($L$3)&\"*\")","v":0},{"$f":"COUNTIF(Dienstplan!B54:BH54,\"*\"&($M$3)&\"*\")-COUNTIF(Dienstplan!B54:BH54,\"*_\"&($M$3)&\"*\")","v":0},{"$f":"COUNTIF(Dienstplan!B54:BH54,\"*\"&($N$3)&\"*\")-COUNTIF(Dienstplan!B54:BH54,\"*_\"&($N$3)&\"*\")","v":0},{"$f":"COUNTIF(Dienstplan!B54:BH54,\"*\"&($O$3)&\"*\")-COUNTIF(Dienstplan!B54:BH54,\"*_\"&($O$3)&\"*\")","v":0},{"$f":"COUNTIF(Dienstplan!B54:BH54,\"*\"&($P$3)&\"*\")-COUNTIF(Dienstplan!B54:BH54,\"*_\"&($P$3)&\"*\")","v":0},{"$f":"COUNTIF(Dienstplan!B54:BH54,\"*\"&($Q$3)&\"*\")-COUNTIF(Dienstplan!B54:BH54,\"*_\"&($Q$3)&\"*\")","v":0},{"$f":"COUNTIF(Dienstplan!B54:BH54,\"*\"&($R$3)&\"*\")-COUNTIF(Dienstplan!B54:BH54,\"*_\"&($R$3)&\"*\")","v":0},{"$f":"COUNTIF(Dienstplan!B54:BH54,\"*\"&($S$3)&\"*\")-COUNTIF(Dienstplan!B54:BH54,\"*_\"&($S$3)&\"*\")","v":0},{"$f":"COUNTIF(Dienstplan!B54:BH54,\"*\"&($T$3)&\"*\")-COUNTIF(Dienstplan!B54:BH54,\"*_\"&($T$3)&\"*\")","v":0},{"$f":"COUNTIF(Dienstplan!B54:BH54,\"*\"&($U$3)&\"*\")-COUNTIF(Dienstplan!B54:BH54,\"*_\"&($U$3)&\"*\")","v":0},{"$f":"COUNTIF(Dienstplan!B54:BH54,\"*\"&($V$3)&\"*\")-COUNTIF(Dienstplan!B54:BH54,\"*_\"&($V$3)&\"*\")","v":0},{"$f":"COUNTIF(Dienstplan!B54:BH54,\"*\"&($W$3)&\"*\")-COUNTIF(Dienstplan!B54:BH54,\"*_\"&($W$3)&\"*\")","v":0},{"$f":"COUNTIF(Dienstplan!B54:BH54,\"*\"&($X$3)&\"*\")-COUNTIF(Dienstplan!B54:BH54,\"*_\"&($X$3)&\"*\")","v":0},{"$f":"COUNTIF(Dienstplan!B54:BH54,\"*\"&($Y$3)&\"*\")-COUNTIF(Dienstplan!B54:BH54,\"*_\"&($Y$3)&\"*\")","v":0},{"$f":"COUNTIF(Dienstplan!B54:BH54,\"*\"&($Z$3)&\"*\")-COUNTIF(Dienstplan!B54:BH54,\"*_\"&($Z$3)&\"*\")","v":0},{"$f":"COUNTIF(Dienstplan!B54:BH54,\"*\"&($AA$3)&\"*\")-COUNTIF(Dienstplan!B54:BH54,\"*_\"&($AA$3)&\"*\")","v":0},{"$f":"COUNTIF(Dienstplan!B54:BH54,\"*\"&($AB$3)&\"*\")-COUNTIF(Dienstplan!B54:BH54,\"*_\"&($AB$3)&\"*\")","v":0},{"$f":"COUNTIF(Dienstplan!B54:BH54,\"*\"&($AC$3)&\"*\")-COUNTIF(Dienstplan!B54:BH54,\"*_\"&($AC$3)&\"*\")","v":0},{"$f":"COUNTIF(Dienstplan!B54:BH54,\"*\"&($AD$3)&\"*\")-COUNTIF(Dienstplan!B54:BH54,\"*_\"&($AD$3)&\"*\")","v":0},{"$f":"COUNTIF(Dienstplan!B54:BH54,\"*\"&($AE$3)&\"*\")-COUNTIF(Dienstplan!B54:BH54,\"*_\"&($AE$3)&\"*\")","v":0},{"$f":"COUNTIF(Dienstplan!B54:BH54,\"*\"&($AF$3)&\"*\")-COUNTIF(Dienstplan!B54:BH54,\"*_\"&($AF$3)&\"*\")","v":0},{"$f":"COUNTIF(Dienstplan!B54:BH54,\"*\"&($AG$3)&\"*\")-COUNTIF(Dienstplan!B54:BH54,\"*_\"&($AG$3)&\"*\")","v":0},{"$f":"COUNTIF(Dienstplan!B54:BH54,\"*\"&($AH$3)&\"*\")-COUNTIF(Dienstplan!B54:BH54,\"*_\"&($AH$3)&\"*\")","v":0},{"$f":"COUNTIF(Dienstplan!B54:BH54,\"*\"&($AI$3)&\"*\")-COUNTIF(Dienstplan!B54:BH54,\"*_\"&($AI$3)&\"*\")","v":0},{"$f":"COUNTIF(Dienstplan!$B54:$BH54,\"*\"&($AJ$3)&\"*\")-COUNTIF(Dienstplan!$B54:$BH54,\"*_\"&($AJ$3)&\"*\")","v":0}]

{"sheet":"Plan Aufsicht","index":6,"n_rows":56,"n_cols":11,"rows_kept":56,"cut":false,"hidden":false,"merged":[]}
["Name","Stunden","Anteile","gerundet","Schwimmen","früh","groß","Angebot","klein","Vertretung","Summe"]
[{"$f":"Lehrerdaten!A7","v":"DuBois"},{"$f":"Lehrerdaten!E7","v":8},{"$f":"PRODUCT(B2,0.14)","v":1.1200000000000001},{"$f":"ROUND(C2,0)","v":1},null,null,2,null,null,1,{"$f":"SUM(E2:J2)","v":3}]
[{"$f":"Lehrerdaten!A8","v":"Brass"},{"$f":"Lehrerdaten!E8","v":9},1.2600000000000002,0,null,null,null,null,null,null,0]
[{"$f":"Lehrerdaten!A9","v":"Westerboer"},{"$f":"Lehrerdaten!E9","v":20},2.8000000000000003,{"$f":"ROUND(C4,0)","v":3},null,null,2,null,1,null,3]
[{"$f":"Lehrerdaten!A10","v":"van_Ooyen"},{"$f":"Lehrerdaten!E10","v":28},3.9200000000000004,4,null,null,2,null,1,null,3]
[{"$f":"Lehrerdaten!A11","v":"Haschemi"},{"$f":"Lehrerdaten!E11","v":28},3.9200000000000004,4,null,null,null,2,1,1,4]
[{"$f":"Lehrerdaten!A12","v":"Yasar"},{"$f":"Lehrerdaten!E12","v":18},2.5200000000000005,3,3,null,null,null,null,null,3]
[{"$f":"Lehrerdaten!A13","v":"Strehlke"},{"$f":"Lehrerdaten!E13","v":22},3.08,3,null,null,null,2,1,1,4]
[{"$f":"Lehrerdaten!A14","v":"Elit-Schulte"},{"$f":"Lehrerdaten!E14","v":27},3.7800000000000002,4,null,null,2,null,null,null,2]
[{"$f":"Lehrerdaten!A15","v":"Schneider"},{"$f":"Lehrerdaten!E15","v":27},3.7800000000000002,4,null,null,null,null,null,null,0]
[{"$f":"Lehrerdaten!A16","v":"Krebs-Deilmann"},{"$f":"Lehrerdaten!E16","v":9},1.2600000000000002,1,null,null,null,null,null,null,0]
[{"$f":"Lehrerdaten!A17","v":"Fischer"},{"$f":"Lehrerdaten!E17","v":28},3.9200000000000004,4,null,1,2,null,null,1,4]
[{"$f":"Lehrerdaten!A18","v":"Braun"},{"$f":"Lehrerdaten!E18","v":14},1.9600000000000002,2,null,null,2,null,null,1,3]
[{"$f":"Lehrerdaten!A19","v":"Meyer"},{"$f":"Lehrerdaten!E19","v":24},3.3600000000000003,3,null,null,null,null,null,null,0]
[{"$f":"Lehrerdaten!A20","v":"Lühr"},{"$f":"Lehrerdaten!E20","v":20},2.8000000000000003,3,null,null,null,2,null,null,2]
[{"$f":"Lehrerdaten!A21","v":"Schöttke"},{"$f":"Lehrerdaten!E21","v":28},3.9200000000000004,4,null,1,2,null,null,null,3]
[{"$f":"Lehrerdaten!A22","v":"Dölling"},{"$f":"Lehrerdaten!E22","v":-81},-11.340000000000002,-11,null,null,2,null,null,1,3]
[{"$f":"Lehrerdaten!A23","v":"Klapheck"},{"$f":"Lehrerdaten!E23","v":-74},-10.360000000000001,-10,null,null,2,null,null,1,3]
[{"$f":"Lehrerdaten!A24","v":"Flormann"},{"$f":"Lehrerdaten!E24","v":28},3.9200000000000004,4,null,null,2,null,1,1,4]
[{"$f":"Lehrerdaten!A25","v":"Doganyildiz"},{"$f":"Lehrerdaten!E25","v":4},0.56000000000000005,1,null,null,2,null,1,null,3]
[{"$f":"Lehrerdaten!A26","v":0},{"$f":"Lehrerdaten!E26","v":0},0,0,null,null,null,null,null,null,0]
[{"$f":"Lehrerdaten!A27","v":0},{"$f":"Lehrerdaten!E27","v":0},0,0,3,null,null,null,null,1,4]
[{"$f":"Lehrerdaten!A28","v":0},{"$f":"Lehrerdaten!E28","v":0},0,0,null,1,2,null,null,1,4]
[{"$f":"Lehrerdaten!A29","v":0},{"$f":"Lehrerdaten!E29","v":0},0,0,null,null,2,null,1,null,3]
[{"$f":"Lehrerdaten!A30","v":0},{"$f":"Lehrerdaten!E30","v":0},0,0,null,null,null,null,null,null,0]
[{"$f":"Lehrerdaten!A31","v":0},{"$f":"Lehrerdaten!E31","v":0},0,0,null,null,2,null,1,1,4]
[{"$f":"Lehrerdaten!A32","v":0},{"$f":"Lehrerdaten!E32","v":0},0,0,null,null,2,null,1,1,4]
[{"$f":"Lehrerdaten!A33","v":0},{"$f":"Lehrerdaten!E33","v":0},0,0,null,2,null,null,null,null,2]
[{"$f":"Lehrerdaten!A34","v":0},{"$f":"Lehrerdaten!E34","v":0},0,0,null,null,null,2,1,1,4]
[{"$f":"Lehrerdaten!A35","v":0},{"$f":"Lehrerdaten!E35","v":0},0,0,null,null,null,null,null,null,0]
[{"$f":"Lehrerdaten!A36","v":0},{"$f":"Lehrerdaten!E36","v":0},0,0,null,null,null,null,null,null,0]
[{"$f":"Lehrerdaten!A37","v":0},{"$f":"Lehrerdaten!E37","v":0},0,0,null,null,null,null,null,null,0]
[{"$f":"Lehrerdaten!A38","v":0},{"$f":"Lehrerdaten!E38","v":0},0,0,null,null,null,null,null,null,0]
[{"$f":"Lehrerdaten!A39","v":0},{"$f":"Lehrerdaten!E39","v":0},0,0,null,null,null,null,null,null,0]
[{"$f":"Lehrerdaten!A40","v":0},{"$f":"Lehrerdaten!E40","v":0},0,0,null,null,null,null,null,null,0]
[{"$f":"Lehrerdaten!A41","v":0},{"$f":"Lehrerdaten!E41","v":0},0,0,null,null,null,null,null,null,0]
[{"$f":"Lehrerdaten!A42","v":0},{"$f":"Lehrerdaten!E42","v":0},0,0,null,null,null,null,null,null,0]
[{"$f":"Lehrerdaten!A43","v":0},{"$f":"Lehrerdaten!E43","v":0},0,0,null,null,null,null,null,null,0]
[{"$f":"Lehrerdaten!A44","v":0},{"$f":"Lehrerdaten!E44","v":0},0,0,null,null,null,null,null,null,0]
[{"$f":"Lehrerdaten!A45","v":0},{"$f":"Lehrerdaten!E45","v":0},0,0,null,null,null,null,null,null,0]
[{"$f":"Lehrerdaten!A46","v":0},{"$f":"Lehrerdaten!E46","v":0},0,0,null,null,null,null,null,null,0]
[{"$f":"Lehrerdaten!A47","v":0},{"$f":"Lehrerdaten!E47","v":0},0,0,null,null,null,null,null,null,0]
["leer",{"$f":"Lehrerdaten!E48","v":0},0,0,null,null,null,null,null,null,0]
[null,{"$f":"SUM(B2:B25)","v":187},null,{"$f":"SUM(D2:D43)","v":27},6,5,30,8,10,13,72]
[]
[]
[]
[]
[]
[]
[null,"61 Anteile",null,61,6,5,30,null,10,10]
[null,"5 Frühaufsicht"]
[null,"30 gr. Pause"]
[null,"10 Kl. Pause"]
[null,"10 Vertretung"]
[null,"6 Schwimmen"]

{"sheet":"Initialisierung","index":7,"n_rows":16,"n_cols":21,"rows_kept":16,"cut":false,"hidden":false,"merged":[]}
[" "]
["Jahrgänge",4]
["Klassen / JG",5]
["Parallele Enträge / Stunde",2]
["Weitere Bereiche",{"$f":"COUNTA(C5:AZ5)","v":19},"SE","SL_Team","St-Gr","Bücherei","SozArb","PC","OGTS-SozArb","MZR","(x)","Büro","Medien","Förder","EF","(x)","(x)","(x)","(x)","(x)","(x)"]
[]
["Wochentage",{"$f":"COUNTA(C7:P7)","v":5},"Montag","Dienstag","Mittwoch","Donnerstag","Freitag"]
[]
["Anzahl Stundenblöcke, Stunden in Blöcken",{"$f":"COUNTA(C9:P9)","v":3},4,2,3]
["Stunden / Tag",{"$f":"SUM(C9:O9)","v":9}]
[]
[]
["Anzahl Kolleginnen",40,null,"Lieber ein paar mehr eintragen, falls es im Jahr zu personellen Veränderungen kommt."]
[]
[]
[null,"Rote Einträge sind die Summe der Eintragungen in den rechts davon stehenden Zellen"]

{"sheet":"Revisions","index":8,"n_rows":33,"n_cols":4,"rows_kept":33,"cut":false,"hidden":false,"merged":[]}
["Zur Benennung der Datei:"]
["Beispiel","Schulplan 6.001.002 - 2010.xlsx"]
[]
["Schulplan","allgemeine Bezeichnung"]
[6,"Hauptversion Software"]
[".001","Unterversion Software"]
[".001","aktuelle Entwicklerversion der Unterversion"]
[" - ","Trennzeichen"]
["16-17","Schuljahr"]
[1000,"Version Daten Dienstplan - fortlaufend nummeriert"]
["1000-1999","1. Halbjahr"]
["2000-2999","2. Halbjahr"]
[]
[]
[]
["Datum","Software-Revision","Änderungen"]
["2014-12-02","???","Benennung Datei geändert, dokumentiert"]
[null,null,"Abfrage weitere Bereiche aktiviert. Dort keine Parallelbelegungen mehr ausweisen."]
[null,null,"(FindeEinsaetzeInParallelenStunden, Makro1234)"]
[]
["2015-03-28","???","Nummerierung auf Halbjahreszählung geändert"]
[]
["2016-03-06","???","Dateneingabe -> Überprüfung neu geschrieben. "]
[null,null,null,"Mehrfachnennungen werden korrekt gefunden"]
[null,null,null,"Option, Einträge mit Underscore immer als gültig zu behandeln"]
[null,null,"Sheets neu angeordnet, Enums und String dafür korrigiert"]
[null,null,"Neuer hotkey: <cntrl>+\";\" öffnet Tabelle 'Dienstplan'"]
[null,null,"Schuljahr in Dateinamen aufgenommen"]
[]
["2016-07-13",6001005,"Software-Revisionsnummer in Blatt Revisions (dieses) aufgenommen."]
[null,null,"Spalte Geburtstag aus Lehrerdaten entfernt"]
[null,null,"Spalte Vorname in Lehrerdaten eingefügt"]
[null,null,"Spalte Kürzel in Lehrerdaten eingefügt"]